BEGIN:VCALENDAR
VERSION:2.0
PRODID:-//Lake County Fair - Painesville, OH 44077 - ECPv6.15.20//NONSGML v1.0//EN
CALSCALE:GREGORIAN
METHOD:PUBLISH
X-WR-CALNAME:Lake County Fair - Painesville, OH 44077
X-ORIGINAL-URL:https://lakecountyfair.org
X-WR-CALDESC:Events for Lake County Fair - Painesville, OH 44077
REFRESH-INTERVAL;VALUE=DURATION:PT1H
X-Robots-Tag:noindex
X-PUBLISHED-TTL:PT1H
BEGIN:VTIMEZONE
TZID:America/New_York
BEGIN:DAYLIGHT
TZOFFSETFROM:-0500
TZOFFSETTO:-0400
TZNAME:EDT
DTSTART:20220313T070000
END:DAYLIGHT
BEGIN:STANDARD
TZOFFSETFROM:-0400
TZOFFSETTO:-0500
TZNAME:EST
DTSTART:20221106T060000
END:STANDARD
BEGIN:DAYLIGHT
TZOFFSETFROM:-0500
TZOFFSETTO:-0400
TZNAME:EDT
DTSTART:20230312T070000
END:DAYLIGHT
BEGIN:STANDARD
TZOFFSETFROM:-0400
TZOFFSETTO:-0500
TZNAME:EST
DTSTART:20231105T060000
END:STANDARD
BEGIN:DAYLIGHT
TZOFFSETFROM:-0500
TZOFFSETTO:-0400
TZNAME:EDT
DTSTART:20240310T070000
END:DAYLIGHT
BEGIN:STANDARD
TZOFFSETFROM:-0400
TZOFFSETTO:-0500
TZNAME:EST
DTSTART:20241103T060000
END:STANDARD
END:VTIMEZONE
BEGIN:VEVENT
DTSTART;TZID=America/New_York:20230728T160000
DTEND;TZID=America/New_York:20230728T163000
DTSTAMP:20260422T033546
CREATED:20220427T160727Z
LAST-MODIFIED:20250521T184759Z
UID:10000176-1690560000-1690561800@lakecountyfair.org
SUMMARY:Jungle Terry
DESCRIPTION:Sponsored by Richard Greaves\, CPA – West End of Main Midway
URL:https://lakecountyfair.org/event/jungle-terry/2023-07-28/2/
LOCATION:Main Midway
CATEGORIES:Animal Events,Fair Week,Grounds Entertainment
END:VEVENT
BEGIN:VEVENT
DTSTART;TZID=America/New_York:20230728T130000
DTEND;TZID=America/New_York:20230728T160000
DTSTAMP:20260422T033546
CREATED:20220428T184235Z
LAST-MODIFIED:20250521T194154Z
UID:10000378-1690549200-1690560000@lakecountyfair.org
SUMMARY:4-H Saddle Horse Walk/Trot Western Show A
DESCRIPTION:A group\, 1st year walk/trot: Dunsailin Ring
URL:https://lakecountyfair.org/event/4-h-saddle-horse-walk-trot-western-show-2/2023-07-28/
LOCATION:Dunsailin Ring
CATEGORIES:4-H,Animal Events,Fair Week
END:VEVENT
BEGIN:VEVENT
DTSTART;TZID=America/New_York:20230728T130000
DTEND;TZID=America/New_York:20230728T133000
DTSTAMP:20260422T033546
CREATED:20220427T160727Z
LAST-MODIFIED:20250521T184759Z
UID:10000175-1690549200-1690551000@lakecountyfair.org
SUMMARY:Jungle Terry
DESCRIPTION:Sponsored by Richard Greaves\, CPA – West End of Main Midway
URL:https://lakecountyfair.org/event/jungle-terry/2023-07-28/1/
LOCATION:Main Midway
CATEGORIES:Animal Events,Fair Week,Grounds Entertainment
END:VEVENT
BEGIN:VEVENT
DTSTART;TZID=America/New_York:20230728T100000
DTEND;TZID=America/New_York:20230728T150000
DTSTAMP:20260422T033546
CREATED:20220428T183840Z
LAST-MODIFIED:20250521T192240Z
UID:10000370-1690538400-1690556400@lakecountyfair.org
SUMMARY:4-H Saddle Horse Novice/Advanced Western Show
DESCRIPTION:this will run between the Draft Horse Classes – Plaisted Ring
URL:https://lakecountyfair.org/event/4-h-saddle-horse-novice-advanced-western-show/2023-07-28/
LOCATION:Plaisted Ring
CATEGORIES:4-H,Animal Events,Fair Week
END:VEVENT
BEGIN:VEVENT
DTSTART;TZID=America/New_York:20230728T100000
DTEND;TZID=America/New_York:20230728T130000
DTSTAMP:20260422T033546
CREATED:20220428T184024Z
LAST-MODIFIED:20250521T194228Z
UID:10000374-1690538400-1690549200@lakecountyfair.org
SUMMARY:4-H Saddle Horse Walk/Trot Western Show B
DESCRIPTION:B group\, 2nd year and up walk/trot: Dunsailin Ring
URL:https://lakecountyfair.org/event/4-h-saddle-horse-walk-trot-western-show/2023-07-28/
LOCATION:Dunsailin Ring
CATEGORIES:4-H,Animal Events,Fair Week
END:VEVENT
BEGIN:VEVENT
DTSTART;TZID=America/New_York:20230727T210000
DTEND;TZID=America/New_York:20230727T223000
DTSTAMP:20260422T033546
CREATED:20220427T183201Z
LAST-MODIFIED:20230426T194631Z
UID:10000299-1690491600-1690497000@lakecountyfair.org
SUMMARY:Draft Horse & Pony Versatility
DESCRIPTION:
URL:https://lakecountyfair.org/event/draft-horse-pony-versatility/2023-07-27/
LOCATION:Plaisted Ring
CATEGORIES:Animal Events,Fair Week
END:VEVENT
BEGIN:VEVENT
DTSTART;TZID=America/New_York:20230727T190000
DTEND;TZID=America/New_York:20230727T193000
DTSTAMP:20260422T033546
CREATED:20220427T160727Z
LAST-MODIFIED:20250521T184759Z
UID:10000174-1690484400-1690486200@lakecountyfair.org
SUMMARY:Jungle Terry
DESCRIPTION:Sponsored by Richard Greaves\, CPA – West End of Main Midway
URL:https://lakecountyfair.org/event/jungle-terry/2023-07-27/3/
LOCATION:Main Midway
CATEGORIES:Animal Events,Fair Week,Grounds Entertainment
END:VEVENT
BEGIN:VEVENT
DTSTART;TZID=America/New_York:20230727T160000
DTEND;TZID=America/New_York:20230727T170000
DTSTAMP:20260422T033546
CREATED:20220427T183058Z
LAST-MODIFIED:20240521T184629Z
UID:10000296-1690473600-1690477200@lakecountyfair.org
SUMMARY:Crowning of "Miss Lake COW-nty"
DESCRIPTION:
URL:https://lakecountyfair.org/event/crowning-of-miss-lake-cow-nty/2023-07-27/
LOCATION:Livestock Arena
CATEGORIES:Animal Events,Fair Week,Livestock Arena
END:VEVENT
BEGIN:VEVENT
DTSTART;TZID=America/New_York:20230727T160000
DTEND;TZID=America/New_York:20230727T163000
DTSTAMP:20260422T033546
CREATED:20220427T160727Z
LAST-MODIFIED:20250521T184759Z
UID:10000173-1690473600-1690475400@lakecountyfair.org
SUMMARY:Jungle Terry
DESCRIPTION:Sponsored by Richard Greaves\, CPA – West End of Main Midway
URL:https://lakecountyfair.org/event/jungle-terry/2023-07-27/2/
LOCATION:Main Midway
CATEGORIES:Animal Events,Fair Week,Grounds Entertainment
END:VEVENT
BEGIN:VEVENT
DTSTART;TZID=America/New_York:20230727T130000
DTEND;TZID=America/New_York:20230727T160000
DTSTAMP:20260422T033546
CREATED:20220428T183731Z
LAST-MODIFIED:20250521T192042Z
UID:10000366-1690462800-1690473600@lakecountyfair.org
SUMMARY:4-H Saddle Horse Walk/Trot Contesting Show A (English/Western)
DESCRIPTION:A group\, 1st year walk/trot – Dunsailin Ring
URL:https://lakecountyfair.org/event/4-h-saddle-horse-walk-trot-contesting-show-english-western/2023-07-27/
LOCATION:Dunsailin Ring
CATEGORIES:4-H,Animal Events,Fair Week
END:VEVENT
BEGIN:VEVENT
DTSTART;TZID=America/New_York:20230727T130000
DTEND;TZID=America/New_York:20230727T133000
DTSTAMP:20260422T033546
CREATED:20220427T160727Z
LAST-MODIFIED:20250521T184759Z
UID:10000172-1690462800-1690464600@lakecountyfair.org
SUMMARY:Jungle Terry
DESCRIPTION:Sponsored by Richard Greaves\, CPA – West End of Main Midway
URL:https://lakecountyfair.org/event/jungle-terry/2023-07-27/1/
LOCATION:Main Midway
CATEGORIES:Animal Events,Fair Week,Grounds Entertainment
END:VEVENT
BEGIN:VEVENT
DTSTART;TZID=America/New_York:20230727T120000
DTEND;TZID=America/New_York:20230727T150000
DTSTAMP:20260422T033546
CREATED:20220427T182656Z
LAST-MODIFIED:20250521T192723Z
UID:10000281-1690459200-1690470000@lakecountyfair.org
SUMMARY:4-H Beef Cattle & Dairy Beef Judging & Showmanship
DESCRIPTION:Open cattle judging to follow
URL:https://lakecountyfair.org/event/4-h-beef-cattle-dairy-beef-judging-showmanship/2023-07-27/
LOCATION:Livestock Arena
CATEGORIES:4-H,Animal Events,Fair Week,Livestock Arena
END:VEVENT
BEGIN:VEVENT
DTSTART;TZID=America/New_York:20230727T103000
DTEND;TZID=America/New_York:20230727T120000
DTSTAMP:20260422T033546
CREATED:20220427T182556Z
LAST-MODIFIED:20250521T192345Z
UID:10000277-1690453800-1690459200@lakecountyfair.org
SUMMARY:Open Dairy & Veal Judging
DESCRIPTION:
URL:https://lakecountyfair.org/event/open-dairy-veal-judging/2023-07-27/
LOCATION:Livestock Arena
CATEGORIES:4-H,Animal Events,Fair Week,Livestock Arena
END:VEVENT
BEGIN:VEVENT
DTSTART;TZID=America/New_York:20230727T100000
DTEND;TZID=America/New_York:20230727T130000
DTSTAMP:20260422T033546
CREATED:20220428T183622Z
LAST-MODIFIED:20250521T192134Z
UID:10000362-1690452000-1690462800@lakecountyfair.org
SUMMARY:4-H Saddle Horse Walk/Trot Contesting Show B
DESCRIPTION:B group\, 2nd year walk/trot and up – Dunsailin Ring
URL:https://lakecountyfair.org/event/4-h-saddle-horse-walk-trot-contesting-show/2023-07-27/
LOCATION:Dunsailin Ring
CATEGORIES:4-H,Animal Events,Fair Week
END:VEVENT
BEGIN:VEVENT
DTSTART;TZID=America/New_York:20230727T100000
DTEND;TZID=America/New_York:20230727T130000
DTSTAMP:20260422T033546
CREATED:20220428T183523Z
LAST-MODIFIED:20250521T190923Z
UID:10000358-1690452000-1690462800@lakecountyfair.org
SUMMARY:4-H Saddle Horse Novice/Advanced Contesting Show
DESCRIPTION:
URL:https://lakecountyfair.org/event/4-h-saddle-horse-novice-advanced-contesting-show/2023-07-27/
LOCATION:Plaisted Ring
CATEGORIES:4-H,Animal Events,Fair Week
END:VEVENT
BEGIN:VEVENT
DTSTART;TZID=America/New_York:20230726T200000
DTEND;TZID=America/New_York:20230726T220000
DTSTAMP:20260422T033546
CREATED:20220428T183425Z
LAST-MODIFIED:20250521T194614Z
UID:10000354-1690401600-1690408800@lakecountyfair.org
SUMMARY:4-H Saddle Horse Performance Versatility
DESCRIPTION:Plaisted Ring
URL:https://lakecountyfair.org/event/4-h-saddle-horse-performance-versatility/2023-07-26/
LOCATION:Plaisted Ring
CATEGORIES:4-H,Animal Events,Fair Week
END:VEVENT
BEGIN:VEVENT
DTSTART;TZID=America/New_York:20230726T190000
DTEND;TZID=America/New_York:20230726T193000
DTSTAMP:20260422T033546
CREATED:20220427T160727Z
LAST-MODIFIED:20250521T184759Z
UID:10000171-1690398000-1690399800@lakecountyfair.org
SUMMARY:Jungle Terry
DESCRIPTION:Sponsored by Richard Greaves\, CPA – West End of Main Midway
URL:https://lakecountyfair.org/event/jungle-terry/2023-07-26/2/
LOCATION:Main Midway
CATEGORIES:Animal Events,Fair Week,Grounds Entertainment
END:VEVENT
BEGIN:VEVENT
DTSTART;TZID=America/New_York:20230726T170000
DTEND;TZID=America/New_York:20230726T200000
DTSTAMP:20260422T033546
CREATED:20220427T182307Z
LAST-MODIFIED:20250521T191306Z
UID:10000273-1690390800-1690401600@lakecountyfair.org
SUMMARY:4-H Swine Judging & Showmanship
DESCRIPTION:
URL:https://lakecountyfair.org/event/4-h-swine-judging/2023-07-26/
LOCATION:Livestock Arena
CATEGORIES:4-H,Animal Events,Fair Week,Livestock Arena
END:VEVENT
BEGIN:VEVENT
DTSTART;TZID=America/New_York:20230726T170000
DTEND;TZID=America/New_York:20230726T190000
DTSTAMP:20260422T033546
CREATED:20220427T182215Z
LAST-MODIFIED:20240521T174605Z
UID:10000013-1690390800-1690398000@lakecountyfair.org
SUMMARY:4-H & Open Rabbit & Cavy All Breed Judging
DESCRIPTION:Costume Contest after the show
URL:https://lakecountyfair.org/event/4-h-rabbit-cavy-all-breed-judging/2023-07-26/
LOCATION:Rabbit & Poultry Barn
CATEGORIES:4-H,Animal Events,Fair Week
END:VEVENT
BEGIN:VEVENT
DTSTART;TZID=America/New_York:20230726T150000
DTEND;TZID=America/New_York:20230726T153000
DTSTAMP:20260422T033546
CREATED:20220427T160727Z
LAST-MODIFIED:20250521T184759Z
UID:10000170-1690383600-1690385400@lakecountyfair.org
SUMMARY:Jungle Terry
DESCRIPTION:Sponsored by Richard Greaves\, CPA – West End of Main Midway
URL:https://lakecountyfair.org/event/jungle-terry/2023-07-26/1/
LOCATION:Main Midway
CATEGORIES:Animal Events,Fair Week,Grounds Entertainment
END:VEVENT
BEGIN:VEVENT
DTSTART;TZID=America/New_York:20230726T100000
DTEND;TZID=America/New_York:20230726T120000
DTSTAMP:20260422T033546
CREATED:20220427T172249Z
LAST-MODIFIED:20250521T190716Z
UID:10000209-1690365600-1690372800@lakecountyfair.org
SUMMARY:4-H Goat Judging & Showmanship
DESCRIPTION:Followed by Open Goat Judging
URL:https://lakecountyfair.org/event/4-h-goat-show/2023-07-26/
LOCATION:Livestock Arena
CATEGORIES:4-H,Animal Events,Fair Week,Livestock Arena
END:VEVENT
BEGIN:VEVENT
DTSTART;TZID=America/New_York:20230726T090000
DTEND;TZID=America/New_York:20230726T140000
DTSTAMP:20260422T033546
CREATED:20220427T181843Z
LAST-MODIFIED:20250521T190414Z
UID:10000002-1690362000-1690380000@lakecountyfair.org
SUMMARY:Open Class Draft Horse Halter Class Judging
DESCRIPTION:Plaisted Ring
URL:https://lakecountyfair.org/event/open-class-draft-horse-halter-class-judging/2023-07-26/
LOCATION:Plaisted Ring
CATEGORIES:Animal Events,Fair Week
END:VEVENT
BEGIN:VEVENT
DTSTART;TZID=America/New_York:20230725T200000
DTEND;TZID=America/New_York:20230725T220000
DTSTAMP:20260422T033546
CREATED:20220428T183142Z
LAST-MODIFIED:20250521T195222Z
UID:10000345-1690315200-1690322400@lakecountyfair.org
SUMMARY:4-H Saddle Horse Advisor\, Parent & Alumni Fun Show
DESCRIPTION:
URL:https://lakecountyfair.org/event/4-h-saddle-horse-advisor-parent-alumni-fun-show/2023-07-25/
LOCATION:Plaisted Ring
CATEGORIES:4-H,Animal Events,Fair Week
END:VEVENT
BEGIN:VEVENT
DTSTART;TZID=America/New_York:20230725T160000
DTEND;TZID=America/New_York:20230725T163000
DTSTAMP:20260422T033546
CREATED:20220421T174535Z
LAST-MODIFIED:20230426T184932Z
UID:10000124-1690300800-1690302600@lakecountyfair.org
SUMMARY:Jungle Terry Show
DESCRIPTION:Sponsored by Richard Greaves\, CPA – West End of Main Midway
URL:https://lakecountyfair.org/event/jungle-terry-show/2023-07-25/
LOCATION:Main Midway
CATEGORIES:Animal Events,Fair Week,Grounds Entertainment
END:VEVENT
BEGIN:VEVENT
DTSTART;TZID=America/New_York:20230725T150000
DTEND;TZID=America/New_York:20230725T180000
DTSTAMP:20260422T033546
CREATED:20220428T182357Z
LAST-MODIFIED:20230426T184817Z
UID:10000343-1690297200-1690308000@lakecountyfair.org
SUMMARY:Open Jumping Show
DESCRIPTION:
URL:https://lakecountyfair.org/event/open-jumping-show/2023-07-25/
LOCATION:Plaisted Ring
CATEGORIES:4-H,Animal Events,Fair Week
END:VEVENT
BEGIN:VEVENT
DTSTART;TZID=America/New_York:20230725T133000
DTEND;TZID=America/New_York:20230725T153000
DTSTAMP:20260422T033546
CREATED:20220427T181951Z
LAST-MODIFIED:20250521T191952Z
UID:10000006-1690291800-1690299000@lakecountyfair.org
SUMMARY:4-H Sheep Judging & Showmanship Show
DESCRIPTION:Followed by open sheep judging
URL:https://lakecountyfair.org/event/4-h-sheep-show/2023-07-25/
LOCATION:Livestock Arena
CATEGORIES:4-H,Animal Events,Fair Week
END:VEVENT
BEGIN:VEVENT
DTSTART;TZID=America/New_York:20230725T130000
DTEND;TZID=America/New_York:20230725T160000
DTSTAMP:20260422T033546
CREATED:20220428T182304Z
LAST-MODIFIED:20250521T182835Z
UID:10000339-1690290000-1690300800@lakecountyfair.org
SUMMARY:4-H Saddle Horse Walk/Trot English Show A
DESCRIPTION:A group\, 1st year walk/trot: Dunsailin Ring
URL:https://lakecountyfair.org/event/4-h-saddle-horse-walk-trot-english-show-2/2023-07-25/
LOCATION:Dunsailin Ring
CATEGORIES:4-H,Animal Events,Fair Week
END:VEVENT
BEGIN:VEVENT
DTSTART;TZID=America/New_York:20230725T130000
DTEND;TZID=America/New_York:20230725T133000
DTSTAMP:20260422T033546
CREATED:20220302T181114Z
LAST-MODIFIED:20250521T183608Z
UID:10000094-1690290000-1690291800@lakecountyfair.org
SUMMARY:Jungle Terry Show
DESCRIPTION:Sponsored by Richard Greaves\, CPA – West End of Main Midway
URL:https://lakecountyfair.org/event/open-class-domestic-culinary-judging/2023-07-25/
LOCATION:Main Midway
CATEGORIES:Animal Events,Fair Week,Grounds Entertainment
END:VEVENT
BEGIN:VEVENT
DTSTART;TZID=America/New_York:20230725T100000
DTEND;TZID=America/New_York:20230725T140000
DTSTAMP:20260422T033546
CREATED:20220428T182023Z
LAST-MODIFIED:20250521T183103Z
UID:10000331-1690279200-1690293600@lakecountyfair.org
SUMMARY:4-H Saddle Horse Advanced/Novice English Show
DESCRIPTION:
URL:https://lakecountyfair.org/event/4-h-saddle-horse-advanced-novice-intermediate-english-show/2023-07-25/
LOCATION:Plaisted Ring
CATEGORIES:4-H,Animal Events,Fair Week
END:VEVENT
BEGIN:VEVENT
DTSTART;TZID=America/New_York:20230725T100000
DTEND;TZID=America/New_York:20230725T140000
DTSTAMP:20260422T033546
CREATED:20220302T180907Z
LAST-MODIFIED:20250521T182637Z
UID:10000090-1690279200-1690293600@lakecountyfair.org
SUMMARY:4-H Poultry Judging & Showmanship followed by Open Class Poultry
DESCRIPTION:
URL:https://lakecountyfair.org/event/veterans-day/2023-07-25/
LOCATION:Rabbit & Poultry Barn
CATEGORIES:4-H,Animal Events,Fair Week
END:VEVENT
END:VCALENDAR