BEGIN:VCALENDAR
VERSION:2.0
PRODID:-//Lake County Fair - Painesville, OH 44077 - ECPv6.15.20//NONSGML v1.0//EN
CALSCALE:GREGORIAN
METHOD:PUBLISH
X-ORIGINAL-URL:https://lakecountyfair.org
X-WR-CALDESC:Events for Lake County Fair - Painesville, OH 44077
REFRESH-INTERVAL;VALUE=DURATION:PT1H
X-Robots-Tag:noindex
X-PUBLISHED-TTL:PT1H
BEGIN:VTIMEZONE
TZID:America/New_York
BEGIN:DAYLIGHT
TZOFFSETFROM:-0500
TZOFFSETTO:-0400
TZNAME:EDT
DTSTART:20210314T070000
END:DAYLIGHT
BEGIN:STANDARD
TZOFFSETFROM:-0400
TZOFFSETTO:-0500
TZNAME:EST
DTSTART:20211107T060000
END:STANDARD
BEGIN:DAYLIGHT
TZOFFSETFROM:-0500
TZOFFSETTO:-0400
TZNAME:EDT
DTSTART:20220313T070000
END:DAYLIGHT
BEGIN:STANDARD
TZOFFSETFROM:-0400
TZOFFSETTO:-0500
TZNAME:EST
DTSTART:20221106T060000
END:STANDARD
BEGIN:DAYLIGHT
TZOFFSETFROM:-0500
TZOFFSETTO:-0400
TZNAME:EDT
DTSTART:20230312T070000
END:DAYLIGHT
BEGIN:STANDARD
TZOFFSETFROM:-0400
TZOFFSETTO:-0500
TZNAME:EST
DTSTART:20231105T060000
END:STANDARD
BEGIN:DAYLIGHT
TZOFFSETFROM:-0500
TZOFFSETTO:-0400
TZNAME:EDT
DTSTART:20240310T070000
END:DAYLIGHT
BEGIN:STANDARD
TZOFFSETFROM:-0400
TZOFFSETTO:-0500
TZNAME:EST
DTSTART:20241103T060000
END:STANDARD
END:VTIMEZONE
BEGIN:VEVENT
DTSTART;TZID=America/New_York:20230725T150000
DTEND;TZID=America/New_York:20230725T180000
DTSTAMP:20260422T060957
CREATED:20220428T182357Z
LAST-MODIFIED:20230426T184817Z
UID:10000343-1690297200-1690308000@lakecountyfair.org
SUMMARY:Open Jumping Show
DESCRIPTION:
URL:https://lakecountyfair.org/event/open-jumping-show/2023-07-25/
LOCATION:Plaisted Ring
CATEGORIES:4-H,Animal Events,Fair Week
END:VEVENT
BEGIN:VEVENT
DTSTART;TZID=America/New_York:20230725T133000
DTEND;TZID=America/New_York:20230725T153000
DTSTAMP:20260422T060957
CREATED:20220427T181951Z
LAST-MODIFIED:20250521T191952Z
UID:10000006-1690291800-1690299000@lakecountyfair.org
SUMMARY:4-H Sheep Judging & Showmanship Show
DESCRIPTION:Followed by open sheep judging
URL:https://lakecountyfair.org/event/4-h-sheep-show/2023-07-25/
LOCATION:Livestock Arena
CATEGORIES:4-H,Animal Events,Fair Week
END:VEVENT
BEGIN:VEVENT
DTSTART;TZID=America/New_York:20230725T130000
DTEND;TZID=America/New_York:20230725T160000
DTSTAMP:20260422T060957
CREATED:20220428T182304Z
LAST-MODIFIED:20250521T182835Z
UID:10000339-1690290000-1690300800@lakecountyfair.org
SUMMARY:4-H Saddle Horse Walk/Trot English Show A
DESCRIPTION:A group\, 1st year walk/trot: Dunsailin Ring
URL:https://lakecountyfair.org/event/4-h-saddle-horse-walk-trot-english-show-2/2023-07-25/
LOCATION:Dunsailin Ring
CATEGORIES:4-H,Animal Events,Fair Week
END:VEVENT
BEGIN:VEVENT
DTSTART;TZID=America/New_York:20230725T130000
DTEND;TZID=America/New_York:20230725T133000
DTSTAMP:20260422T060957
CREATED:20220302T181114Z
LAST-MODIFIED:20250521T183608Z
UID:10000094-1690290000-1690291800@lakecountyfair.org
SUMMARY:Jungle Terry Show
DESCRIPTION:Sponsored by Richard Greaves\, CPA – West End of Main Midway
URL:https://lakecountyfair.org/event/open-class-domestic-culinary-judging/2023-07-25/
LOCATION:Main Midway
CATEGORIES:Animal Events,Fair Week,Grounds Entertainment
END:VEVENT
BEGIN:VEVENT
DTSTART;TZID=America/New_York:20230725T100000
DTEND;TZID=America/New_York:20230725T140000
DTSTAMP:20260422T060957
CREATED:20220428T182023Z
LAST-MODIFIED:20250521T183103Z
UID:10000331-1690279200-1690293600@lakecountyfair.org
SUMMARY:4-H Saddle Horse Advanced/Novice English Show
DESCRIPTION:
URL:https://lakecountyfair.org/event/4-h-saddle-horse-advanced-novice-intermediate-english-show/2023-07-25/
LOCATION:Plaisted Ring
CATEGORIES:4-H,Animal Events,Fair Week
END:VEVENT
BEGIN:VEVENT
DTSTART;TZID=America/New_York:20230725T100000
DTEND;TZID=America/New_York:20230725T140000
DTSTAMP:20260422T060957
CREATED:20220302T180907Z
LAST-MODIFIED:20250521T182637Z
UID:10000090-1690279200-1690293600@lakecountyfair.org
SUMMARY:4-H Poultry Judging & Showmanship followed by Open Class Poultry
DESCRIPTION:
URL:https://lakecountyfair.org/event/veterans-day/2023-07-25/
LOCATION:Rabbit & Poultry Barn
CATEGORIES:4-H,Animal Events,Fair Week
END:VEVENT
BEGIN:VEVENT
DTSTART;TZID=America/New_York:20230725T100000
DTEND;TZID=America/New_York:20230725T130000
DTSTAMP:20260422T060957
CREATED:20220428T182159Z
LAST-MODIFIED:20250521T182953Z
UID:10000335-1690279200-1690290000@lakecountyfair.org
SUMMARY:4-H Saddle Horse Walk/Trot English Show B
DESCRIPTION:B group\, 2nd year walk/trot and up – Dunsailin Ring
URL:https://lakecountyfair.org/event/4-h-saddle-horse-walk-trot-english-show/2023-07-25/
LOCATION:Dunsailin Ring
CATEGORIES:4-H,Animal Events,Fair Week
END:VEVENT
BEGIN:VEVENT
DTSTART;TZID=America/New_York:20220731T190000
DTEND;TZID=America/New_York:20220731T193000
DTSTAMP:20260422T060957
CREATED:20220427T184720Z
LAST-MODIFIED:20220427T184737Z
UID:10000321-1659294000-1659295800@lakecountyfair.org
SUMMARY:The Marvelous Mutts
DESCRIPTION:Performances by trained dogs
URL:https://lakecountyfair.org/event/the-marvelous-mutts/2022-07-31/3/
LOCATION:Lake County Fairgrounds\, 1301 Mentor Avenue\, Painesville Township\, 44077\, United States
CATEGORIES:Animal Events,Fair Week,Grounds Entertainment
END:VEVENT
BEGIN:VEVENT
DTSTART;TZID=America/New_York:20220731T180000
DTEND;TZID=America/New_York:20220731T180000
DTSTAMP:20260422T060957
CREATED:20220427T160727Z
LAST-MODIFIED:20250521T184759Z
UID:10000169-1659290400-1659290400@lakecountyfair.org
SUMMARY:Jungle Terry
DESCRIPTION:Sponsored by Richard Greaves\, CPA – West End of Main Midway
URL:https://lakecountyfair.org/event/jungle-terry/2022-07-31/3/
LOCATION:Main Midway
CATEGORIES:Animal Events,Fair Week,Grounds Entertainment
END:VEVENT
BEGIN:VEVENT
DTSTART;TZID=America/New_York:20220731T170000
DTEND;TZID=America/New_York:20220731T173000
DTSTAMP:20260422T060957
CREATED:20220427T184720Z
LAST-MODIFIED:20220427T184737Z
UID:10000320-1659286800-1659288600@lakecountyfair.org
SUMMARY:The Marvelous Mutts
DESCRIPTION:Performances by trained dogs
URL:https://lakecountyfair.org/event/the-marvelous-mutts/2022-07-31/2/
LOCATION:Lake County Fairgrounds\, 1301 Mentor Avenue\, Painesville Township\, 44077\, United States
CATEGORIES:Animal Events,Fair Week,Grounds Entertainment
END:VEVENT
BEGIN:VEVENT
DTSTART;TZID=America/New_York:20220731T160000
DTEND;TZID=America/New_York:20220731T163000
DTSTAMP:20260422T060957
CREATED:20220427T160727Z
LAST-MODIFIED:20250521T184759Z
UID:10000168-1659283200-1659285000@lakecountyfair.org
SUMMARY:Jungle Terry
DESCRIPTION:Sponsored by Richard Greaves\, CPA – West End of Main Midway
URL:https://lakecountyfair.org/event/jungle-terry/2022-07-31/2/
LOCATION:Main Midway
CATEGORIES:Animal Events,Fair Week,Grounds Entertainment
END:VEVENT
BEGIN:VEVENT
DTSTART;TZID=America/New_York:20220731T140000
DTEND;TZID=America/New_York:20220731T143000
DTSTAMP:20260422T060957
CREATED:20220427T184720Z
LAST-MODIFIED:20220427T184737Z
UID:10000319-1659276000-1659277800@lakecountyfair.org
SUMMARY:The Marvelous Mutts
DESCRIPTION:Performances by trained dogs
URL:https://lakecountyfair.org/event/the-marvelous-mutts/2022-07-31/1/
LOCATION:Lake County Fairgrounds\, 1301 Mentor Avenue\, Painesville Township\, 44077\, United States
CATEGORIES:Animal Events,Fair Week,Grounds Entertainment
END:VEVENT
BEGIN:VEVENT
DTSTART;TZID=America/New_York:20220731T140000
DTEND;TZID=America/New_York:20220731T143000
DTSTAMP:20260422T060957
CREATED:20220427T160727Z
LAST-MODIFIED:20250521T184759Z
UID:10000167-1659276000-1659277800@lakecountyfair.org
SUMMARY:Jungle Terry
DESCRIPTION:Sponsored by Richard Greaves\, CPA – West End of Main Midway
URL:https://lakecountyfair.org/event/jungle-terry/2022-07-31/1/
LOCATION:Main Midway
CATEGORIES:Animal Events,Fair Week,Grounds Entertainment
END:VEVENT
BEGIN:VEVENT
DTSTART;TZID=America/New_York:20220731T130000
DTEND;TZID=America/New_York:20220731T150000
DTSTAMP:20260422T060957
CREATED:20220428T194607Z
LAST-MODIFIED:20250521T200257Z
UID:10000419-1659272400-1659279600@lakecountyfair.org
SUMMARY:Frog Jumping Contest/Turtle Races
DESCRIPTION:
URL:https://lakecountyfair.org/event/frog-jumping-contest-turtle-races/2022-07-31/
LOCATION:Livestock Arena
CATEGORIES:Animal Events,Fair Week,Livestock Arena
END:VEVENT
BEGIN:VEVENT
DTSTART;TZID=America/New_York:20220731T120000
DTEND;TZID=America/New_York:20220731T160000
DTSTAMP:20260422T060957
CREATED:20220428T194443Z
LAST-MODIFIED:20220428T194443Z
UID:10000414-1659268800-1659283200@lakecountyfair.org
SUMMARY:Open Horse\, Pony\, Donkey & Mule Show
DESCRIPTION:
URL:https://lakecountyfair.org/event/open-horse-pony-donkey-mule-show/
LOCATION:Plaisted Ring
CATEGORIES:Animal Events,Fair Week
END:VEVENT
BEGIN:VEVENT
DTSTART;TZID=America/New_York:20220731T090000
DTEND;TZID=America/New_York:20220731T120000
DTSTAMP:20260422T060957
CREATED:20220428T194237Z
LAST-MODIFIED:20250521T200055Z
UID:10000403-1659258000-1659268800@lakecountyfair.org
SUMMARY:Open Mini Horse Show
DESCRIPTION:Plaisted Ring
URL:https://lakecountyfair.org/event/miniature-horse-donkey-show/2022-07-31/
LOCATION:Dunsailin Ring
CATEGORIES:Animal Events,Fair Week
END:VEVENT
BEGIN:VEVENT
DTSTART;TZID=America/New_York:20220730T190000
DTEND;TZID=America/New_York:20220730T193000
DTSTAMP:20260422T060957
CREATED:20220427T184720Z
LAST-MODIFIED:20220427T184737Z
UID:10000318-1659207600-1659209400@lakecountyfair.org
SUMMARY:The Marvelous Mutts
DESCRIPTION:Performances by trained dogs
URL:https://lakecountyfair.org/event/the-marvelous-mutts/2022-07-30/3/
LOCATION:Lake County Fairgrounds\, 1301 Mentor Avenue\, Painesville Township\, 44077\, United States
CATEGORIES:Animal Events,Fair Week,Grounds Entertainment
END:VEVENT
BEGIN:VEVENT
DTSTART;TZID=America/New_York:20220730T180000
DTEND;TZID=America/New_York:20220730T230000
DTSTAMP:20260422T060957
CREATED:20220428T192841Z
LAST-MODIFIED:20220428T192841Z
UID:10000402-1659204000-1659222000@lakecountyfair.org
SUMMARY:Triple Crown Horse Show
DESCRIPTION:
URL:https://lakecountyfair.org/event/triple-crown-horse-show/
LOCATION:Plaisted Ring
CATEGORIES:Animal Events,Fair Week
END:VEVENT
BEGIN:VEVENT
DTSTART;TZID=America/New_York:20220730T180000
DTEND;TZID=America/New_York:20220730T183000
DTSTAMP:20260422T060957
CREATED:20220427T160727Z
LAST-MODIFIED:20250521T184759Z
UID:10000166-1659204000-1659205800@lakecountyfair.org
SUMMARY:Jungle Terry
DESCRIPTION:Sponsored by Richard Greaves\, CPA – West End of Main Midway
URL:https://lakecountyfair.org/event/jungle-terry/2022-07-30/3/
LOCATION:Main Midway
CATEGORIES:Animal Events,Fair Week,Grounds Entertainment
END:VEVENT
BEGIN:VEVENT
DTSTART;TZID=America/New_York:20220730T170000
DTEND;TZID=America/New_York:20220730T173000
DTSTAMP:20260422T060957
CREATED:20220427T184720Z
LAST-MODIFIED:20220427T184737Z
UID:10000317-1659200400-1659202200@lakecountyfair.org
SUMMARY:The Marvelous Mutts
DESCRIPTION:Performances by trained dogs
URL:https://lakecountyfair.org/event/the-marvelous-mutts/2022-07-30/2/
LOCATION:Lake County Fairgrounds\, 1301 Mentor Avenue\, Painesville Township\, 44077\, United States
CATEGORIES:Animal Events,Fair Week,Grounds Entertainment
END:VEVENT
BEGIN:VEVENT
DTSTART;TZID=America/New_York:20220730T160000
DTEND;TZID=America/New_York:20220730T163000
DTSTAMP:20260422T060957
CREATED:20220427T160727Z
LAST-MODIFIED:20250521T184759Z
UID:10000165-1659196800-1659198600@lakecountyfair.org
SUMMARY:Jungle Terry
DESCRIPTION:Sponsored by Richard Greaves\, CPA – West End of Main Midway
URL:https://lakecountyfair.org/event/jungle-terry/2022-07-30/2/
LOCATION:Main Midway
CATEGORIES:Animal Events,Fair Week,Grounds Entertainment
END:VEVENT
BEGIN:VEVENT
DTSTART;TZID=America/New_York:20220730T140000
DTEND;TZID=America/New_York:20220730T220000
DTSTAMP:20260422T060957
CREATED:20220428T192759Z
LAST-MODIFIED:20250521T195423Z
UID:10000398-1659189600-1659218400@lakecountyfair.org
SUMMARY:4-H Livestock Auction
DESCRIPTION:Registration opens at 11:00 am.\nSmall Animal Auction begins at noon\,\nLarge Animal Auction begins at 4:00 pm
URL:https://lakecountyfair.org/event/4-h-livestock-auction/2022-07-30/
LOCATION:Livestock Arena
CATEGORIES:4-H,Animal Events,Fair Week,Livestock Arena
END:VEVENT
BEGIN:VEVENT
DTSTART;TZID=America/New_York:20220730T140000
DTEND;TZID=America/New_York:20220730T143000
DTSTAMP:20260422T060957
CREATED:20220427T184720Z
LAST-MODIFIED:20220427T184737Z
UID:10000316-1659189600-1659191400@lakecountyfair.org
SUMMARY:The Marvelous Mutts
DESCRIPTION:Performances by trained dogs
URL:https://lakecountyfair.org/event/the-marvelous-mutts/2022-07-30/1/
LOCATION:Lake County Fairgrounds\, 1301 Mentor Avenue\, Painesville Township\, 44077\, United States
CATEGORIES:Animal Events,Fair Week,Grounds Entertainment
END:VEVENT
BEGIN:VEVENT
DTSTART;TZID=America/New_York:20220730T140000
DTEND;TZID=America/New_York:20220730T143000
DTSTAMP:20260422T060957
CREATED:20220427T160727Z
LAST-MODIFIED:20250521T184759Z
UID:10000164-1659189600-1659191400@lakecountyfair.org
SUMMARY:Jungle Terry
DESCRIPTION:Sponsored by Richard Greaves\, CPA – West End of Main Midway
URL:https://lakecountyfair.org/event/jungle-terry/2022-07-30/1/
LOCATION:Main Midway
CATEGORIES:Animal Events,Fair Week,Grounds Entertainment
END:VEVENT
BEGIN:VEVENT
DTSTART;TZID=America/New_York:20220730T090000
DTEND;TZID=America/New_York:20220730T100000
DTSTAMP:20260422T060957
CREATED:20220428T184508Z
LAST-MODIFIED:20250521T190810Z
UID:10000382-1659171600-1659175200@lakecountyfair.org
SUMMARY:4-H Saddle Horse Trail Competition (English or Western)
DESCRIPTION:Dunsailin Ring
URL:https://lakecountyfair.org/event/4-h-saddle-horse-trail-competition-english-or-western/2022-07-30/
LOCATION:Plaisted Ring
CATEGORIES:4-H,Animal Events,Fair Week
END:VEVENT
BEGIN:VEVENT
DTSTART;TZID=America/New_York:20220730T080000
DTEND;TZID=America/New_York:20220730T090000
DTSTAMP:20260422T060957
CREATED:20220428T184352Z
LAST-MODIFIED:20220428T184352Z
UID:10000381-1659168000-1659171600@lakecountyfair.org
SUMMARY:Open Trail in Hand
DESCRIPTION:
URL:https://lakecountyfair.org/event/open-trail-in-hand/
LOCATION:Plaisted Ring
CATEGORIES:4-H,Animal Events,Fair Week
END:VEVENT
BEGIN:VEVENT
DTSTART;TZID=America/New_York:20220729T190000
DTEND;TZID=America/New_York:20220729T210000
DTSTAMP:20260422T060957
CREATED:20220427T155544Z
LAST-MODIFIED:20250521T200426Z
UID:10000153-1659121200-1659128400@lakecountyfair.org
SUMMARY:Horse Pulls
DESCRIPTION:Plaisted Ring
URL:https://lakecountyfair.org/event/horse-pulls/2022-07-29/
LOCATION:Plaisted Ring
CATEGORIES:Animal Events,Fair Week,Grounds Entertainment
END:VEVENT
BEGIN:VEVENT
DTSTART;TZID=America/New_York:20220729T170000
DTEND;TZID=America/New_York:20220729T173000
DTSTAMP:20260422T060957
CREATED:20220427T184720Z
LAST-MODIFIED:20220427T184737Z
UID:10000315-1659114000-1659115800@lakecountyfair.org
SUMMARY:The Marvelous Mutts
DESCRIPTION:Performances by trained dogs
URL:https://lakecountyfair.org/event/the-marvelous-mutts/2022-07-29/2/
LOCATION:Lake County Fairgrounds\, 1301 Mentor Avenue\, Painesville Township\, 44077\, United States
CATEGORIES:Animal Events,Fair Week,Grounds Entertainment
END:VEVENT
BEGIN:VEVENT
DTSTART;TZID=America/New_York:20220729T160000
DTEND;TZID=America/New_York:20220729T163000
DTSTAMP:20260422T060957
CREATED:20220427T160727Z
LAST-MODIFIED:20250521T184759Z
UID:10000163-1659110400-1659112200@lakecountyfair.org
SUMMARY:Jungle Terry
DESCRIPTION:Sponsored by Richard Greaves\, CPA – West End of Main Midway
URL:https://lakecountyfair.org/event/jungle-terry/2022-07-29/2/
LOCATION:Main Midway
CATEGORIES:Animal Events,Fair Week,Grounds Entertainment
END:VEVENT
BEGIN:VEVENT
DTSTART;TZID=America/New_York:20220729T150000
DTEND;TZID=America/New_York:20220729T153000
DTSTAMP:20260422T060957
CREATED:20220427T184720Z
LAST-MODIFIED:20220427T184737Z
UID:10000314-1659106800-1659108600@lakecountyfair.org
SUMMARY:The Marvelous Mutts
DESCRIPTION:Performances by trained dogs
URL:https://lakecountyfair.org/event/the-marvelous-mutts/2022-07-29/1/
LOCATION:Lake County Fairgrounds\, 1301 Mentor Avenue\, Painesville Township\, 44077\, United States
CATEGORIES:Animal Events,Fair Week,Grounds Entertainment
END:VEVENT
END:VCALENDAR