BEGIN:VCALENDAR
VERSION:2.0
PRODID:-//Lake County Fair - Painesville, OH 44077 - ECPv6.15.20//NONSGML v1.0//EN
CALSCALE:GREGORIAN
METHOD:PUBLISH
X-ORIGINAL-URL:https://lakecountyfair.org
X-WR-CALDESC:Events for Lake County Fair - Painesville, OH 44077
REFRESH-INTERVAL;VALUE=DURATION:PT1H
X-Robots-Tag:noindex
X-PUBLISHED-TTL:PT1H
BEGIN:VTIMEZONE
TZID:America/New_York
BEGIN:DAYLIGHT
TZOFFSETFROM:-0500
TZOFFSETTO:-0400
TZNAME:EDT
DTSTART:20210314T070000
END:DAYLIGHT
BEGIN:STANDARD
TZOFFSETFROM:-0400
TZOFFSETTO:-0500
TZNAME:EST
DTSTART:20211107T060000
END:STANDARD
BEGIN:DAYLIGHT
TZOFFSETFROM:-0500
TZOFFSETTO:-0400
TZNAME:EDT
DTSTART:20220313T070000
END:DAYLIGHT
BEGIN:STANDARD
TZOFFSETFROM:-0400
TZOFFSETTO:-0500
TZNAME:EST
DTSTART:20221106T060000
END:STANDARD
BEGIN:DAYLIGHT
TZOFFSETFROM:-0500
TZOFFSETTO:-0400
TZNAME:EDT
DTSTART:20230312T070000
END:DAYLIGHT
BEGIN:STANDARD
TZOFFSETFROM:-0400
TZOFFSETTO:-0500
TZNAME:EST
DTSTART:20231105T060000
END:STANDARD
END:VTIMEZONE
BEGIN:VEVENT
DTSTART;TZID=America/New_York:20220728T170000
DTEND;TZID=America/New_York:20220728T173000
DTSTAMP:20260422T104004
CREATED:20220427T184720Z
LAST-MODIFIED:20220427T184737Z
UID:10000313-1659027600-1659029400@lakecountyfair.org
SUMMARY:The Marvelous Mutts
DESCRIPTION:Performances by trained dogs
URL:https://lakecountyfair.org/event/the-marvelous-mutts/2022-07-28/2/
LOCATION:Lake County Fairgrounds\, 1301 Mentor Avenue\, Painesville Township\, 44077\, United States
CATEGORIES:Animal Events,Fair Week,Grounds Entertainment
END:VEVENT
BEGIN:VEVENT
DTSTART;TZID=America/New_York:20220728T160000
DTEND;TZID=America/New_York:20220728T170000
DTSTAMP:20260422T104004
CREATED:20220427T183058Z
LAST-MODIFIED:20240521T184629Z
UID:10000295-1659024000-1659027600@lakecountyfair.org
SUMMARY:Crowning of "Miss Lake COW-nty"
DESCRIPTION:
URL:https://lakecountyfair.org/event/crowning-of-miss-lake-cow-nty/2022-07-28/
LOCATION:Livestock Arena
CATEGORIES:Animal Events,Fair Week,Livestock Arena
END:VEVENT
BEGIN:VEVENT
DTSTART;TZID=America/New_York:20220728T160000
DTEND;TZID=America/New_York:20220728T163000
DTSTAMP:20260422T104004
CREATED:20220427T160727Z
LAST-MODIFIED:20250521T184759Z
UID:10000160-1659024000-1659025800@lakecountyfair.org
SUMMARY:Jungle Terry
DESCRIPTION:Sponsored by Richard Greaves\, CPA – West End of Main Midway
URL:https://lakecountyfair.org/event/jungle-terry/2022-07-28/2/
LOCATION:Main Midway
CATEGORIES:Animal Events,Fair Week,Grounds Entertainment
END:VEVENT
BEGIN:VEVENT
DTSTART;TZID=America/New_York:20220728T150000
DTEND;TZID=America/New_York:20220728T153000
DTSTAMP:20260422T104004
CREATED:20220427T184720Z
LAST-MODIFIED:20220427T184737Z
UID:10000312-1659020400-1659022200@lakecountyfair.org
SUMMARY:The Marvelous Mutts
DESCRIPTION:Performances by trained dogs
URL:https://lakecountyfair.org/event/the-marvelous-mutts/2022-07-28/1/
LOCATION:Lake County Fairgrounds\, 1301 Mentor Avenue\, Painesville Township\, 44077\, United States
CATEGORIES:Animal Events,Fair Week,Grounds Entertainment
END:VEVENT
BEGIN:VEVENT
DTSTART;TZID=America/New_York:20220728T130000
DTEND;TZID=America/New_York:20220728T160000
DTSTAMP:20260422T104004
CREATED:20220428T183731Z
LAST-MODIFIED:20250521T192042Z
UID:10000365-1659013200-1659024000@lakecountyfair.org
SUMMARY:4-H Saddle Horse Walk/Trot Contesting Show A (English/Western)
DESCRIPTION:A group\, 1st year walk/trot – Dunsailin Ring
URL:https://lakecountyfair.org/event/4-h-saddle-horse-walk-trot-contesting-show-english-western/2022-07-28/
LOCATION:Dunsailin Ring
CATEGORIES:4-H,Animal Events,Fair Week
END:VEVENT
BEGIN:VEVENT
DTSTART;TZID=America/New_York:20220728T130000
DTEND;TZID=America/New_York:20220728T133000
DTSTAMP:20260422T104004
CREATED:20220427T160727Z
LAST-MODIFIED:20250521T184759Z
UID:10000159-1659013200-1659015000@lakecountyfair.org
SUMMARY:Jungle Terry
DESCRIPTION:Sponsored by Richard Greaves\, CPA – West End of Main Midway
URL:https://lakecountyfair.org/event/jungle-terry/2022-07-28/1/
LOCATION:Main Midway
CATEGORIES:Animal Events,Fair Week,Grounds Entertainment
END:VEVENT
BEGIN:VEVENT
DTSTART;TZID=America/New_York:20220728T120000
DTEND;TZID=America/New_York:20220728T150000
DTSTAMP:20260422T104004
CREATED:20220427T182656Z
LAST-MODIFIED:20250521T192723Z
UID:10000280-1659009600-1659020400@lakecountyfair.org
SUMMARY:4-H Beef Cattle & Dairy Beef Judging & Showmanship
DESCRIPTION:Open cattle judging to follow
URL:https://lakecountyfair.org/event/4-h-beef-cattle-dairy-beef-judging-showmanship/2022-07-28/
LOCATION:Livestock Arena
CATEGORIES:4-H,Animal Events,Fair Week,Livestock Arena
END:VEVENT
BEGIN:VEVENT
DTSTART;TZID=America/New_York:20220728T103000
DTEND;TZID=America/New_York:20220728T120000
DTSTAMP:20260422T104004
CREATED:20220427T182556Z
LAST-MODIFIED:20250521T192345Z
UID:10000276-1659004200-1659009600@lakecountyfair.org
SUMMARY:Open Dairy & Veal Judging
DESCRIPTION:
URL:https://lakecountyfair.org/event/open-dairy-veal-judging/2022-07-28/
LOCATION:Livestock Arena
CATEGORIES:4-H,Animal Events,Fair Week,Livestock Arena
END:VEVENT
BEGIN:VEVENT
DTSTART;TZID=America/New_York:20220728T100000
DTEND;TZID=America/New_York:20220728T130000
DTSTAMP:20260422T104004
CREATED:20220428T183622Z
LAST-MODIFIED:20250521T192134Z
UID:10000361-1659002400-1659013200@lakecountyfair.org
SUMMARY:4-H Saddle Horse Walk/Trot Contesting Show B
DESCRIPTION:B group\, 2nd year walk/trot and up – Dunsailin Ring
URL:https://lakecountyfair.org/event/4-h-saddle-horse-walk-trot-contesting-show/2022-07-28/
LOCATION:Dunsailin Ring
CATEGORIES:4-H,Animal Events,Fair Week
END:VEVENT
BEGIN:VEVENT
DTSTART;TZID=America/New_York:20220728T100000
DTEND;TZID=America/New_York:20220728T130000
DTSTAMP:20260422T104004
CREATED:20220428T183523Z
LAST-MODIFIED:20250521T190923Z
UID:10000357-1659002400-1659013200@lakecountyfair.org
SUMMARY:4-H Saddle Horse Novice/Advanced Contesting Show
DESCRIPTION:
URL:https://lakecountyfair.org/event/4-h-saddle-horse-novice-advanced-contesting-show/2022-07-28/
LOCATION:Plaisted Ring
CATEGORIES:4-H,Animal Events,Fair Week
END:VEVENT
BEGIN:VEVENT
DTSTART;TZID=America/New_York:20220727T190000
DTEND;TZID=America/New_York:20220727T220000
DTSTAMP:20260422T104004
CREATED:20220428T183425Z
LAST-MODIFIED:20250521T194614Z
UID:10000353-1658948400-1658959200@lakecountyfair.org
SUMMARY:4-H Saddle Horse Performance Versatility
DESCRIPTION:Plaisted Ring
URL:https://lakecountyfair.org/event/4-h-saddle-horse-performance-versatility/2022-07-27/
LOCATION:Plaisted Ring
CATEGORIES:4-H,Animal Events,Fair Week
END:VEVENT
BEGIN:VEVENT
DTSTART;TZID=America/New_York:20220727T190000
DTEND;TZID=America/New_York:20220727T193000
DTSTAMP:20260422T104004
CREATED:20220427T160727Z
LAST-MODIFIED:20250521T184759Z
UID:10000158-1658948400-1658950200@lakecountyfair.org
SUMMARY:Jungle Terry
DESCRIPTION:Sponsored by Richard Greaves\, CPA – West End of Main Midway
URL:https://lakecountyfair.org/event/jungle-terry/2022-07-27/2/
LOCATION:Main Midway
CATEGORIES:Animal Events,Fair Week,Grounds Entertainment
END:VEVENT
BEGIN:VEVENT
DTSTART;TZID=America/New_York:20220727T170000
DTEND;TZID=America/New_York:20220727T200000
DTSTAMP:20260422T104004
CREATED:20220427T182307Z
LAST-MODIFIED:20250521T191306Z
UID:10000272-1658941200-1658952000@lakecountyfair.org
SUMMARY:4-H Swine Judging & Showmanship
DESCRIPTION:
URL:https://lakecountyfair.org/event/4-h-swine-judging/2022-07-27/
LOCATION:Livestock Arena
CATEGORIES:4-H,Animal Events,Fair Week,Livestock Arena
END:VEVENT
BEGIN:VEVENT
DTSTART;TZID=America/New_York:20220727T170000
DTEND;TZID=America/New_York:20220727T190000
DTSTAMP:20260422T104004
CREATED:20220427T182215Z
LAST-MODIFIED:20240521T174605Z
UID:10000012-1658941200-1658948400@lakecountyfair.org
SUMMARY:4-H & Open Rabbit & Cavy All Breed Judging
DESCRIPTION:Costume Contest after the show
URL:https://lakecountyfair.org/event/4-h-rabbit-cavy-all-breed-judging/2022-07-27/
LOCATION:Rabbit & Poultry Barn
CATEGORIES:4-H,Animal Events,Fair Week
END:VEVENT
BEGIN:VEVENT
DTSTART;TZID=America/New_York:20220727T170000
DTEND;TZID=America/New_York:20220727T173000
DTSTAMP:20260422T104004
CREATED:20220427T184720Z
LAST-MODIFIED:20220427T184737Z
UID:10000311-1658941200-1658943000@lakecountyfair.org
SUMMARY:The Marvelous Mutts
DESCRIPTION:Performances by trained dogs
URL:https://lakecountyfair.org/event/the-marvelous-mutts/2022-07-27/2/
LOCATION:Lake County Fairgrounds\, 1301 Mentor Avenue\, Painesville Township\, 44077\, United States
CATEGORIES:Animal Events,Fair Week,Grounds Entertainment
END:VEVENT
BEGIN:VEVENT
DTSTART;TZID=America/New_York:20220727T150000
DTEND;TZID=America/New_York:20220727T180000
DTSTAMP:20260422T104004
CREATED:20220428T183340Z
LAST-MODIFIED:20250521T190336Z
UID:10000350-1658934000-1658944800@lakecountyfair.org
SUMMARY:4-H Saddle Horse Contest Versatility
DESCRIPTION:
URL:https://lakecountyfair.org/event/4-h-saddle-horse-contest-versatility/2022-07-27/
LOCATION:Plaisted Ring
CATEGORIES:4-H,Animal Events,Fair Week
END:VEVENT
BEGIN:VEVENT
DTSTART;TZID=America/New_York:20220727T150000
DTEND;TZID=America/New_York:20220727T153000
DTSTAMP:20260422T104004
CREATED:20220427T184720Z
LAST-MODIFIED:20220427T184737Z
UID:10000310-1658934000-1658935800@lakecountyfair.org
SUMMARY:The Marvelous Mutts
DESCRIPTION:Performances by trained dogs
URL:https://lakecountyfair.org/event/the-marvelous-mutts/2022-07-27/1/
LOCATION:Lake County Fairgrounds\, 1301 Mentor Avenue\, Painesville Township\, 44077\, United States
CATEGORIES:Animal Events,Fair Week,Grounds Entertainment
END:VEVENT
BEGIN:VEVENT
DTSTART;TZID=America/New_York:20220727T150000
DTEND;TZID=America/New_York:20220727T153000
DTSTAMP:20260422T104004
CREATED:20220427T160727Z
LAST-MODIFIED:20250521T184759Z
UID:10000157-1658934000-1658935800@lakecountyfair.org
SUMMARY:Jungle Terry
DESCRIPTION:Sponsored by Richard Greaves\, CPA – West End of Main Midway
URL:https://lakecountyfair.org/event/jungle-terry/2022-07-27/1/
LOCATION:Main Midway
CATEGORIES:Animal Events,Fair Week,Grounds Entertainment
END:VEVENT
BEGIN:VEVENT
DTSTART;TZID=America/New_York:20220727T120000
DTEND;TZID=America/New_York:20220727T150000
DTSTAMP:20260422T104004
CREATED:20220428T183250Z
LAST-MODIFIED:20240521T180019Z
UID:10000348-1658923200-1658934000@lakecountyfair.org
SUMMARY:4-H Saddle Horse Groom & Clean
DESCRIPTION:Dunsailin Ring
URL:https://lakecountyfair.org/event/4-h-saddle-horse-groom-clean/2022-07-27/
LOCATION:Dunsailin Ring
CATEGORIES:4-H,Animal Events,Fair Week
END:VEVENT
BEGIN:VEVENT
DTSTART;TZID=America/New_York:20220727T100000
DTEND;TZID=America/New_York:20220727T140000
DTSTAMP:20260422T104004
CREATED:20220427T181951Z
LAST-MODIFIED:20250521T191952Z
UID:10000005-1658916000-1658930400@lakecountyfair.org
SUMMARY:4-H Sheep Judging & Showmanship Show
DESCRIPTION:Followed by open sheep judging
URL:https://lakecountyfair.org/event/4-h-sheep-show/2022-07-27/
LOCATION:Livestock Arena
CATEGORIES:4-H,Animal Events,Fair Week
END:VEVENT
BEGIN:VEVENT
DTSTART;TZID=America/New_York:20220727T090000
DTEND;TZID=America/New_York:20220727T140000
DTSTAMP:20260422T104004
CREATED:20220427T181843Z
LAST-MODIFIED:20250521T190414Z
UID:10000001-1658912400-1658930400@lakecountyfair.org
SUMMARY:Open Class Draft Horse Halter Class Judging
DESCRIPTION:Plaisted Ring
URL:https://lakecountyfair.org/event/open-class-draft-horse-halter-class-judging/2022-07-27/
LOCATION:Plaisted Ring
CATEGORIES:Animal Events,Fair Week
END:VEVENT
BEGIN:VEVENT
DTSTART;TZID=America/New_York:20220726T200000
DTEND;TZID=America/New_York:20220726T220000
DTSTAMP:20260422T104004
CREATED:20220428T183142Z
LAST-MODIFIED:20250521T195222Z
UID:10000344-1658865600-1658872800@lakecountyfair.org
SUMMARY:4-H Saddle Horse Advisor\, Parent & Alumni Fun Show
DESCRIPTION:
URL:https://lakecountyfair.org/event/4-h-saddle-horse-advisor-parent-alumni-fun-show/2022-07-26/
LOCATION:Plaisted Ring
CATEGORIES:4-H,Animal Events,Fair Week
END:VEVENT
BEGIN:VEVENT
DTSTART;TZID=America/New_York:20220726T170000
DTEND;TZID=America/New_York:20220726T173000
DTSTAMP:20260422T104004
CREATED:20220427T184720Z
LAST-MODIFIED:20220427T184737Z
UID:10000309-1658854800-1658856600@lakecountyfair.org
SUMMARY:The Marvelous Mutts
DESCRIPTION:Performances by trained dogs
URL:https://lakecountyfair.org/event/the-marvelous-mutts/2022-07-26/2/
LOCATION:Lake County Fairgrounds\, 1301 Mentor Avenue\, Painesville Township\, 44077\, United States
CATEGORIES:Animal Events,Fair Week,Grounds Entertainment
END:VEVENT
BEGIN:VEVENT
DTSTART;TZID=America/New_York:20220726T160000
DTEND;TZID=America/New_York:20220726T163000
DTSTAMP:20260422T104004
CREATED:20220421T174535Z
LAST-MODIFIED:20230426T184932Z
UID:10000123-1658851200-1658853000@lakecountyfair.org
SUMMARY:Jungle Terry Show
DESCRIPTION:Sponsored by Richard Greaves\, CPA – West End of Main Midway
URL:https://lakecountyfair.org/event/jungle-terry-show/2022-07-26/
LOCATION:Main Midway
CATEGORIES:Animal Events,Fair Week,Grounds Entertainment
END:VEVENT
BEGIN:VEVENT
DTSTART;TZID=America/New_York:20220726T150000
DTEND;TZID=America/New_York:20220726T180000
DTSTAMP:20260422T104004
CREATED:20220428T182357Z
LAST-MODIFIED:20230426T184817Z
UID:10000342-1658847600-1658858400@lakecountyfair.org
SUMMARY:Open Jumping Show
DESCRIPTION:
URL:https://lakecountyfair.org/event/open-jumping-show/2022-07-26/
LOCATION:Plaisted Ring
CATEGORIES:4-H,Animal Events,Fair Week
END:VEVENT
BEGIN:VEVENT
DTSTART;TZID=America/New_York:20220726T150000
DTEND;TZID=America/New_York:20220726T153000
DTSTAMP:20260422T104004
CREATED:20220427T184720Z
LAST-MODIFIED:20220427T184737Z
UID:10000308-1658847600-1658849400@lakecountyfair.org
SUMMARY:The Marvelous Mutts
DESCRIPTION:Performances by trained dogs
URL:https://lakecountyfair.org/event/the-marvelous-mutts/2022-07-26/1/
LOCATION:Lake County Fairgrounds\, 1301 Mentor Avenue\, Painesville Township\, 44077\, United States
CATEGORIES:Animal Events,Fair Week,Grounds Entertainment
END:VEVENT
BEGIN:VEVENT
DTSTART;TZID=America/New_York:20220726T133000
DTEND;TZID=America/New_York:20220726T150000
DTSTAMP:20260422T104004
CREATED:20220427T172249Z
LAST-MODIFIED:20250521T190716Z
UID:10000208-1658842200-1658847600@lakecountyfair.org
SUMMARY:4-H Goat Judging & Showmanship
DESCRIPTION:Followed by Open Goat Judging
URL:https://lakecountyfair.org/event/4-h-goat-show/2022-07-26/
LOCATION:Livestock Arena
CATEGORIES:4-H,Animal Events,Fair Week,Livestock Arena
END:VEVENT
BEGIN:VEVENT
DTSTART;TZID=America/New_York:20220726T130000
DTEND;TZID=America/New_York:20220726T160000
DTSTAMP:20260422T104004
CREATED:20220428T182304Z
LAST-MODIFIED:20250521T182835Z
UID:10000338-1658840400-1658851200@lakecountyfair.org
SUMMARY:4-H Saddle Horse Walk/Trot English Show A
DESCRIPTION:A group\, 1st year walk/trot: Dunsailin Ring
URL:https://lakecountyfair.org/event/4-h-saddle-horse-walk-trot-english-show-2/2022-07-26/
LOCATION:Dunsailin Ring
CATEGORIES:4-H,Animal Events,Fair Week
END:VEVENT
BEGIN:VEVENT
DTSTART;TZID=America/New_York:20220726T130000
DTEND;TZID=America/New_York:20220726T133000
DTSTAMP:20260422T104004
CREATED:20220302T181114Z
LAST-MODIFIED:20250521T183608Z
UID:10000093-1658840400-1658842200@lakecountyfair.org
SUMMARY:Jungle Terry Show
DESCRIPTION:Sponsored by Richard Greaves\, CPA – West End of Main Midway
URL:https://lakecountyfair.org/event/open-class-domestic-culinary-judging/2022-07-26/
LOCATION:Main Midway
CATEGORIES:Animal Events,Fair Week,Grounds Entertainment
END:VEVENT
BEGIN:VEVENT
DTSTART;TZID=America/New_York:20220726T100000
DTEND;TZID=America/New_York:20220726T140000
DTSTAMP:20260422T104004
CREATED:20220428T182023Z
LAST-MODIFIED:20250521T183103Z
UID:10000330-1658829600-1658844000@lakecountyfair.org
SUMMARY:4-H Saddle Horse Advanced/Novice English Show
DESCRIPTION:
URL:https://lakecountyfair.org/event/4-h-saddle-horse-advanced-novice-intermediate-english-show/2022-07-26/
LOCATION:Plaisted Ring
CATEGORIES:4-H,Animal Events,Fair Week
END:VEVENT
END:VCALENDAR