BEGIN:VCALENDAR
VERSION:2.0
PRODID:-//Lake County Fair - Painesville, OH 44077 - ECPv6.15.20//NONSGML v1.0//EN
CALSCALE:GREGORIAN
METHOD:PUBLISH
X-ORIGINAL-URL:https://lakecountyfair.org
X-WR-CALDESC:Events for Lake County Fair - Painesville, OH 44077
REFRESH-INTERVAL;VALUE=DURATION:PT1H
X-Robots-Tag:noindex
X-PUBLISHED-TTL:PT1H
BEGIN:VTIMEZONE
TZID:America/New_York
BEGIN:DAYLIGHT
TZOFFSETFROM:-0500
TZOFFSETTO:-0400
TZNAME:EDT
DTSTART:20240310T070000
END:DAYLIGHT
BEGIN:STANDARD
TZOFFSETFROM:-0400
TZOFFSETTO:-0500
TZNAME:EST
DTSTART:20241103T060000
END:STANDARD
BEGIN:DAYLIGHT
TZOFFSETFROM:-0500
TZOFFSETTO:-0400
TZNAME:EDT
DTSTART:20250309T070000
END:DAYLIGHT
BEGIN:STANDARD
TZOFFSETFROM:-0400
TZOFFSETTO:-0500
TZNAME:EST
DTSTART:20251102T060000
END:STANDARD
BEGIN:DAYLIGHT
TZOFFSETFROM:-0500
TZOFFSETTO:-0400
TZNAME:EDT
DTSTART:20260308T070000
END:DAYLIGHT
BEGIN:STANDARD
TZOFFSETFROM:-0400
TZOFFSETTO:-0500
TZNAME:EST
DTSTART:20261101T060000
END:STANDARD
END:VTIMEZONE
BEGIN:VEVENT
DTSTART;TZID=America/New_York:20250726T140000
DTEND;TZID=America/New_York:20250726T143000
DTSTAMP:20260421T091532
CREATED:20220427T160727Z
LAST-MODIFIED:20250521T184759Z
UID:10000189-1753538400-1753540200@lakecountyfair.org
SUMMARY:Jungle Terry
DESCRIPTION:Sponsored by Richard Greaves\, CPA – West End of Main Midway
URL:https://lakecountyfair.org/event/jungle-terry/2025-07-26/1/
LOCATION:Main Midway
CATEGORIES:Animal Events,Fair Week,Grounds Entertainment
END:VEVENT
BEGIN:VEVENT
DTSTART;TZID=America/New_York:20250726T120000
DTEND;TZID=America/New_York:20250726T220000
DTSTAMP:20260421T091532
CREATED:20220428T192759Z
LAST-MODIFIED:20250521T195423Z
UID:10000401-1753531200-1753567200@lakecountyfair.org
SUMMARY:4-H Livestock Auction
DESCRIPTION:Registration opens at 11:00 am.\nSmall Animal Auction begins at noon\,\nLarge Animal Auction begins at 4:00 pm
URL:https://lakecountyfair.org/event/4-h-livestock-auction/2025-07-26/
LOCATION:Livestock Arena
CATEGORIES:4-H,Animal Events,Fair Week,Livestock Arena
END:VEVENT
BEGIN:VEVENT
DTSTART;TZID=America/New_York:20250726T100000
DTEND;TZID=America/New_York:20250726T120000
DTSTAMP:20260421T091532
CREATED:20220428T183142Z
LAST-MODIFIED:20250521T195222Z
UID:10000347-1753524000-1753531200@lakecountyfair.org
SUMMARY:4-H Saddle Horse Advisor\, Parent & Alumni Fun Show
DESCRIPTION:
URL:https://lakecountyfair.org/event/4-h-saddle-horse-advisor-parent-alumni-fun-show/2025-07-26/
LOCATION:Plaisted Ring
CATEGORIES:4-H,Animal Events,Fair Week
END:VEVENT
BEGIN:VEVENT
DTSTART;TZID=America/New_York:20250725T200000
DTEND;TZID=America/New_York:20250725T203000
DTSTAMP:20260421T091532
CREATED:20240516T194331Z
LAST-MODIFIED:20250521T185621Z
UID:10000450-1753473600-1753475400@lakecountyfair.org
SUMMARY:All American Racing Pigs
DESCRIPTION:Sponsored by Tour Lake County and The Lake County Commissioners.  Will perform on the main midway.  Viewers will be able to get up close to this family friendly event and be part of the fun.  The All-American Racing Pigs are fully licensed by the U.S.D.AA.
URL:https://lakecountyfair.org/event/all-american-racing-pigs/2025-07-25/2/
CATEGORIES:Animal Events,Fair Week,Grounds Entertainment
END:VEVENT
BEGIN:VEVENT
DTSTART;TZID=America/New_York:20250725T193000
DTEND;TZID=America/New_York:20250725T220000
DTSTAMP:20260421T091532
CREATED:20220428T183425Z
LAST-MODIFIED:20250521T194614Z
UID:10000356-1753471800-1753480800@lakecountyfair.org
SUMMARY:4-H Saddle Horse Performance Versatility
DESCRIPTION:Plaisted Ring
URL:https://lakecountyfair.org/event/4-h-saddle-horse-performance-versatility/2025-07-25/
LOCATION:Plaisted Ring
CATEGORIES:4-H,Animal Events,Fair Week
END:VEVENT
BEGIN:VEVENT
DTSTART;TZID=America/New_York:20250725T160000
DTEND;TZID=America/New_York:20250725T163000
DTSTAMP:20260421T091532
CREATED:20220427T160727Z
LAST-MODIFIED:20250521T184759Z
UID:10000188-1753459200-1753461000@lakecountyfair.org
SUMMARY:Jungle Terry
DESCRIPTION:Sponsored by Richard Greaves\, CPA – West End of Main Midway
URL:https://lakecountyfair.org/event/jungle-terry/2025-07-25/
LOCATION:Main Midway
CATEGORIES:Animal Events,Fair Week,Grounds Entertainment
END:VEVENT
BEGIN:VEVENT
DTSTART;TZID=America/New_York:20250725T140000
DTEND;TZID=America/New_York:20250730T143000
DTSTAMP:20260421T091532
CREATED:20240516T194331Z
LAST-MODIFIED:20250521T185621Z
UID:10000449-1753452000-1753885800@lakecountyfair.org
SUMMARY:All American Racing Pigs
DESCRIPTION:Sponsored by Tour Lake County and The Lake County Commissioners.  Will perform on the main midway.  Viewers will be able to get up close to this family friendly event and be part of the fun.  The All-American Racing Pigs are fully licensed by the U.S.D.AA.
URL:https://lakecountyfair.org/event/all-american-racing-pigs/2025-07-25/1/
CATEGORIES:Animal Events,Fair Week,Grounds Entertainment
END:VEVENT
BEGIN:VEVENT
DTSTART;TZID=America/New_York:20250725T130000
DTEND;TZID=America/New_York:20250725T160000
DTSTAMP:20260421T091532
CREATED:20220428T184235Z
LAST-MODIFIED:20250521T194154Z
UID:10000380-1753448400-1753459200@lakecountyfair.org
SUMMARY:4-H Saddle Horse Walk/Trot Western Show A
DESCRIPTION:A group\, 1st year walk/trot: Dunsailin Ring
URL:https://lakecountyfair.org/event/4-h-saddle-horse-walk-trot-western-show-2/2025-07-25/
LOCATION:Dunsailin Ring
CATEGORIES:4-H,Animal Events,Fair Week
END:VEVENT
BEGIN:VEVENT
DTSTART;TZID=America/New_York:20250725T130000
DTEND;TZID=America/New_York:20250725T133000
DTSTAMP:20260421T091532
CREATED:20220302T181114Z
LAST-MODIFIED:20250521T183608Z
UID:10000112-1753448400-1753450200@lakecountyfair.org
SUMMARY:Jungle Terry Show
DESCRIPTION:Sponsored by Richard Greaves\, CPA – West End of Main Midway
URL:https://lakecountyfair.org/event/open-class-domestic-culinary-judging/2025-07-25/
LOCATION:Main Midway
CATEGORIES:Animal Events,Fair Week,Grounds Entertainment
END:VEVENT
BEGIN:VEVENT
DTSTART;TZID=America/New_York:20250725T100000
DTEND;TZID=America/New_York:20250725T130000
DTSTAMP:20260421T091532
CREATED:20220428T184024Z
LAST-MODIFIED:20250521T194228Z
UID:10000376-1753437600-1753448400@lakecountyfair.org
SUMMARY:4-H Saddle Horse Walk/Trot Western Show B
DESCRIPTION:B group\, 2nd year and up walk/trot: Dunsailin Ring
URL:https://lakecountyfair.org/event/4-h-saddle-horse-walk-trot-western-show/2025-07-25/
LOCATION:Dunsailin Ring
CATEGORIES:4-H,Animal Events,Fair Week
END:VEVENT
BEGIN:VEVENT
DTSTART;TZID=America/New_York:20250724T200000
DTEND;TZID=America/New_York:20250724T203000
DTSTAMP:20260421T091532
CREATED:20240516T194331Z
LAST-MODIFIED:20250521T185621Z
UID:10000448-1753387200-1753389000@lakecountyfair.org
SUMMARY:All American Racing Pigs
DESCRIPTION:Sponsored by Tour Lake County and The Lake County Commissioners.  Will perform on the main midway.  Viewers will be able to get up close to this family friendly event and be part of the fun.  The All-American Racing Pigs are fully licensed by the U.S.D.AA.
URL:https://lakecountyfair.org/event/all-american-racing-pigs/2025-07-24/2/
CATEGORIES:Animal Events,Fair Week,Grounds Entertainment
END:VEVENT
BEGIN:VEVENT
DTSTART;TZID=America/New_York:20250724T193000
DTEND;TZID=America/New_York:20250724T230000
DTSTAMP:20260421T091532
CREATED:20240516T194703Z
LAST-MODIFIED:20250521T193048Z
UID:10000463-1753385400-1753398000@lakecountyfair.org
SUMMARY:Draft Horse Versatility
DESCRIPTION:Plaisted Ring
URL:https://lakecountyfair.org/event/draft-horse-versatility/2025-07-24/
CATEGORIES:Animal Events,Fair Week
END:VEVENT
BEGIN:VEVENT
DTSTART;TZID=America/New_York:20250724T190000
DTEND;TZID=America/New_York:20250724T193000
DTSTAMP:20260421T091532
CREATED:20220427T160727Z
LAST-MODIFIED:20250521T184759Z
UID:10000187-1753383600-1753385400@lakecountyfair.org
SUMMARY:Jungle Terry
DESCRIPTION:Sponsored by Richard Greaves\, CPA – West End of Main Midway
URL:https://lakecountyfair.org/event/jungle-terry/2025-07-24/2/
LOCATION:Main Midway
CATEGORIES:Animal Events,Fair Week,Grounds Entertainment
END:VEVENT
BEGIN:VEVENT
DTSTART;TZID=America/New_York:20250724T160000
DTEND;TZID=America/New_York:20250724T163000
DTSTAMP:20260421T091532
CREATED:20220427T160727Z
LAST-MODIFIED:20250521T184759Z
UID:10000186-1753372800-1753374600@lakecountyfair.org
SUMMARY:Jungle Terry
DESCRIPTION:Sponsored by Richard Greaves\, CPA – West End of Main Midway
URL:https://lakecountyfair.org/event/jungle-terry/2025-07-24/1/
LOCATION:Main Midway
CATEGORIES:Animal Events,Fair Week,Grounds Entertainment
END:VEVENT
BEGIN:VEVENT
DTSTART;TZID=America/New_York:20250724T140000
DTEND;TZID=America/New_York:20250729T143000
DTSTAMP:20260421T091532
CREATED:20240516T194331Z
LAST-MODIFIED:20250521T185621Z
UID:10000447-1753365600-1753799400@lakecountyfair.org
SUMMARY:All American Racing Pigs
DESCRIPTION:Sponsored by Tour Lake County and The Lake County Commissioners.  Will perform on the main midway.  Viewers will be able to get up close to this family friendly event and be part of the fun.  The All-American Racing Pigs are fully licensed by the U.S.D.AA.
URL:https://lakecountyfair.org/event/all-american-racing-pigs/2025-07-24/1/
CATEGORIES:Animal Events,Fair Week,Grounds Entertainment
END:VEVENT
BEGIN:VEVENT
DTSTART;TZID=America/New_York:20250724T140000
DTEND;TZID=America/New_York:20250724T170000
DTSTAMP:20260421T091532
CREATED:20220427T182656Z
LAST-MODIFIED:20250521T192723Z
UID:10000283-1753365600-1753376400@lakecountyfair.org
SUMMARY:4-H Beef Cattle & Dairy Beef Judging & Showmanship
DESCRIPTION:Open cattle judging to follow
URL:https://lakecountyfair.org/event/4-h-beef-cattle-dairy-beef-judging-showmanship/2025-07-24/
LOCATION:Livestock Arena
CATEGORIES:4-H,Animal Events,Fair Week,Livestock Arena
END:VEVENT
BEGIN:VEVENT
DTSTART;TZID=America/New_York:20250724T130000
DTEND;TZID=America/New_York:20250724T160000
DTSTAMP:20260421T091532
CREATED:20220428T183731Z
LAST-MODIFIED:20250521T192042Z
UID:10000368-1753362000-1753372800@lakecountyfair.org
SUMMARY:4-H Saddle Horse Walk/Trot Contesting Show A (English/Western)
DESCRIPTION:A group\, 1st year walk/trot – Dunsailin Ring
URL:https://lakecountyfair.org/event/4-h-saddle-horse-walk-trot-contesting-show-english-western/2025-07-24/
LOCATION:Dunsailin Ring
CATEGORIES:4-H,Animal Events,Fair Week
END:VEVENT
BEGIN:VEVENT
DTSTART;TZID=America/New_York:20250724T130000
DTEND;TZID=America/New_York:20250724T133000
DTSTAMP:20260421T091532
CREATED:20220302T181114Z
LAST-MODIFIED:20250521T183608Z
UID:10000111-1753362000-1753363800@lakecountyfair.org
SUMMARY:Jungle Terry Show
DESCRIPTION:Sponsored by Richard Greaves\, CPA – West End of Main Midway
URL:https://lakecountyfair.org/event/open-class-domestic-culinary-judging/2025-07-24/
LOCATION:Main Midway
CATEGORIES:Animal Events,Fair Week,Grounds Entertainment
END:VEVENT
BEGIN:VEVENT
DTSTART;TZID=America/New_York:20250724T120000
DTEND;TZID=America/New_York:20250724T140000
DTSTAMP:20260421T091532
CREATED:20220427T182556Z
LAST-MODIFIED:20250521T192345Z
UID:10000279-1753358400-1753365600@lakecountyfair.org
SUMMARY:Open Dairy & Veal Judging
DESCRIPTION:
URL:https://lakecountyfair.org/event/open-dairy-veal-judging/2025-07-24/
LOCATION:Livestock Arena
CATEGORIES:4-H,Animal Events,Fair Week,Livestock Arena
END:VEVENT
BEGIN:VEVENT
DTSTART;TZID=America/New_York:20250724T100000
DTEND;TZID=America/New_York:20250724T150000
DTSTAMP:20260421T091532
CREATED:20220428T183840Z
LAST-MODIFIED:20250521T192240Z
UID:10000372-1753351200-1753369200@lakecountyfair.org
SUMMARY:4-H Saddle Horse Novice/Advanced Western Show
DESCRIPTION:this will run between the Draft Horse Classes – Plaisted Ring
URL:https://lakecountyfair.org/event/4-h-saddle-horse-novice-advanced-western-show/2025-07-24/
LOCATION:Plaisted Ring
CATEGORIES:4-H,Animal Events,Fair Week
END:VEVENT
BEGIN:VEVENT
DTSTART;TZID=America/New_York:20250724T100000
DTEND;TZID=America/New_York:20250724T130000
DTSTAMP:20260421T091532
CREATED:20220428T183622Z
LAST-MODIFIED:20250521T192134Z
UID:10000364-1753351200-1753362000@lakecountyfair.org
SUMMARY:4-H Saddle Horse Walk/Trot Contesting Show B
DESCRIPTION:B group\, 2nd year walk/trot and up – Dunsailin Ring
URL:https://lakecountyfair.org/event/4-h-saddle-horse-walk-trot-contesting-show/2025-07-24/
LOCATION:Dunsailin Ring
CATEGORIES:4-H,Animal Events,Fair Week
END:VEVENT
BEGIN:VEVENT
DTSTART;TZID=America/New_York:20250724T090000
DTEND;TZID=America/New_York:20250724T120000
DTSTAMP:20260421T091532
CREATED:20220427T181951Z
LAST-MODIFIED:20250521T191952Z
UID:10000008-1753347600-1753358400@lakecountyfair.org
SUMMARY:4-H Sheep Judging & Showmanship Show
DESCRIPTION:Followed by open sheep judging
URL:https://lakecountyfair.org/event/4-h-sheep-show/2025-07-24/
LOCATION:Livestock Arena
CATEGORIES:4-H,Animal Events,Fair Week
END:VEVENT
BEGIN:VEVENT
DTSTART;TZID=America/New_York:20250723T200000
DTEND;TZID=America/New_York:20250723T203000
DTSTAMP:20260421T091532
CREATED:20240516T194331Z
LAST-MODIFIED:20250521T185621Z
UID:10000446-1753300800-1753302600@lakecountyfair.org
SUMMARY:All American Racing Pigs
DESCRIPTION:Sponsored by Tour Lake County and The Lake County Commissioners.  Will perform on the main midway.  Viewers will be able to get up close to this family friendly event and be part of the fun.  The All-American Racing Pigs are fully licensed by the U.S.D.AA.
URL:https://lakecountyfair.org/event/all-american-racing-pigs/2025-07-23/2/
CATEGORIES:Animal Events,Fair Week,Grounds Entertainment
END:VEVENT
BEGIN:VEVENT
DTSTART;TZID=America/New_York:20250723T190000
DTEND;TZID=America/New_York:20250723T193000
DTSTAMP:20260421T091532
CREATED:20220427T160727Z
LAST-MODIFIED:20250521T184759Z
UID:10000185-1753297200-1753299000@lakecountyfair.org
SUMMARY:Jungle Terry
DESCRIPTION:Sponsored by Richard Greaves\, CPA – West End of Main Midway
URL:https://lakecountyfair.org/event/jungle-terry/2025-07-23/2/
LOCATION:Main Midway
CATEGORIES:Animal Events,Fair Week,Grounds Entertainment
END:VEVENT
BEGIN:VEVENT
DTSTART;TZID=America/New_York:20250723T170000
DTEND;TZID=America/New_York:20250723T200000
DTSTAMP:20260421T091532
CREATED:20220427T182307Z
LAST-MODIFIED:20250521T191306Z
UID:10000275-1753290000-1753300800@lakecountyfair.org
SUMMARY:4-H Swine Judging & Showmanship
DESCRIPTION:
URL:https://lakecountyfair.org/event/4-h-swine-judging/2025-07-23/
LOCATION:Livestock Arena
CATEGORIES:4-H,Animal Events,Fair Week,Livestock Arena
END:VEVENT
BEGIN:VEVENT
DTSTART;TZID=America/New_York:20250723T150000
DTEND;TZID=America/New_York:20250723T170000
DTSTAMP:20260421T091532
CREATED:20220428T183523Z
LAST-MODIFIED:20250521T190923Z
UID:10000360-1753282800-1753290000@lakecountyfair.org
SUMMARY:4-H Saddle Horse Novice/Advanced Contesting Show
DESCRIPTION:
URL:https://lakecountyfair.org/event/4-h-saddle-horse-novice-advanced-contesting-show/2025-07-23/
LOCATION:Plaisted Ring
CATEGORIES:4-H,Animal Events,Fair Week
END:VEVENT
BEGIN:VEVENT
DTSTART;TZID=America/New_York:20250723T150000
DTEND;TZID=America/New_York:20250723T153000
DTSTAMP:20260421T091532
CREATED:20220427T160727Z
LAST-MODIFIED:20250521T184759Z
UID:10000184-1753282800-1753284600@lakecountyfair.org
SUMMARY:Jungle Terry
DESCRIPTION:Sponsored by Richard Greaves\, CPA – West End of Main Midway
URL:https://lakecountyfair.org/event/jungle-terry/2025-07-23/1/
LOCATION:Main Midway
CATEGORIES:Animal Events,Fair Week,Grounds Entertainment
END:VEVENT
BEGIN:VEVENT
DTSTART;TZID=America/New_York:20250723T140000
DTEND;TZID=America/New_York:20250728T143000
DTSTAMP:20260421T091532
CREATED:20240516T194331Z
LAST-MODIFIED:20250521T185621Z
UID:10000445-1753279200-1753713000@lakecountyfair.org
SUMMARY:All American Racing Pigs
DESCRIPTION:Sponsored by Tour Lake County and The Lake County Commissioners.  Will perform on the main midway.  Viewers will be able to get up close to this family friendly event and be part of the fun.  The All-American Racing Pigs are fully licensed by the U.S.D.AA.
URL:https://lakecountyfair.org/event/all-american-racing-pigs/2025-07-23/1/
CATEGORIES:Animal Events,Fair Week,Grounds Entertainment
END:VEVENT
BEGIN:VEVENT
DTSTART;TZID=America/New_York:20250723T130000
DTEND;TZID=America/New_York:20250723T160000
DTSTAMP:20260421T091532
CREATED:20250521T191145Z
LAST-MODIFIED:20250521T191145Z
UID:10000493-1753275600-1753286400@lakecountyfair.org
SUMMARY:4-H Saddle Horse Walk/Trot A&B Ranch Show
DESCRIPTION:Dunsailin Ring
URL:https://lakecountyfair.org/event/4-h-saddle-horse-walk-trot-ab-ranch-show/
CATEGORIES:4-H,Animal Events,Fair Week
END:VEVENT
BEGIN:VEVENT
DTSTART;TZID=America/New_York:20250723T100000
DTEND;TZID=America/New_York:20250723T120000
DTSTAMP:20260421T091532
CREATED:20220427T172249Z
LAST-MODIFIED:20250521T190716Z
UID:10000211-1753264800-1753272000@lakecountyfair.org
SUMMARY:4-H Goat Judging & Showmanship
DESCRIPTION:Followed by Open Goat Judging
URL:https://lakecountyfair.org/event/4-h-goat-show/2025-07-23/
LOCATION:Livestock Arena
CATEGORIES:4-H,Animal Events,Fair Week,Livestock Arena
END:VEVENT
END:VCALENDAR