BEGIN:VCALENDAR
VERSION:2.0
PRODID:-//Lake County Fair - Painesville, OH 44077 - ECPv6.15.20//NONSGML v1.0//EN
CALSCALE:GREGORIAN
METHOD:PUBLISH
X-ORIGINAL-URL:https://lakecountyfair.org
X-WR-CALDESC:Events for Lake County Fair - Painesville, OH 44077
REFRESH-INTERVAL;VALUE=DURATION:PT1H
X-Robots-Tag:noindex
X-PUBLISHED-TTL:PT1H
BEGIN:VTIMEZONE
TZID:America/New_York
BEGIN:DAYLIGHT
TZOFFSETFROM:-0500
TZOFFSETTO:-0400
TZNAME:EDT
DTSTART:20230312T070000
END:DAYLIGHT
BEGIN:STANDARD
TZOFFSETFROM:-0400
TZOFFSETTO:-0500
TZNAME:EST
DTSTART:20231105T060000
END:STANDARD
BEGIN:DAYLIGHT
TZOFFSETFROM:-0500
TZOFFSETTO:-0400
TZNAME:EDT
DTSTART:20240310T070000
END:DAYLIGHT
BEGIN:STANDARD
TZOFFSETFROM:-0400
TZOFFSETTO:-0500
TZNAME:EST
DTSTART:20241103T060000
END:STANDARD
BEGIN:DAYLIGHT
TZOFFSETFROM:-0500
TZOFFSETTO:-0400
TZNAME:EDT
DTSTART:20250309T070000
END:DAYLIGHT
BEGIN:STANDARD
TZOFFSETFROM:-0400
TZOFFSETTO:-0500
TZNAME:EST
DTSTART:20251102T060000
END:STANDARD
BEGIN:DAYLIGHT
TZOFFSETFROM:-0500
TZOFFSETTO:-0400
TZNAME:EDT
DTSTART:20260308T070000
END:DAYLIGHT
BEGIN:STANDARD
TZOFFSETFROM:-0400
TZOFFSETTO:-0500
TZNAME:EST
DTSTART:20261101T060000
END:STANDARD
END:VTIMEZONE
BEGIN:VEVENT
DTSTART;TZID=America/New_York:20250723T170000
DTEND;TZID=America/New_York:20250723T200000
DTSTAMP:20260421T163307
CREATED:20220427T182307Z
LAST-MODIFIED:20250521T191306Z
UID:10000275-1753290000-1753300800@lakecountyfair.org
SUMMARY:4-H Swine Judging & Showmanship
DESCRIPTION:
URL:https://lakecountyfair.org/event/4-h-swine-judging/2025-07-23/
LOCATION:Livestock Arena
CATEGORIES:4-H,Animal Events,Fair Week,Livestock Arena
END:VEVENT
BEGIN:VEVENT
DTSTART;TZID=America/New_York:20250723T150000
DTEND;TZID=America/New_York:20250723T170000
DTSTAMP:20260421T163307
CREATED:20220428T183523Z
LAST-MODIFIED:20250521T190923Z
UID:10000360-1753282800-1753290000@lakecountyfair.org
SUMMARY:4-H Saddle Horse Novice/Advanced Contesting Show
DESCRIPTION:
URL:https://lakecountyfair.org/event/4-h-saddle-horse-novice-advanced-contesting-show/2025-07-23/
LOCATION:Plaisted Ring
CATEGORIES:4-H,Animal Events,Fair Week
END:VEVENT
BEGIN:VEVENT
DTSTART;TZID=America/New_York:20250723T150000
DTEND;TZID=America/New_York:20250723T153000
DTSTAMP:20260421T163307
CREATED:20220427T160727Z
LAST-MODIFIED:20250521T184759Z
UID:10000184-1753282800-1753284600@lakecountyfair.org
SUMMARY:Jungle Terry
DESCRIPTION:Sponsored by Richard Greaves\, CPA – West End of Main Midway
URL:https://lakecountyfair.org/event/jungle-terry/2025-07-23/1/
LOCATION:Main Midway
CATEGORIES:Animal Events,Fair Week,Grounds Entertainment
END:VEVENT
BEGIN:VEVENT
DTSTART;TZID=America/New_York:20250723T140000
DTEND;TZID=America/New_York:20250728T143000
DTSTAMP:20260421T163307
CREATED:20240516T194331Z
LAST-MODIFIED:20250521T185621Z
UID:10000445-1753279200-1753713000@lakecountyfair.org
SUMMARY:All American Racing Pigs
DESCRIPTION:Sponsored by Tour Lake County and The Lake County Commissioners.  Will perform on the main midway.  Viewers will be able to get up close to this family friendly event and be part of the fun.  The All-American Racing Pigs are fully licensed by the U.S.D.AA.
URL:https://lakecountyfair.org/event/all-american-racing-pigs/2025-07-23/1/
CATEGORIES:Animal Events,Fair Week,Grounds Entertainment
END:VEVENT
BEGIN:VEVENT
DTSTART;TZID=America/New_York:20250723T130000
DTEND;TZID=America/New_York:20250723T160000
DTSTAMP:20260421T163307
CREATED:20250521T191145Z
LAST-MODIFIED:20250521T191145Z
UID:10000493-1753275600-1753286400@lakecountyfair.org
SUMMARY:4-H Saddle Horse Walk/Trot A&B Ranch Show
DESCRIPTION:Dunsailin Ring
URL:https://lakecountyfair.org/event/4-h-saddle-horse-walk-trot-ab-ranch-show/
CATEGORIES:4-H,Animal Events,Fair Week
END:VEVENT
BEGIN:VEVENT
DTSTART;TZID=America/New_York:20250723T100000
DTEND;TZID=America/New_York:20250723T120000
DTSTAMP:20260421T163307
CREATED:20220427T172249Z
LAST-MODIFIED:20250521T190716Z
UID:10000211-1753264800-1753272000@lakecountyfair.org
SUMMARY:4-H Goat Judging & Showmanship
DESCRIPTION:Followed by Open Goat Judging
URL:https://lakecountyfair.org/event/4-h-goat-show/2025-07-23/
LOCATION:Livestock Arena
CATEGORIES:4-H,Animal Events,Fair Week,Livestock Arena
END:VEVENT
BEGIN:VEVENT
DTSTART;TZID=America/New_York:20250723T100000
DTEND;TZID=America/New_York:20250723T110000
DTSTAMP:20260421T163307
CREATED:20220428T184508Z
LAST-MODIFIED:20250521T190810Z
UID:10000384-1753264800-1753268400@lakecountyfair.org
SUMMARY:4-H Saddle Horse Trail Competition (English or Western)
DESCRIPTION:Dunsailin Ring
URL:https://lakecountyfair.org/event/4-h-saddle-horse-trail-competition-english-or-western/2025-07-23/
LOCATION:Plaisted Ring
CATEGORIES:4-H,Animal Events,Fair Week
END:VEVENT
BEGIN:VEVENT
DTSTART;TZID=America/New_York:20250723T090000
DTEND;TZID=America/New_York:20250723T140000
DTSTAMP:20260421T163307
CREATED:20220427T181843Z
LAST-MODIFIED:20250521T190414Z
UID:10000004-1753261200-1753279200@lakecountyfair.org
SUMMARY:Open Class Draft Horse Halter Class Judging
DESCRIPTION:Plaisted Ring
URL:https://lakecountyfair.org/event/open-class-draft-horse-halter-class-judging/2025-07-23/
LOCATION:Plaisted Ring
CATEGORIES:Animal Events,Fair Week
END:VEVENT
BEGIN:VEVENT
DTSTART;TZID=America/New_York:20250722T210000
DTEND;TZID=America/New_York:20250722T230000
DTSTAMP:20260421T163307
CREATED:20220428T183340Z
LAST-MODIFIED:20250521T190336Z
UID:10000352-1753218000-1753225200@lakecountyfair.org
SUMMARY:4-H Saddle Horse Contest Versatility
DESCRIPTION:
URL:https://lakecountyfair.org/event/4-h-saddle-horse-contest-versatility/2025-07-22/
LOCATION:Plaisted Ring
CATEGORIES:4-H,Animal Events,Fair Week
END:VEVENT
BEGIN:VEVENT
DTSTART;TZID=America/New_York:20250722T200000
DTEND;TZID=America/New_York:20250722T203000
DTSTAMP:20260421T163307
CREATED:20240516T194331Z
LAST-MODIFIED:20250521T185621Z
UID:10000444-1753214400-1753216200@lakecountyfair.org
SUMMARY:All American Racing Pigs
DESCRIPTION:Sponsored by Tour Lake County and The Lake County Commissioners.  Will perform on the main midway.  Viewers will be able to get up close to this family friendly event and be part of the fun.  The All-American Racing Pigs are fully licensed by the U.S.D.AA.
URL:https://lakecountyfair.org/event/all-american-racing-pigs/2025-07-22/2/
CATEGORIES:Animal Events,Fair Week,Grounds Entertainment
END:VEVENT
BEGIN:VEVENT
DTSTART;TZID=America/New_York:20250722T160000
DTEND;TZID=America/New_York:20250722T163000
DTSTAMP:20260421T163307
CREATED:20220427T160727Z
LAST-MODIFIED:20250521T184759Z
UID:10000183-1753200000-1753201800@lakecountyfair.org
SUMMARY:Jungle Terry
DESCRIPTION:Sponsored by Richard Greaves\, CPA – West End of Main Midway
URL:https://lakecountyfair.org/event/jungle-terry/2025-07-22/
LOCATION:Main Midway
CATEGORIES:Animal Events,Fair Week,Grounds Entertainment
END:VEVENT
BEGIN:VEVENT
DTSTART;TZID=America/New_York:20250722T140000
DTEND;TZID=America/New_York:20250722T143000
DTSTAMP:20260421T163307
CREATED:20240516T194331Z
LAST-MODIFIED:20250521T185621Z
UID:10000443-1753192800-1753194600@lakecountyfair.org
SUMMARY:All American Racing Pigs
DESCRIPTION:Sponsored by Tour Lake County and The Lake County Commissioners.  Will perform on the main midway.  Viewers will be able to get up close to this family friendly event and be part of the fun.  The All-American Racing Pigs are fully licensed by the U.S.D.AA.
URL:https://lakecountyfair.org/event/all-american-racing-pigs/2025-07-22/1/
CATEGORIES:Animal Events,Fair Week,Grounds Entertainment
END:VEVENT
BEGIN:VEVENT
DTSTART;TZID=America/New_York:20250722T130000
DTEND;TZID=America/New_York:20250722T160000
DTSTAMP:20260421T163307
CREATED:20220428T182304Z
LAST-MODIFIED:20250521T182835Z
UID:10000341-1753189200-1753200000@lakecountyfair.org
SUMMARY:4-H Saddle Horse Walk/Trot English Show A
DESCRIPTION:A group\, 1st year walk/trot: Dunsailin Ring
URL:https://lakecountyfair.org/event/4-h-saddle-horse-walk-trot-english-show-2/2025-07-22/
LOCATION:Dunsailin Ring
CATEGORIES:4-H,Animal Events,Fair Week
END:VEVENT
BEGIN:VEVENT
DTSTART;TZID=America/New_York:20250722T130000
DTEND;TZID=America/New_York:20250722T133000
DTSTAMP:20260421T163307
CREATED:20220302T181114Z
LAST-MODIFIED:20250521T183608Z
UID:10000110-1753189200-1753191000@lakecountyfair.org
SUMMARY:Jungle Terry Show
DESCRIPTION:Sponsored by Richard Greaves\, CPA – West End of Main Midway
URL:https://lakecountyfair.org/event/open-class-domestic-culinary-judging/2025-07-22/
LOCATION:Main Midway
CATEGORIES:Animal Events,Fair Week,Grounds Entertainment
END:VEVENT
BEGIN:VEVENT
DTSTART;TZID=America/New_York:20250722T100000
DTEND;TZID=America/New_York:20250722T140000
DTSTAMP:20260421T163307
CREATED:20220428T182023Z
LAST-MODIFIED:20250521T183103Z
UID:10000333-1753178400-1753192800@lakecountyfair.org
SUMMARY:4-H Saddle Horse Advanced/Novice English Show
DESCRIPTION:
URL:https://lakecountyfair.org/event/4-h-saddle-horse-advanced-novice-intermediate-english-show/2025-07-22/
LOCATION:Plaisted Ring
CATEGORIES:4-H,Animal Events,Fair Week
END:VEVENT
BEGIN:VEVENT
DTSTART;TZID=America/New_York:20250722T100000
DTEND;TZID=America/New_York:20250722T140000
DTSTAMP:20260421T163307
CREATED:20220302T180907Z
LAST-MODIFIED:20250521T182637Z
UID:10000092-1753178400-1753192800@lakecountyfair.org
SUMMARY:4-H Poultry Judging & Showmanship followed by Open Class Poultry
DESCRIPTION:
URL:https://lakecountyfair.org/event/veterans-day/2025-07-22/
LOCATION:Rabbit & Poultry Barn
CATEGORIES:4-H,Animal Events,Fair Week
END:VEVENT
BEGIN:VEVENT
DTSTART;TZID=America/New_York:20250722T100000
DTEND;TZID=America/New_York:20250722T130000
DTSTAMP:20260421T163307
CREATED:20220428T182159Z
LAST-MODIFIED:20250521T182953Z
UID:10000337-1753178400-1753189200@lakecountyfair.org
SUMMARY:4-H Saddle Horse Walk/Trot English Show B
DESCRIPTION:B group\, 2nd year walk/trot and up – Dunsailin Ring
URL:https://lakecountyfair.org/event/4-h-saddle-horse-walk-trot-english-show/2025-07-22/
LOCATION:Dunsailin Ring
CATEGORIES:4-H,Animal Events,Fair Week
END:VEVENT
BEGIN:VEVENT
DTSTART;TZID=America/New_York:20240728T200000
DTEND;TZID=America/New_York:20240728T203000
DTSTAMP:20260421T163307
CREATED:20251212T184149Z
LAST-MODIFIED:20251212T184149Z
UID:10000461-1722196800-1722198600@lakecountyfair.org
SUMMARY:All American Racing Pigs
DESCRIPTION:Sponsored by Tour Lake County and The Lake County Commissioners.  Will perform on the main midway.  Viewers will be able to get up close to this family friendly event and be part of the fun.  The All-American Racing Pigs are fully licensed by the U.S.D.AA.
URL:https://lakecountyfair.org/event/all-american-racing-pigs/2024-07-28/
CATEGORIES:Animal Events,Fair Week,Grounds Entertainment
END:VEVENT
BEGIN:VEVENT
DTSTART;TZID=America/New_York:20240728T180000
DTEND;TZID=America/New_York:20240728T183000
DTSTAMP:20260421T163307
CREATED:20220302T181114Z
LAST-MODIFIED:20250521T183608Z
UID:10000109-1722189600-1722191400@lakecountyfair.org
SUMMARY:Jungle Terry Show
DESCRIPTION:Sponsored by Richard Greaves\, CPA – West End of Main Midway
URL:https://lakecountyfair.org/event/open-class-domestic-culinary-judging/2024-07-28/3/
LOCATION:Main Midway
CATEGORIES:Animal Events,Fair Week,Grounds Entertainment
END:VEVENT
BEGIN:VEVENT
DTSTART;TZID=America/New_York:20240728T160000
DTEND;TZID=America/New_York:20240728T163000
DTSTAMP:20260421T163307
CREATED:20220302T181114Z
LAST-MODIFIED:20250521T183608Z
UID:10000108-1722182400-1722184200@lakecountyfair.org
SUMMARY:Jungle Terry Show
DESCRIPTION:Sponsored by Richard Greaves\, CPA – West End of Main Midway
URL:https://lakecountyfair.org/event/open-class-domestic-culinary-judging/2024-07-28/2/
LOCATION:Main Midway
CATEGORIES:Animal Events,Fair Week,Grounds Entertainment
END:VEVENT
BEGIN:VEVENT
DTSTART;TZID=America/New_York:20240728T150000
DTEND;TZID=America/New_York:20240728T170000
DTSTAMP:20260421T163307
CREATED:20220427T155544Z
LAST-MODIFIED:20250521T200426Z
UID:10000155-1722178800-1722186000@lakecountyfair.org
SUMMARY:Horse Pulls
DESCRIPTION:Plaisted Ring
URL:https://lakecountyfair.org/event/horse-pulls/2024-07-28/
LOCATION:Plaisted Ring
CATEGORIES:Animal Events,Fair Week,Grounds Entertainment
END:VEVENT
BEGIN:VEVENT
DTSTART;TZID=America/New_York:20240728T140000
DTEND;TZID=America/New_York:20240802T143000
DTSTAMP:20260421T163307
CREATED:20240516T194331Z
LAST-MODIFIED:20250521T185621Z
UID:10000442-1722175200-1722609000@lakecountyfair.org
SUMMARY:All American Racing Pigs
DESCRIPTION:Sponsored by Tour Lake County and The Lake County Commissioners.  Will perform on the main midway.  Viewers will be able to get up close to this family friendly event and be part of the fun.  The All-American Racing Pigs are fully licensed by the U.S.D.AA.
URL:https://lakecountyfair.org/event/all-american-racing-pigs/2024-07-28/
CATEGORIES:Animal Events,Fair Week,Grounds Entertainment
END:VEVENT
BEGIN:VEVENT
DTSTART;TZID=America/New_York:20240728T140000
DTEND;TZID=America/New_York:20240728T143000
DTSTAMP:20260421T163307
CREATED:20220302T181114Z
LAST-MODIFIED:20250521T183608Z
UID:10000107-1722175200-1722177000@lakecountyfair.org
SUMMARY:Jungle Terry Show
DESCRIPTION:Sponsored by Richard Greaves\, CPA – West End of Main Midway
URL:https://lakecountyfair.org/event/open-class-domestic-culinary-judging/2024-07-28/1/
LOCATION:Main Midway
CATEGORIES:Animal Events,Fair Week,Grounds Entertainment
END:VEVENT
BEGIN:VEVENT
DTSTART;TZID=America/New_York:20240728T130000
DTEND;TZID=America/New_York:20240728T150000
DTSTAMP:20260421T163307
CREATED:20220428T194607Z
LAST-MODIFIED:20250521T200257Z
UID:10000421-1722171600-1722178800@lakecountyfair.org
SUMMARY:Frog Jumping Contest/Turtle Races
DESCRIPTION:
URL:https://lakecountyfair.org/event/frog-jumping-contest-turtle-races/2024-07-28/
LOCATION:Livestock Arena
CATEGORIES:Animal Events,Fair Week,Livestock Arena
END:VEVENT
BEGIN:VEVENT
DTSTART;TZID=America/New_York:20240728T090000
DTEND;TZID=America/New_York:20240728T120000
DTSTAMP:20260421T163307
CREATED:20220428T194237Z
LAST-MODIFIED:20250521T200055Z
UID:10000405-1722157200-1722168000@lakecountyfair.org
SUMMARY:Open Mini Horse Show
DESCRIPTION:Plaisted Ring
URL:https://lakecountyfair.org/event/miniature-horse-donkey-show/2024-07-28/
LOCATION:Dunsailin Ring
CATEGORIES:Animal Events,Fair Week
END:VEVENT
BEGIN:VEVENT
DTSTART;TZID=America/New_York:20240727T200000
DTEND;TZID=America/New_York:20240727T203000
DTSTAMP:20260421T163307
CREATED:20251212T184149Z
LAST-MODIFIED:20251212T184149Z
UID:10000460-1722110400-1722112200@lakecountyfair.org
SUMMARY:All American Racing Pigs
DESCRIPTION:Sponsored by Tour Lake County and The Lake County Commissioners.  Will perform on the main midway.  Viewers will be able to get up close to this family friendly event and be part of the fun.  The All-American Racing Pigs are fully licensed by the U.S.D.AA.
URL:https://lakecountyfair.org/event/all-american-racing-pigs/2024-07-27/
CATEGORIES:Animal Events,Fair Week,Grounds Entertainment
END:VEVENT
BEGIN:VEVENT
DTSTART;TZID=America/New_York:20240727T180000
DTEND;TZID=America/New_York:20240727T183000
DTSTAMP:20260421T163307
CREATED:20220302T181114Z
LAST-MODIFIED:20250521T183608Z
UID:10000106-1722103200-1722105000@lakecountyfair.org
SUMMARY:Jungle Terry Show
DESCRIPTION:Sponsored by Richard Greaves\, CPA – West End of Main Midway
URL:https://lakecountyfair.org/event/open-class-domestic-culinary-judging/2024-07-27/3/
LOCATION:Main Midway
CATEGORIES:Animal Events,Fair Week,Grounds Entertainment
END:VEVENT
BEGIN:VEVENT
DTSTART;TZID=America/New_York:20240727T160000
DTEND;TZID=America/New_York:20240727T220000
DTSTAMP:20260421T163307
CREATED:20240522T191309Z
LAST-MODIFIED:20240522T191309Z
UID:10000488-1722096000-1722117600@lakecountyfair.org
SUMMARY:Open Horse Show
DESCRIPTION:Open Contesting Show.  Horses do not need to be stabled on the fairgrounds. Plaisted Ring
URL:https://lakecountyfair.org/event/open-horse-show/
CATEGORIES:Animal Events,Fair Week
END:VEVENT
BEGIN:VEVENT
DTSTART;TZID=America/New_York:20240727T160000
DTEND;TZID=America/New_York:20240727T163000
DTSTAMP:20260421T163307
CREATED:20220302T181114Z
LAST-MODIFIED:20250521T183608Z
UID:10000105-1722096000-1722097800@lakecountyfair.org
SUMMARY:Jungle Terry Show
DESCRIPTION:Sponsored by Richard Greaves\, CPA – West End of Main Midway
URL:https://lakecountyfair.org/event/open-class-domestic-culinary-judging/2024-07-27/2/
LOCATION:Main Midway
CATEGORIES:Animal Events,Fair Week,Grounds Entertainment
END:VEVENT
BEGIN:VEVENT
DTSTART;TZID=America/New_York:20240727T140000
DTEND;TZID=America/New_York:20240801T143000
DTSTAMP:20260421T163307
CREATED:20240516T194331Z
LAST-MODIFIED:20250521T185621Z
UID:10000441-1722088800-1722522600@lakecountyfair.org
SUMMARY:All American Racing Pigs
DESCRIPTION:Sponsored by Tour Lake County and The Lake County Commissioners.  Will perform on the main midway.  Viewers will be able to get up close to this family friendly event and be part of the fun.  The All-American Racing Pigs are fully licensed by the U.S.D.AA.
URL:https://lakecountyfair.org/event/all-american-racing-pigs/2024-07-27/
CATEGORIES:Animal Events,Fair Week,Grounds Entertainment
END:VEVENT
END:VCALENDAR