BEGIN:VCALENDAR
VERSION:2.0
PRODID:-//Lake County Fair - Painesville, OH 44077 - ECPv6.15.20//NONSGML v1.0//EN
CALSCALE:GREGORIAN
METHOD:PUBLISH
X-ORIGINAL-URL:https://lakecountyfair.org
X-WR-CALDESC:Events for Lake County Fair - Painesville, OH 44077
REFRESH-INTERVAL;VALUE=DURATION:PT1H
X-Robots-Tag:noindex
X-PUBLISHED-TTL:PT1H
BEGIN:VTIMEZONE
TZID:America/New_York
BEGIN:DAYLIGHT
TZOFFSETFROM:-0500
TZOFFSETTO:-0400
TZNAME:EDT
DTSTART:20230312T070000
END:DAYLIGHT
BEGIN:STANDARD
TZOFFSETFROM:-0400
TZOFFSETTO:-0500
TZNAME:EST
DTSTART:20231105T060000
END:STANDARD
BEGIN:DAYLIGHT
TZOFFSETFROM:-0500
TZOFFSETTO:-0400
TZNAME:EDT
DTSTART:20240310T070000
END:DAYLIGHT
BEGIN:STANDARD
TZOFFSETFROM:-0400
TZOFFSETTO:-0500
TZNAME:EST
DTSTART:20241103T060000
END:STANDARD
BEGIN:DAYLIGHT
TZOFFSETFROM:-0500
TZOFFSETTO:-0400
TZNAME:EDT
DTSTART:20250309T070000
END:DAYLIGHT
BEGIN:STANDARD
TZOFFSETFROM:-0400
TZOFFSETTO:-0500
TZNAME:EST
DTSTART:20251102T060000
END:STANDARD
END:VTIMEZONE
BEGIN:VEVENT
DTSTART;TZID=America/New_York:20240726T140000
DTEND;TZID=America/New_York:20240731T143000
DTSTAMP:20260421T222712
CREATED:20240516T194331Z
LAST-MODIFIED:20250521T185621Z
UID:10000440-1722002400-1722436200@lakecountyfair.org
SUMMARY:All American Racing Pigs
DESCRIPTION:Sponsored by Tour Lake County and The Lake County Commissioners.  Will perform on the main midway.  Viewers will be able to get up close to this family friendly event and be part of the fun.  The All-American Racing Pigs are fully licensed by the U.S.D.AA.
URL:https://lakecountyfair.org/event/all-american-racing-pigs/2024-07-26/
CATEGORIES:Animal Events,Fair Week,Grounds Entertainment
END:VEVENT
BEGIN:VEVENT
DTSTART;TZID=America/New_York:20240726T130000
DTEND;TZID=America/New_York:20240726T160000
DTSTAMP:20260421T222712
CREATED:20220428T184235Z
LAST-MODIFIED:20250521T194154Z
UID:10000379-1721998800-1722009600@lakecountyfair.org
SUMMARY:4-H Saddle Horse Walk/Trot Western Show A
DESCRIPTION:A group\, 1st year walk/trot: Dunsailin Ring
URL:https://lakecountyfair.org/event/4-h-saddle-horse-walk-trot-western-show-2/2024-07-26/
LOCATION:Dunsailin Ring
CATEGORIES:4-H,Animal Events,Fair Week
END:VEVENT
BEGIN:VEVENT
DTSTART;TZID=America/New_York:20240726T130000
DTEND;TZID=America/New_York:20240726T133000
DTSTAMP:20260421T222712
CREATED:20220302T181114Z
LAST-MODIFIED:20250521T183608Z
UID:10000102-1721998800-1722000600@lakecountyfair.org
SUMMARY:Jungle Terry Show
DESCRIPTION:Sponsored by Richard Greaves\, CPA – West End of Main Midway
URL:https://lakecountyfair.org/event/open-class-domestic-culinary-judging/2024-07-26/1/
LOCATION:Main Midway
CATEGORIES:Animal Events,Fair Week,Grounds Entertainment
END:VEVENT
BEGIN:VEVENT
DTSTART;TZID=America/New_York:20240726T100000
DTEND;TZID=America/New_York:20240726T150000
DTSTAMP:20260421T222712
CREATED:20220428T183840Z
LAST-MODIFIED:20250521T192240Z
UID:10000371-1721988000-1722006000@lakecountyfair.org
SUMMARY:4-H Saddle Horse Novice/Advanced Western Show
DESCRIPTION:this will run between the Draft Horse Classes – Plaisted Ring
URL:https://lakecountyfair.org/event/4-h-saddle-horse-novice-advanced-western-show/2024-07-26/
LOCATION:Plaisted Ring
CATEGORIES:4-H,Animal Events,Fair Week
END:VEVENT
BEGIN:VEVENT
DTSTART;TZID=America/New_York:20240726T100000
DTEND;TZID=America/New_York:20240726T130000
DTSTAMP:20260421T222712
CREATED:20220428T184024Z
LAST-MODIFIED:20250521T194228Z
UID:10000375-1721988000-1721998800@lakecountyfair.org
SUMMARY:4-H Saddle Horse Walk/Trot Western Show B
DESCRIPTION:B group\, 2nd year and up walk/trot: Dunsailin Ring
URL:https://lakecountyfair.org/event/4-h-saddle-horse-walk-trot-western-show/2024-07-26/
LOCATION:Dunsailin Ring
CATEGORIES:4-H,Animal Events,Fair Week
END:VEVENT
BEGIN:VEVENT
DTSTART;TZID=America/New_York:20240725T200000
DTEND;TZID=America/New_York:20240725T230000
DTSTAMP:20260421T222712
CREATED:20220428T183425Z
LAST-MODIFIED:20250521T194614Z
UID:10000355-1721937600-1721948400@lakecountyfair.org
SUMMARY:4-H Saddle Horse Performance Versatility
DESCRIPTION:Plaisted Ring
URL:https://lakecountyfair.org/event/4-h-saddle-horse-performance-versatility/2024-07-25/
LOCATION:Plaisted Ring
CATEGORIES:4-H,Animal Events,Fair Week
END:VEVENT
BEGIN:VEVENT
DTSTART;TZID=America/New_York:20240725T200000
DTEND;TZID=America/New_York:20240725T203000
DTSTAMP:20260421T222712
CREATED:20251212T184149Z
LAST-MODIFIED:20251212T184149Z
UID:10000458-1721937600-1721939400@lakecountyfair.org
SUMMARY:All American Racing Pigs
DESCRIPTION:Sponsored by Tour Lake County and The Lake County Commissioners.  Will perform on the main midway.  Viewers will be able to get up close to this family friendly event and be part of the fun.  The All-American Racing Pigs are fully licensed by the U.S.D.AA.
URL:https://lakecountyfair.org/event/all-american-racing-pigs/2024-07-25/
CATEGORIES:Animal Events,Fair Week,Grounds Entertainment
END:VEVENT
BEGIN:VEVENT
DTSTART;TZID=America/New_York:20240725T190000
DTEND;TZID=America/New_York:20240725T193000
DTSTAMP:20260421T222712
CREATED:20220302T181114Z
LAST-MODIFIED:20250521T183608Z
UID:10000101-1721934000-1721935800@lakecountyfair.org
SUMMARY:Jungle Terry Show
DESCRIPTION:Sponsored by Richard Greaves\, CPA – West End of Main Midway
URL:https://lakecountyfair.org/event/open-class-domestic-culinary-judging/2024-07-25/3/
LOCATION:Main Midway
CATEGORIES:Animal Events,Fair Week,Grounds Entertainment
END:VEVENT
BEGIN:VEVENT
DTSTART;TZID=America/New_York:20240725T160000
DTEND;TZID=America/New_York:20240725T170000
DTSTAMP:20260421T222712
CREATED:20220427T183058Z
LAST-MODIFIED:20240521T184629Z
UID:10000297-1721923200-1721926800@lakecountyfair.org
SUMMARY:Crowning of "Miss Lake COW-nty"
DESCRIPTION:
URL:https://lakecountyfair.org/event/crowning-of-miss-lake-cow-nty/2024-07-25/
LOCATION:Livestock Arena
CATEGORIES:Animal Events,Fair Week,Livestock Arena
END:VEVENT
BEGIN:VEVENT
DTSTART;TZID=America/New_York:20240725T160000
DTEND;TZID=America/New_York:20240725T163000
DTSTAMP:20260421T222712
CREATED:20220302T181114Z
LAST-MODIFIED:20250521T183608Z
UID:10000100-1721923200-1721925000@lakecountyfair.org
SUMMARY:Jungle Terry Show
DESCRIPTION:Sponsored by Richard Greaves\, CPA – West End of Main Midway
URL:https://lakecountyfair.org/event/open-class-domestic-culinary-judging/2024-07-25/2/
LOCATION:Main Midway
CATEGORIES:Animal Events,Fair Week,Grounds Entertainment
END:VEVENT
BEGIN:VEVENT
DTSTART;TZID=America/New_York:20240725T140000
DTEND;TZID=America/New_York:20240730T143000
DTSTAMP:20260421T222712
CREATED:20240516T194331Z
LAST-MODIFIED:20250521T185621Z
UID:10000439-1721916000-1722349800@lakecountyfair.org
SUMMARY:All American Racing Pigs
DESCRIPTION:Sponsored by Tour Lake County and The Lake County Commissioners.  Will perform on the main midway.  Viewers will be able to get up close to this family friendly event and be part of the fun.  The All-American Racing Pigs are fully licensed by the U.S.D.AA.
URL:https://lakecountyfair.org/event/all-american-racing-pigs/2024-07-25/
CATEGORIES:Animal Events,Fair Week,Grounds Entertainment
END:VEVENT
BEGIN:VEVENT
DTSTART;TZID=America/New_York:20240725T130000
DTEND;TZID=America/New_York:20240725T160000
DTSTAMP:20260421T222712
CREATED:20220428T183731Z
LAST-MODIFIED:20250521T192042Z
UID:10000367-1721912400-1721923200@lakecountyfair.org
SUMMARY:4-H Saddle Horse Walk/Trot Contesting Show A (English/Western)
DESCRIPTION:A group\, 1st year walk/trot – Dunsailin Ring
URL:https://lakecountyfair.org/event/4-h-saddle-horse-walk-trot-contesting-show-english-western/2024-07-25/
LOCATION:Dunsailin Ring
CATEGORIES:4-H,Animal Events,Fair Week
END:VEVENT
BEGIN:VEVENT
DTSTART;TZID=America/New_York:20240725T130000
DTEND;TZID=America/New_York:20240725T133000
DTSTAMP:20260421T222712
CREATED:20220302T181114Z
LAST-MODIFIED:20250521T183608Z
UID:10000099-1721912400-1721914200@lakecountyfair.org
SUMMARY:Jungle Terry Show
DESCRIPTION:Sponsored by Richard Greaves\, CPA – West End of Main Midway
URL:https://lakecountyfair.org/event/open-class-domestic-culinary-judging/2024-07-25/1/
LOCATION:Main Midway
CATEGORIES:Animal Events,Fair Week,Grounds Entertainment
END:VEVENT
BEGIN:VEVENT
DTSTART;TZID=America/New_York:20240725T120000
DTEND;TZID=America/New_York:20240725T150000
DTSTAMP:20260421T222712
CREATED:20220427T182656Z
LAST-MODIFIED:20250521T192723Z
UID:10000282-1721908800-1721919600@lakecountyfair.org
SUMMARY:4-H Beef Cattle & Dairy Beef Judging & Showmanship
DESCRIPTION:Open cattle judging to follow
URL:https://lakecountyfair.org/event/4-h-beef-cattle-dairy-beef-judging-showmanship/2024-07-25/
LOCATION:Livestock Arena
CATEGORIES:4-H,Animal Events,Fair Week,Livestock Arena
END:VEVENT
BEGIN:VEVENT
DTSTART;TZID=America/New_York:20240725T103000
DTEND;TZID=America/New_York:20240725T120000
DTSTAMP:20260421T222712
CREATED:20220427T182556Z
LAST-MODIFIED:20250521T192345Z
UID:10000278-1721903400-1721908800@lakecountyfair.org
SUMMARY:Open Dairy & Veal Judging
DESCRIPTION:
URL:https://lakecountyfair.org/event/open-dairy-veal-judging/2024-07-25/
LOCATION:Livestock Arena
CATEGORIES:4-H,Animal Events,Fair Week,Livestock Arena
END:VEVENT
BEGIN:VEVENT
DTSTART;TZID=America/New_York:20240725T100000
DTEND;TZID=America/New_York:20240725T130000
DTSTAMP:20260421T222712
CREATED:20220428T183622Z
LAST-MODIFIED:20250521T192134Z
UID:10000363-1721901600-1721912400@lakecountyfair.org
SUMMARY:4-H Saddle Horse Walk/Trot Contesting Show B
DESCRIPTION:B group\, 2nd year walk/trot and up – Dunsailin Ring
URL:https://lakecountyfair.org/event/4-h-saddle-horse-walk-trot-contesting-show/2024-07-25/
LOCATION:Dunsailin Ring
CATEGORIES:4-H,Animal Events,Fair Week
END:VEVENT
BEGIN:VEVENT
DTSTART;TZID=America/New_York:20240725T100000
DTEND;TZID=America/New_York:20240725T130000
DTSTAMP:20260421T222712
CREATED:20220428T183523Z
LAST-MODIFIED:20250521T190923Z
UID:10000359-1721901600-1721912400@lakecountyfair.org
SUMMARY:4-H Saddle Horse Novice/Advanced Contesting Show
DESCRIPTION:
URL:https://lakecountyfair.org/event/4-h-saddle-horse-novice-advanced-contesting-show/2024-07-25/
LOCATION:Plaisted Ring
CATEGORIES:4-H,Animal Events,Fair Week
END:VEVENT
BEGIN:VEVENT
DTSTART;TZID=America/New_York:20240724T210000
DTEND;TZID=America/New_York:20240724T230000
DTSTAMP:20260421T222712
CREATED:20220428T183340Z
LAST-MODIFIED:20250521T190336Z
UID:10000351-1721854800-1721862000@lakecountyfair.org
SUMMARY:4-H Saddle Horse Contest Versatility
DESCRIPTION:
URL:https://lakecountyfair.org/event/4-h-saddle-horse-contest-versatility/2024-07-24/
LOCATION:Plaisted Ring
CATEGORIES:4-H,Animal Events,Fair Week
END:VEVENT
BEGIN:VEVENT
DTSTART;TZID=America/New_York:20240724T200000
DTEND;TZID=America/New_York:20240724T203000
DTSTAMP:20260421T222712
CREATED:20251212T184149Z
LAST-MODIFIED:20251212T184149Z
UID:10000457-1721851200-1721853000@lakecountyfair.org
SUMMARY:All American Racing Pigs
DESCRIPTION:Sponsored by Tour Lake County and The Lake County Commissioners.  Will perform on the main midway.  Viewers will be able to get up close to this family friendly event and be part of the fun.  The All-American Racing Pigs are fully licensed by the U.S.D.AA.
URL:https://lakecountyfair.org/event/all-american-racing-pigs/2024-07-24/
CATEGORIES:Animal Events,Fair Week,Grounds Entertainment
END:VEVENT
BEGIN:VEVENT
DTSTART;TZID=America/New_York:20240724T190000
DTEND;TZID=America/New_York:20240724T193000
DTSTAMP:20260421T222712
CREATED:20220302T181114Z
LAST-MODIFIED:20250521T183608Z
UID:10000098-1721847600-1721849400@lakecountyfair.org
SUMMARY:Jungle Terry Show
DESCRIPTION:Sponsored by Richard Greaves\, CPA – West End of Main Midway
URL:https://lakecountyfair.org/event/open-class-domestic-culinary-judging/2024-07-24/2/
LOCATION:Main Midway
CATEGORIES:Animal Events,Fair Week,Grounds Entertainment
END:VEVENT
BEGIN:VEVENT
DTSTART;TZID=America/New_York:20240724T170000
DTEND;TZID=America/New_York:20240724T200000
DTSTAMP:20260421T222712
CREATED:20220427T182307Z
LAST-MODIFIED:20250521T191306Z
UID:10000274-1721840400-1721851200@lakecountyfair.org
SUMMARY:4-H Swine Judging & Showmanship
DESCRIPTION:
URL:https://lakecountyfair.org/event/4-h-swine-judging/2024-07-24/
LOCATION:Livestock Arena
CATEGORIES:4-H,Animal Events,Fair Week,Livestock Arena
END:VEVENT
BEGIN:VEVENT
DTSTART;TZID=America/New_York:20240724T170000
DTEND;TZID=America/New_York:20240724T190000
DTSTAMP:20260421T222712
CREATED:20220427T182215Z
LAST-MODIFIED:20240521T174605Z
UID:10000014-1721840400-1721847600@lakecountyfair.org
SUMMARY:4-H & Open Rabbit & Cavy All Breed Judging
DESCRIPTION:Costume Contest after the show
URL:https://lakecountyfair.org/event/4-h-rabbit-cavy-all-breed-judging/2024-07-24/
LOCATION:Rabbit & Poultry Barn
CATEGORIES:4-H,Animal Events,Fair Week
END:VEVENT
BEGIN:VEVENT
DTSTART;TZID=America/New_York:20240724T160000
DTEND;TZID=America/New_York:20240724T190000
DTSTAMP:20260421T222712
CREATED:20220428T183250Z
LAST-MODIFIED:20240521T180019Z
UID:10000349-1721836800-1721847600@lakecountyfair.org
SUMMARY:4-H Saddle Horse Groom & Clean
DESCRIPTION:Dunsailin Ring
URL:https://lakecountyfair.org/event/4-h-saddle-horse-groom-clean/2024-07-24/
LOCATION:Dunsailin Ring
CATEGORIES:4-H,Animal Events,Fair Week
END:VEVENT
BEGIN:VEVENT
DTSTART;TZID=America/New_York:20240724T150000
DTEND;TZID=America/New_York:20240724T153000
DTSTAMP:20260421T222712
CREATED:20220302T181114Z
LAST-MODIFIED:20250521T183608Z
UID:10000097-1721833200-1721835000@lakecountyfair.org
SUMMARY:Jungle Terry Show
DESCRIPTION:Sponsored by Richard Greaves\, CPA – West End of Main Midway
URL:https://lakecountyfair.org/event/open-class-domestic-culinary-judging/2024-07-24/1/
LOCATION:Main Midway
CATEGORIES:Animal Events,Fair Week,Grounds Entertainment
END:VEVENT
BEGIN:VEVENT
DTSTART;TZID=America/New_York:20240724T140000
DTEND;TZID=America/New_York:20240729T143000
DTSTAMP:20260421T222712
CREATED:20240516T194331Z
LAST-MODIFIED:20250521T185621Z
UID:10000438-1721829600-1722263400@lakecountyfair.org
SUMMARY:All American Racing Pigs
DESCRIPTION:Sponsored by Tour Lake County and The Lake County Commissioners.  Will perform on the main midway.  Viewers will be able to get up close to this family friendly event and be part of the fun.  The All-American Racing Pigs are fully licensed by the U.S.D.AA.
URL:https://lakecountyfair.org/event/all-american-racing-pigs/2024-07-24/
CATEGORIES:Animal Events,Fair Week,Grounds Entertainment
END:VEVENT
BEGIN:VEVENT
DTSTART;TZID=America/New_York:20240724T100000
DTEND;TZID=America/New_York:20240724T120000
DTSTAMP:20260421T222712
CREATED:20220427T172249Z
LAST-MODIFIED:20250521T190716Z
UID:10000210-1721815200-1721822400@lakecountyfair.org
SUMMARY:4-H Goat Judging & Showmanship
DESCRIPTION:Followed by Open Goat Judging
URL:https://lakecountyfair.org/event/4-h-goat-show/2024-07-24/
LOCATION:Livestock Arena
CATEGORIES:4-H,Animal Events,Fair Week,Livestock Arena
END:VEVENT
BEGIN:VEVENT
DTSTART;TZID=America/New_York:20240724T090000
DTEND;TZID=America/New_York:20240724T140000
DTSTAMP:20260421T222712
CREATED:20220427T181843Z
LAST-MODIFIED:20250521T190414Z
UID:10000003-1721811600-1721829600@lakecountyfair.org
SUMMARY:Open Class Draft Horse Halter Class Judging
DESCRIPTION:Plaisted Ring
URL:https://lakecountyfair.org/event/open-class-draft-horse-halter-class-judging/2024-07-24/
LOCATION:Plaisted Ring
CATEGORIES:Animal Events,Fair Week
END:VEVENT
BEGIN:VEVENT
DTSTART;TZID=America/New_York:20240724T090000
DTEND;TZID=America/New_York:20240724T100000
DTSTAMP:20260421T222712
CREATED:20220428T184508Z
LAST-MODIFIED:20250521T190810Z
UID:10000383-1721811600-1721815200@lakecountyfair.org
SUMMARY:4-H Saddle Horse Trail Competition (English or Western)
DESCRIPTION:Dunsailin Ring
URL:https://lakecountyfair.org/event/4-h-saddle-horse-trail-competition-english-or-western/2024-07-24/
LOCATION:Plaisted Ring
CATEGORIES:4-H,Animal Events,Fair Week
END:VEVENT
BEGIN:VEVENT
DTSTART;TZID=America/New_York:20240723T210000
DTEND;TZID=America/New_York:20240723T230000
DTSTAMP:20260421T222712
CREATED:20240516T194703Z
LAST-MODIFIED:20250521T193048Z
UID:10000462-1721768400-1721775600@lakecountyfair.org
SUMMARY:Draft Horse Versatility
DESCRIPTION:Plaisted Ring
URL:https://lakecountyfair.org/event/draft-horse-versatility/2024-07-23/
CATEGORIES:Animal Events,Fair Week
END:VEVENT
BEGIN:VEVENT
DTSTART;TZID=America/New_York:20240723T160000
DTEND;TZID=America/New_York:20240723T163000
DTSTAMP:20260421T222712
CREATED:20220302T181114Z
LAST-MODIFIED:20250521T183608Z
UID:10000096-1721750400-1721752200@lakecountyfair.org
SUMMARY:Jungle Terry Show
DESCRIPTION:Sponsored by Richard Greaves\, CPA – West End of Main Midway
URL:https://lakecountyfair.org/event/open-class-domestic-culinary-judging/2024-07-23/2/
LOCATION:Main Midway
CATEGORIES:Animal Events,Fair Week,Grounds Entertainment
END:VEVENT
END:VCALENDAR