BEGIN:VCALENDAR
VERSION:2.0
PRODID:-//Lake County Fair - Painesville, OH 44077 - ECPv6.15.20//NONSGML v1.0//EN
CALSCALE:GREGORIAN
METHOD:PUBLISH
X-WR-CALNAME:Lake County Fair - Painesville, OH 44077
X-ORIGINAL-URL:https://lakecountyfair.org
X-WR-CALDESC:Events for Lake County Fair - Painesville, OH 44077
REFRESH-INTERVAL;VALUE=DURATION:PT1H
X-Robots-Tag:noindex
X-PUBLISHED-TTL:PT1H
BEGIN:VTIMEZONE
TZID:America/New_York
BEGIN:DAYLIGHT
TZOFFSETFROM:-0500
TZOFFSETTO:-0400
TZNAME:EDT
DTSTART:20210314T070000
END:DAYLIGHT
BEGIN:STANDARD
TZOFFSETFROM:-0400
TZOFFSETTO:-0500
TZNAME:EST
DTSTART:20211107T060000
END:STANDARD
BEGIN:DAYLIGHT
TZOFFSETFROM:-0500
TZOFFSETTO:-0400
TZNAME:EDT
DTSTART:20220313T070000
END:DAYLIGHT
BEGIN:STANDARD
TZOFFSETFROM:-0400
TZOFFSETTO:-0500
TZNAME:EST
DTSTART:20221106T060000
END:STANDARD
BEGIN:DAYLIGHT
TZOFFSETFROM:-0500
TZOFFSETTO:-0400
TZNAME:EDT
DTSTART:20230312T070000
END:DAYLIGHT
BEGIN:STANDARD
TZOFFSETFROM:-0400
TZOFFSETTO:-0500
TZNAME:EST
DTSTART:20231105T060000
END:STANDARD
END:VTIMEZONE
BEGIN:VEVENT
DTSTART;TZID=America/New_York:20220726T090000
DTEND;TZID=America/New_York:20220726T120000
DTSTAMP:20260423T095450
CREATED:20220427T172829Z
LAST-MODIFIED:20250521T182347Z
UID:10000220-1658826000-1658836800@lakecountyfair.org
SUMMARY:Open Class Farm & Garden Judging
DESCRIPTION:
URL:https://lakecountyfair.org/event/open-class-farm-garden-judging/2022-07-26/
LOCATION:Agriculture Building
CATEGORIES:Fair Week
END:VEVENT
BEGIN:VEVENT
DTSTART;TZID=America/New_York:20220726T090000
DTEND;TZID=America/New_York:20220726T120000
DTSTAMP:20260423T095450
CREATED:20220427T172618Z
LAST-MODIFIED:20250521T182300Z
UID:10000216-1658826000-1658836800@lakecountyfair.org
SUMMARY:Open Class Domestic & Culinary Judging
DESCRIPTION:
URL:https://lakecountyfair.org/event/open-class-domestic-culinary-judging-2/2022-07-26/
LOCATION:Agriculture Building
CATEGORIES:Fair Week
END:VEVENT
BEGIN:VEVENT
DTSTART;VALUE=DATE:20220726
DTEND;VALUE=DATE:20220727
DTSTAMP:20260423T095450
CREATED:20220427T175047Z
LAST-MODIFIED:20240516T190147Z
UID:10000269-1658793600-1658879999@lakecountyfair.org
SUMMARY:Free Admission for all until 3 pm
DESCRIPTION:Opening Day – Rides open at 3 pm today
URL:https://lakecountyfair.org/event/free-admission-for-all-until-3-pm/2022-07-26/
LOCATION:Lake County Fairgrounds\, 1301 Mentor Avenue\, Painesville Township\, 44077\, United States
CATEGORIES:Fair Week
END:VEVENT
BEGIN:VEVENT
DTSTART;VALUE=DATE:20220726
DTEND;VALUE=DATE:20220727
DTSTAMP:20260423T095450
CREATED:20220302T181640Z
LAST-MODIFIED:20240516T190100Z
UID:10000113-1658793600-1658879999@lakecountyfair.org
SUMMARY:Veterans Day
DESCRIPTION:Free admission for Veterans all day. \n 
URL:https://lakecountyfair.org/event/veterans-day-2/2022-07-26/
LOCATION:Lake County Fairgrounds\, 1301 Mentor Avenue\, Painesville Township\, 44077\, United States
CATEGORIES:Fair Week
END:VEVENT
END:VCALENDAR