BEGIN:VCALENDAR
VERSION:2.0
PRODID:-//Lake County Fair - Painesville, OH 44077 - ECPv6.15.20//NONSGML v1.0//EN
CALSCALE:GREGORIAN
METHOD:PUBLISH
X-ORIGINAL-URL:https://lakecountyfair.org
X-WR-CALDESC:Events for Lake County Fair - Painesville, OH 44077
REFRESH-INTERVAL;VALUE=DURATION:PT1H
X-Robots-Tag:noindex
X-PUBLISHED-TTL:PT1H
BEGIN:VTIMEZONE
TZID:America/New_York
BEGIN:DAYLIGHT
TZOFFSETFROM:-0500
TZOFFSETTO:-0400
TZNAME:EDT
DTSTART:20230312T070000
END:DAYLIGHT
BEGIN:STANDARD
TZOFFSETFROM:-0400
TZOFFSETTO:-0500
TZNAME:EST
DTSTART:20231105T060000
END:STANDARD
BEGIN:DAYLIGHT
TZOFFSETFROM:-0500
TZOFFSETTO:-0400
TZNAME:EDT
DTSTART:20240310T070000
END:DAYLIGHT
BEGIN:STANDARD
TZOFFSETFROM:-0400
TZOFFSETTO:-0500
TZNAME:EST
DTSTART:20241103T060000
END:STANDARD
BEGIN:DAYLIGHT
TZOFFSETFROM:-0500
TZOFFSETTO:-0400
TZNAME:EDT
DTSTART:20250309T070000
END:DAYLIGHT
BEGIN:STANDARD
TZOFFSETFROM:-0400
TZOFFSETTO:-0500
TZNAME:EST
DTSTART:20251102T060000
END:STANDARD
BEGIN:DAYLIGHT
TZOFFSETFROM:-0500
TZOFFSETTO:-0400
TZNAME:EDT
DTSTART:20260308T070000
END:DAYLIGHT
BEGIN:STANDARD
TZOFFSETFROM:-0400
TZOFFSETTO:-0500
TZNAME:EST
DTSTART:20261101T060000
END:STANDARD
END:VTIMEZONE
BEGIN:VEVENT
DTSTART;TZID=America/New_York:20240728T140000
DTEND;TZID=America/New_York:20240802T143000
DTSTAMP:20260421T114526
CREATED:20240516T194331Z
LAST-MODIFIED:20250521T185621Z
UID:10000442-1722175200-1722609000@lakecountyfair.org
SUMMARY:All American Racing Pigs
DESCRIPTION:Sponsored by Tour Lake County and The Lake County Commissioners.  Will perform on the main midway.  Viewers will be able to get up close to this family friendly event and be part of the fun.  The All-American Racing Pigs are fully licensed by the U.S.D.AA.
URL:https://lakecountyfair.org/event/all-american-racing-pigs/2024-07-28/
CATEGORIES:Animal Events,Fair Week,Grounds Entertainment
END:VEVENT
BEGIN:VEVENT
DTSTART;TZID=America/New_York:20240728T150000
DTEND;TZID=America/New_York:20240728T170000
DTSTAMP:20260421T114526
CREATED:20220427T155544Z
LAST-MODIFIED:20250521T200426Z
UID:10000155-1722178800-1722186000@lakecountyfair.org
SUMMARY:Horse Pulls
DESCRIPTION:Plaisted Ring
URL:https://lakecountyfair.org/event/horse-pulls/2024-07-28/
LOCATION:Plaisted Ring
CATEGORIES:Animal Events,Fair Week,Grounds Entertainment
END:VEVENT
BEGIN:VEVENT
DTSTART;TZID=America/New_York:20240728T150000
DTEND;TZID=America/New_York:20240728T170000
DTSTAMP:20260421T114526
CREATED:20240522T190759Z
LAST-MODIFIED:20250522T152346Z
UID:10000484-1722178800-1722186000@lakecountyfair.org
SUMMARY:Farm Chore Olympics
DESCRIPTION:Dunsailin Ring
URL:https://lakecountyfair.org/event/farm-chore-olympics/2024-07-28/
CATEGORIES:4-H,Fair Week
END:VEVENT
BEGIN:VEVENT
DTSTART;TZID=America/New_York:20240728T160000
DTEND;TZID=America/New_York:20240728T163000
DTSTAMP:20260421T114526
CREATED:20220302T181114Z
LAST-MODIFIED:20250521T183608Z
UID:10000108-1722182400-1722184200@lakecountyfair.org
SUMMARY:Jungle Terry Show
DESCRIPTION:Sponsored by Richard Greaves\, CPA – West End of Main Midway
URL:https://lakecountyfair.org/event/open-class-domestic-culinary-judging/2024-07-28/2/
LOCATION:Main Midway
CATEGORIES:Animal Events,Fair Week,Grounds Entertainment
END:VEVENT
BEGIN:VEVENT
DTSTART;TZID=America/New_York:20240728T160000
DTEND;TZID=America/New_York:20240728T163000
DTSTAMP:20260421T114526
CREATED:20240516T195005Z
LAST-MODIFIED:20240522T191050Z
UID:10000475-1722182400-1722184200@lakecountyfair.org
SUMMARY:Whiz Bang Science Show
DESCRIPTION:
URL:https://lakecountyfair.org/event/whiz-bang-science-show/2024-07-28/2/
CATEGORIES:Fair Week,Grounds Entertainment
END:VEVENT
BEGIN:VEVENT
DTSTART;TZID=America/New_York:20240728T180000
DTEND;TZID=America/New_York:20240728T183000
DTSTAMP:20260421T114526
CREATED:20220302T181114Z
LAST-MODIFIED:20250521T183608Z
UID:10000109-1722189600-1722191400@lakecountyfair.org
SUMMARY:Jungle Terry Show
DESCRIPTION:Sponsored by Richard Greaves\, CPA – West End of Main Midway
URL:https://lakecountyfair.org/event/open-class-domestic-culinary-judging/2024-07-28/3/
LOCATION:Main Midway
CATEGORIES:Animal Events,Fair Week,Grounds Entertainment
END:VEVENT
BEGIN:VEVENT
DTSTART;TZID=America/New_York:20240728T180000
DTEND;TZID=America/New_York:20240728T183000
DTSTAMP:20260421T114526
CREATED:20240516T195005Z
LAST-MODIFIED:20240522T191050Z
UID:10000476-1722189600-1722191400@lakecountyfair.org
SUMMARY:Whiz Bang Science Show
DESCRIPTION:
URL:https://lakecountyfair.org/event/whiz-bang-science-show/2024-07-28/3/
CATEGORIES:Fair Week,Grounds Entertainment
END:VEVENT
BEGIN:VEVENT
DTSTART;TZID=America/New_York:20240728T180000
DTEND;TZID=America/New_York:20240728T220000
DTSTAMP:20260421T114526
CREATED:20220421T170723Z
LAST-MODIFIED:20250521T190233Z
UID:10000120-1722189600-1722204000@lakecountyfair.org
SUMMARY:DerbyDog Demolition Derby
DESCRIPTION:$10 grandstand\, $20 pit pass (includes admission to fair)(Pit Passes must enter in the Pit) Reserved seating only. Buy tickets in advance online
URL:https://lakecountyfair.org/event/demolition-derby/2024-07-28/
LOCATION:Lake County Fairgrounds\, 1301 Mentor Avenue\, Painesville Township\, 44077\, United States
CATEGORIES:Fair Week,Grandstand Entertainment
END:VEVENT
BEGIN:VEVENT
DTSTART;TZID=America/New_York:20240728T200000
DTEND;TZID=America/New_York:20240728T203000
DTSTAMP:20260421T114526
CREATED:20251212T184149Z
LAST-MODIFIED:20251212T184149Z
UID:10000461-1722196800-1722198600@lakecountyfair.org
SUMMARY:All American Racing Pigs
DESCRIPTION:Sponsored by Tour Lake County and The Lake County Commissioners.  Will perform on the main midway.  Viewers will be able to get up close to this family friendly event and be part of the fun.  The All-American Racing Pigs are fully licensed by the U.S.D.AA.
URL:https://lakecountyfair.org/event/all-american-racing-pigs/2024-07-28/
CATEGORIES:Animal Events,Fair Week,Grounds Entertainment
END:VEVENT
BEGIN:VEVENT
DTSTART;TZID=America/New_York:20240801T193000
DTEND;TZID=America/New_York:20240801T210000
DTSTAMP:20260421T114526
CREATED:20220216T055429Z
LAST-MODIFIED:20230426T182854Z
UID:10000040-1722540600-1722546000@lakecountyfair.org
SUMMARY:Fair Board Meeting
DESCRIPTION:Fair Office
URL:https://lakecountyfair.org/event/sample-event-1/2024-08-01/
LOCATION:Lake County Fairgrounds\, 1301 Mentor Avenue\, Painesville Township\, 44077\, United States
CATEGORIES:Fair Board Meeting
END:VEVENT
BEGIN:VEVENT
DTSTART;TZID=America/New_York:20240905T193000
DTEND;TZID=America/New_York:20240905T210000
DTSTAMP:20260421T114526
CREATED:20220216T055429Z
LAST-MODIFIED:20230426T182854Z
UID:10000041-1725564600-1725570000@lakecountyfair.org
SUMMARY:Fair Board Meeting
DESCRIPTION:Fair Office
URL:https://lakecountyfair.org/event/sample-event-1/2024-09-05/
LOCATION:Lake County Fairgrounds\, 1301 Mentor Avenue\, Painesville Township\, 44077\, United States
CATEGORIES:Fair Board Meeting
END:VEVENT
BEGIN:VEVENT
DTSTART;TZID=America/New_York:20240914T090000
DTEND;TZID=America/New_York:20240914T160000
DTSTAMP:20260421T114526
CREATED:20240123T211832Z
LAST-MODIFIED:20240123T211955Z
UID:10000431-1726304400-1726329600@lakecountyfair.org
SUMMARY:Great Garage Sale
DESCRIPTION:Held rain or shine. Applications can be obtained from the fair office or email: lakecountyfair@att.net
URL:https://lakecountyfair.org/event/great-garage-sale-4/2024-09-14/
CATEGORIES:Other Fairgrounds Event
END:VEVENT
BEGIN:VEVENT
DTSTART;TZID=America/New_York:20240921T080000
DTEND;TZID=America/New_York:20240921T140000
DTSTAMP:20260421T114526
CREATED:20240123T212140Z
LAST-MODIFIED:20240123T212140Z
UID:10000434-1726905600-1726927200@lakecountyfair.org
SUMMARY:Hazardous Waste Collection
DESCRIPTION:
URL:https://lakecountyfair.org/event/hazardous-waste-collection-2/2024-09-21/
CATEGORIES:Other Fairgrounds Event
END:VEVENT
BEGIN:VEVENT
DTSTART;TZID=America/New_York:20241003T150000
DTEND;TZID=America/New_York:20241003T190000
DTSTAMP:20260421T114526
CREATED:20221116T161219Z
LAST-MODIFIED:20240925T143042Z
UID:10000256-1727967600-1727982000@lakecountyfair.org
SUMMARY:FAIR BOARD DIRECTOR ELECTIONS
DESCRIPTION:Members of the Lake County Agricultural Society may vote for Fair Board members.  Valid ID is required to vote.
URL:https://lakecountyfair.org/event/fair-board-director-elections-2024-10-04/2024-10-03/
CATEGORIES:Other Fairgrounds Event
END:VEVENT
BEGIN:VEVENT
DTSTART;TZID=America/New_York:20241003T193000
DTEND;TZID=America/New_York:20241003T210000
DTSTAMP:20260421T114526
CREATED:20220216T055429Z
LAST-MODIFIED:20230426T182854Z
UID:10000042-1727983800-1727989200@lakecountyfair.org
SUMMARY:Fair Board Meeting
DESCRIPTION:Fair Office
URL:https://lakecountyfair.org/event/sample-event-1/2024-10-03/
LOCATION:Lake County Fairgrounds\, 1301 Mentor Avenue\, Painesville Township\, 44077\, United States
CATEGORIES:Fair Board Meeting
END:VEVENT
BEGIN:VEVENT
DTSTART;TZID=America/New_York:20241107T193000
DTEND;TZID=America/New_York:20241107T210000
DTSTAMP:20260421T114526
CREATED:20220216T055429Z
LAST-MODIFIED:20230426T182854Z
UID:10000043-1731007800-1731013200@lakecountyfair.org
SUMMARY:Fair Board Meeting
DESCRIPTION:Fair Office
URL:https://lakecountyfair.org/event/sample-event-1/2024-11-07/
LOCATION:Lake County Fairgrounds\, 1301 Mentor Avenue\, Painesville Township\, 44077\, United States
CATEGORIES:Fair Board Meeting
END:VEVENT
BEGIN:VEVENT
DTSTART;TZID=America/New_York:20241205T193000
DTEND;TZID=America/New_York:20241205T210000
DTSTAMP:20260421T114526
CREATED:20220216T055429Z
LAST-MODIFIED:20230426T182854Z
UID:10000044-1733427000-1733432400@lakecountyfair.org
SUMMARY:Fair Board Meeting
DESCRIPTION:Fair Office
URL:https://lakecountyfair.org/event/sample-event-1/2024-12-05/
LOCATION:Lake County Fairgrounds\, 1301 Mentor Avenue\, Painesville Township\, 44077\, United States
CATEGORIES:Fair Board Meeting
END:VEVENT
BEGIN:VEVENT
DTSTART;TZID=America/New_York:20250102T193000
DTEND;TZID=America/New_York:20250102T210000
DTSTAMP:20260421T114526
CREATED:20220216T055429Z
LAST-MODIFIED:20230426T182854Z
UID:10000045-1735846200-1735851600@lakecountyfair.org
SUMMARY:Fair Board Meeting
DESCRIPTION:Fair Office
URL:https://lakecountyfair.org/event/sample-event-1/2025-01-02/
LOCATION:Lake County Fairgrounds\, 1301 Mentor Avenue\, Painesville Township\, 44077\, United States
CATEGORIES:Fair Board Meeting
END:VEVENT
BEGIN:VEVENT
DTSTART;TZID=America/New_York:20250206T193000
DTEND;TZID=America/New_York:20250206T210000
DTSTAMP:20260421T114526
CREATED:20220216T055429Z
LAST-MODIFIED:20230426T182854Z
UID:10000046-1738870200-1738875600@lakecountyfair.org
SUMMARY:Fair Board Meeting
DESCRIPTION:Fair Office
URL:https://lakecountyfair.org/event/sample-event-1/2025-02-06/
LOCATION:Lake County Fairgrounds\, 1301 Mentor Avenue\, Painesville Township\, 44077\, United States
CATEGORIES:Fair Board Meeting
END:VEVENT
BEGIN:VEVENT
DTSTART;TZID=America/New_York:20250306T193000
DTEND;TZID=America/New_York:20250306T210000
DTSTAMP:20260421T114526
CREATED:20220216T055429Z
LAST-MODIFIED:20230426T182854Z
UID:10000047-1741289400-1741294800@lakecountyfair.org
SUMMARY:Fair Board Meeting
DESCRIPTION:Fair Office
URL:https://lakecountyfair.org/event/sample-event-1/2025-03-06/
LOCATION:Lake County Fairgrounds\, 1301 Mentor Avenue\, Painesville Township\, 44077\, United States
CATEGORIES:Fair Board Meeting
END:VEVENT
BEGIN:VEVENT
DTSTART;TZID=America/New_York:20250403T193000
DTEND;TZID=America/New_York:20250403T210000
DTSTAMP:20260421T114526
CREATED:20220216T055429Z
LAST-MODIFIED:20230426T182854Z
UID:10000048-1743708600-1743714000@lakecountyfair.org
SUMMARY:Fair Board Meeting
DESCRIPTION:Fair Office
URL:https://lakecountyfair.org/event/sample-event-1/2025-04-03/
LOCATION:Lake County Fairgrounds\, 1301 Mentor Avenue\, Painesville Township\, 44077\, United States
CATEGORIES:Fair Board Meeting
END:VEVENT
BEGIN:VEVENT
DTSTART;TZID=America/New_York:20250501T193000
DTEND;TZID=America/New_York:20250501T210000
DTSTAMP:20260421T114526
CREATED:20220216T055429Z
LAST-MODIFIED:20230426T182854Z
UID:10000049-1746127800-1746133200@lakecountyfair.org
SUMMARY:Fair Board Meeting
DESCRIPTION:Fair Office
URL:https://lakecountyfair.org/event/sample-event-1/2025-05-01/
LOCATION:Lake County Fairgrounds\, 1301 Mentor Avenue\, Painesville Township\, 44077\, United States
CATEGORIES:Fair Board Meeting
END:VEVENT
BEGIN:VEVENT
DTSTART;TZID=America/New_York:20250517T090000
DTEND;TZID=America/New_York:20250517T160000
DTSTAMP:20260421T114526
CREATED:20250416T200358Z
LAST-MODIFIED:20250416T200358Z
UID:10000489-1747472400-1747497600@lakecountyfair.org
SUMMARY:Great Garage Sale
DESCRIPTION:
URL:https://lakecountyfair.org/event/great-garage-sale-5/
CATEGORIES:Other Fairgrounds Event
END:VEVENT
BEGIN:VEVENT
DTSTART;TZID=America/New_York:20250531T080000
DTEND;TZID=America/New_York:20250531T140000
DTSTAMP:20260421T114526
CREATED:20250416T200819Z
LAST-MODIFIED:20250416T200819Z
UID:10000490-1748678400-1748700000@lakecountyfair.org
SUMMARY:Hazardous Waste Special Collection
DESCRIPTION:
URL:https://lakecountyfair.org/event/hazardous-waste-special-collection/2025-05-31/
CATEGORIES:Other Fairgrounds Event
END:VEVENT
BEGIN:VEVENT
DTSTART;TZID=America/New_York:20250605T193000
DTEND;TZID=America/New_York:20250605T210000
DTSTAMP:20260421T114526
CREATED:20220216T055429Z
LAST-MODIFIED:20230426T182854Z
UID:10000050-1749151800-1749157200@lakecountyfair.org
SUMMARY:Fair Board Meeting
DESCRIPTION:Fair Office
URL:https://lakecountyfair.org/event/sample-event-1/2025-06-05/
LOCATION:Lake County Fairgrounds\, 1301 Mentor Avenue\, Painesville Township\, 44077\, United States
CATEGORIES:Fair Board Meeting
END:VEVENT
BEGIN:VEVENT
DTSTART;TZID=America/New_York:20250703T193000
DTEND;TZID=America/New_York:20250703T210000
DTSTAMP:20260421T114526
CREATED:20220216T055429Z
LAST-MODIFIED:20230426T182854Z
UID:10000051-1751571000-1751576400@lakecountyfair.org
SUMMARY:Fair Board Meeting
DESCRIPTION:Fair Office
URL:https://lakecountyfair.org/event/sample-event-1/2025-07-03/
LOCATION:Lake County Fairgrounds\, 1301 Mentor Avenue\, Painesville Township\, 44077\, United States
CATEGORIES:Fair Board Meeting
END:VEVENT
BEGIN:VEVENT
DTSTART;TZID=America/New_York:20250722T090000
DTEND;TZID=America/New_York:20250722T120000
DTSTAMP:20260421T114526
CREATED:20220427T172618Z
LAST-MODIFIED:20250521T182300Z
UID:10000219-1753174800-1753185600@lakecountyfair.org
SUMMARY:Open Class Domestic & Culinary Judging
DESCRIPTION:
URL:https://lakecountyfair.org/event/open-class-domestic-culinary-judging-2/2025-07-22/
LOCATION:Agriculture Building
CATEGORIES:Fair Week
END:VEVENT
BEGIN:VEVENT
DTSTART;TZID=America/New_York:20250722T090000
DTEND;TZID=America/New_York:20250722T120000
DTSTAMP:20260421T114526
CREATED:20220427T172829Z
LAST-MODIFIED:20250521T182347Z
UID:10000223-1753174800-1753185600@lakecountyfair.org
SUMMARY:Open Class Farm & Garden Judging
DESCRIPTION:
URL:https://lakecountyfair.org/event/open-class-farm-garden-judging/2025-07-22/
LOCATION:Agriculture Building
CATEGORIES:Fair Week
END:VEVENT
BEGIN:VEVENT
DTSTART;TZID=America/New_York:20250722T090000
DTEND;TZID=America/New_York:20250722T120000
DTSTAMP:20260421T114526
CREATED:20220427T172923Z
LAST-MODIFIED:20250521T182446Z
UID:10000227-1753174800-1753185600@lakecountyfair.org
SUMMARY:Open Class First Flower Show Judging
DESCRIPTION:
URL:https://lakecountyfair.org/event/open-class-first-flower-show-judging/2025-07-22/
LOCATION:School Building
CATEGORIES:Fair Week
END:VEVENT
BEGIN:VEVENT
DTSTART;TZID=America/New_York:20250722T090000
DTEND;TZID=America/New_York:20250722T120000
DTSTAMP:20260421T114526
CREATED:20220427T173237Z
LAST-MODIFIED:20250521T182533Z
UID:10000231-1753174800-1753185600@lakecountyfair.org
SUMMARY:Open Class Horticulture & Fruit Judging
DESCRIPTION:
URL:https://lakecountyfair.org/event/open-class-horticulture-fruit-judging/2025-07-22/
LOCATION:Agriculture Building
CATEGORIES:Fair Week
END:VEVENT
END:VCALENDAR