BEGIN:VCALENDAR
VERSION:2.0
PRODID:-//Lake County Fair - Painesville, OH 44077 - ECPv6.15.20//NONSGML v1.0//EN
CALSCALE:GREGORIAN
METHOD:PUBLISH
X-ORIGINAL-URL:https://lakecountyfair.org
X-WR-CALDESC:Events for Lake County Fair - Painesville, OH 44077
REFRESH-INTERVAL;VALUE=DURATION:PT1H
X-Robots-Tag:noindex
X-PUBLISHED-TTL:PT1H
BEGIN:VTIMEZONE
TZID:America/New_York
BEGIN:DAYLIGHT
TZOFFSETFROM:-0500
TZOFFSETTO:-0400
TZNAME:EDT
DTSTART:20250309T070000
END:DAYLIGHT
BEGIN:STANDARD
TZOFFSETFROM:-0400
TZOFFSETTO:-0500
TZNAME:EST
DTSTART:20251102T060000
END:STANDARD
BEGIN:DAYLIGHT
TZOFFSETFROM:-0500
TZOFFSETTO:-0400
TZNAME:EDT
DTSTART:20260308T070000
END:DAYLIGHT
BEGIN:STANDARD
TZOFFSETFROM:-0400
TZOFFSETTO:-0500
TZNAME:EST
DTSTART:20261101T060000
END:STANDARD
BEGIN:DAYLIGHT
TZOFFSETFROM:-0500
TZOFFSETTO:-0400
TZNAME:EDT
DTSTART:20270314T070000
END:DAYLIGHT
BEGIN:STANDARD
TZOFFSETFROM:-0400
TZOFFSETTO:-0500
TZNAME:EST
DTSTART:20271107T060000
END:STANDARD
BEGIN:DAYLIGHT
TZOFFSETFROM:-0500
TZOFFSETTO:-0400
TZNAME:EDT
DTSTART:20280312T070000
END:DAYLIGHT
BEGIN:STANDARD
TZOFFSETFROM:-0400
TZOFFSETTO:-0500
TZNAME:EST
DTSTART:20281105T060000
END:STANDARD
END:VTIMEZONE
BEGIN:VEVENT
DTSTART;TZID=America/New_York:20260305T193000
DTEND;TZID=America/New_York:20260305T210000
DTSTAMP:20260420T064015
CREATED:20251216T153928Z
LAST-MODIFIED:20251217T172518Z
UID:10000582-1772739000-1772744400@lakecountyfair.org
SUMMARY:Fair Board Meeting
DESCRIPTION:Fair Office
URL:https://lakecountyfair.org/event/sample-event-1-2/2026-03-05/
LOCATION:Lake County Fairgrounds\, 1301 Mentor Avenue\, Painesville Township\, 44077\, United States
CATEGORIES:Fair Board Meeting
END:VEVENT
BEGIN:VEVENT
DTSTART;TZID=America/New_York:20260402T193000
DTEND;TZID=America/New_York:20260402T210000
DTSTAMP:20260420T064015
CREATED:20251216T153928Z
LAST-MODIFIED:20251217T172518Z
UID:10000583-1775158200-1775163600@lakecountyfair.org
SUMMARY:Fair Board Meeting
DESCRIPTION:Fair Office
URL:https://lakecountyfair.org/event/sample-event-1-2/2026-04-02/
LOCATION:Lake County Fairgrounds\, 1301 Mentor Avenue\, Painesville Township\, 44077\, United States
CATEGORIES:Fair Board Meeting
END:VEVENT
BEGIN:VEVENT
DTSTART;TZID=America/New_York:20260507T193000
DTEND;TZID=America/New_York:20260507T210000
DTSTAMP:20260420T064015
CREATED:20251216T153928Z
LAST-MODIFIED:20251217T172518Z
UID:10000584-1778182200-1778187600@lakecountyfair.org
SUMMARY:Fair Board Meeting
DESCRIPTION:Fair Office
URL:https://lakecountyfair.org/event/sample-event-1-2/2026-05-07/
LOCATION:Lake County Fairgrounds\, 1301 Mentor Avenue\, Painesville Township\, 44077\, United States
CATEGORIES:Fair Board Meeting
END:VEVENT
BEGIN:VEVENT
DTSTART;TZID=America/New_York:20260516T090000
DTEND;TZID=America/New_York:20260516T160000
DTSTAMP:20260420T064015
CREATED:20251217T171116Z
LAST-MODIFIED:20251217T171124Z
UID:10000646-1778922000-1778947200@lakecountyfair.org
SUMMARY:The Great Garage Sale
DESCRIPTION:
URL:https://lakecountyfair.org/event/the-great-garage-sale-2/
CATEGORIES:Other Fairgrounds Event
END:VEVENT
BEGIN:VEVENT
DTSTART;TZID=America/New_York:20260530T080000
DTEND;TZID=America/New_York:20260530T170000
DTSTAMP:20260420T064015
CREATED:20250910T135059Z
LAST-MODIFIED:20251216T155422Z
UID:10000645-1780128000-1780160400@lakecountyfair.org
SUMMARY:Hazardous Waste Collection
DESCRIPTION:
URL:https://lakecountyfair.org/event/hazardous-waste-collection-5/2026-05-30/
CATEGORIES:Other Fairgrounds Event
END:VEVENT
BEGIN:VEVENT
DTSTART;TZID=America/New_York:20260604T193000
DTEND;TZID=America/New_York:20260604T210000
DTSTAMP:20260420T064015
CREATED:20251216T153928Z
LAST-MODIFIED:20251217T172518Z
UID:10000585-1780601400-1780606800@lakecountyfair.org
SUMMARY:Fair Board Meeting
DESCRIPTION:Fair Office
URL:https://lakecountyfair.org/event/sample-event-1-2/2026-06-04/
LOCATION:Lake County Fairgrounds\, 1301 Mentor Avenue\, Painesville Township\, 44077\, United States
CATEGORIES:Fair Board Meeting
END:VEVENT
BEGIN:VEVENT
DTSTART;VALUE=DATE:20260606
DTEND;VALUE=DATE:20260607
DTSTAMP:20260420T064015
CREATED:20251217T171235Z
LAST-MODIFIED:20251217T171239Z
UID:10000647-1780704000-1780790399@lakecountyfair.org
SUMMARY:Breaking The Stigma Car Show
DESCRIPTION:
URL:https://lakecountyfair.org/event/breaking-the-stigma-car-show-2/
CATEGORIES:Other Fairgrounds Event
END:VEVENT
BEGIN:VEVENT
DTSTART;VALUE=DATE:20260626
DTEND;VALUE=DATE:20260629
DTSTAMP:20260420T064015
CREATED:20251216T154422Z
LAST-MODIFIED:20251216T155249Z
UID:10000643-1782432000-1782691199@lakecountyfair.org
SUMMARY:Ohio Viking Festival
DESCRIPTION:
URL:https://lakecountyfair.org/event/winter-storage-take-out-by-appointment-2/
CATEGORIES:Other Fairgrounds Event
END:VEVENT
BEGIN:VEVENT
DTSTART;TZID=America/New_York:20260702T193000
DTEND;TZID=America/New_York:20260702T210000
DTSTAMP:20260420T064015
CREATED:20251216T153928Z
LAST-MODIFIED:20251217T172518Z
UID:10000586-1783020600-1783026000@lakecountyfair.org
SUMMARY:Fair Board Meeting
DESCRIPTION:Fair Office
URL:https://lakecountyfair.org/event/sample-event-1-2/2026-07-02/
LOCATION:Lake County Fairgrounds\, 1301 Mentor Avenue\, Painesville Township\, 44077\, United States
CATEGORIES:Fair Board Meeting
END:VEVENT
BEGIN:VEVENT
DTSTART;TZID=America/New_York:20260709T193000
DTEND;TZID=America/New_York:20260709T210000
DTSTAMP:20260420T064015
CREATED:20251217T172023Z
LAST-MODIFIED:20251217T172041Z
UID:10000654-1783625400-1783630800@lakecountyfair.org
SUMMARY:Fair Board Meeting
DESCRIPTION:
URL:https://lakecountyfair.org/event/fair-board-meeting-3/2026-07-09/
CATEGORIES:Fair Board Meeting,Other Fairgrounds Event
END:VEVENT
BEGIN:VEVENT
DTSTART;TZID=America/New_York:20260712T080000
DTEND;TZID=America/New_York:20260712T110000
DTSTAMP:20260420T064015
CREATED:20251217T171405Z
LAST-MODIFIED:20251217T171421Z
UID:10000648-1783843200-1783854000@lakecountyfair.org
SUMMARY:Johnnycake Jog
DESCRIPTION:
URL:https://lakecountyfair.org/event/johnnycake-jog-2/
CATEGORIES:Other Fairgrounds Event
END:VEVENT
BEGIN:VEVENT
DTSTART;TZID=America/New_York:20260716T193000
DTEND;TZID=America/New_York:20260716T210000
DTSTAMP:20260420T064015
CREATED:20251217T172023Z
LAST-MODIFIED:20251217T172041Z
UID:10000655-1784230200-1784235600@lakecountyfair.org
SUMMARY:Fair Board Meeting
DESCRIPTION:
URL:https://lakecountyfair.org/event/fair-board-meeting-3/2026-07-16/
CATEGORIES:Fair Board Meeting,Other Fairgrounds Event
END:VEVENT
BEGIN:VEVENT
DTSTART;VALUE=DATE:20260728
DTEND;VALUE=DATE:20260803
DTSTAMP:20260420T064015
CREATED:20251217T171821Z
LAST-MODIFIED:20251217T171821Z
UID:10000652-1785196800-1785715199@lakecountyfair.org
SUMMARY:171ST LAKE COUNTY FAIR
DESCRIPTION:
URL:https://lakecountyfair.org/event/171st-lake-county-fair/
CATEGORIES:Fair Week
END:VEVENT
BEGIN:VEVENT
DTSTART;TZID=America/New_York:20260806T193000
DTEND;TZID=America/New_York:20260806T210000
DTSTAMP:20260420T064015
CREATED:20251216T153928Z
LAST-MODIFIED:20251217T172518Z
UID:10000587-1786044600-1786050000@lakecountyfair.org
SUMMARY:Fair Board Meeting
DESCRIPTION:Fair Office
URL:https://lakecountyfair.org/event/sample-event-1-2/2026-08-06/
LOCATION:Lake County Fairgrounds\, 1301 Mentor Avenue\, Painesville Township\, 44077\, United States
CATEGORIES:Fair Board Meeting
END:VEVENT
BEGIN:VEVENT
DTSTART;TZID=America/New_York:20260903T193000
DTEND;TZID=America/New_York:20260903T210000
DTSTAMP:20260420T064015
CREATED:20251216T153928Z
LAST-MODIFIED:20251217T172518Z
UID:10000588-1788463800-1788469200@lakecountyfair.org
SUMMARY:Fair Board Meeting
DESCRIPTION:Fair Office
URL:https://lakecountyfair.org/event/sample-event-1-2/2026-09-03/
LOCATION:Lake County Fairgrounds\, 1301 Mentor Avenue\, Painesville Township\, 44077\, United States
CATEGORIES:Fair Board Meeting
END:VEVENT
BEGIN:VEVENT
DTSTART;TZID=America/New_York:20260912T080000
DTEND;TZID=America/New_York:20260912T140000
DTSTAMP:20260420T064015
CREATED:20251217T171641Z
LAST-MODIFIED:20251217T171644Z
UID:10000650-1789200000-1789221600@lakecountyfair.org
SUMMARY:Hazardous Waste Collection
DESCRIPTION:
URL:https://lakecountyfair.org/event/hazardous-waste-collection-6/
CATEGORIES:Other Fairgrounds Event
END:VEVENT
BEGIN:VEVENT
DTSTART;TZID=America/New_York:20260919T090000
DTEND;TZID=America/New_York:20260919T160000
DTSTAMP:20260420T064015
CREATED:20251217T171516Z
LAST-MODIFIED:20251217T171516Z
UID:10000649-1789808400-1789833600@lakecountyfair.org
SUMMARY:The Great Garage Sale
DESCRIPTION:
URL:https://lakecountyfair.org/event/the-great-garage-sale-3/
CATEGORIES:Other Fairgrounds Event
END:VEVENT
BEGIN:VEVENT
DTSTART;VALUE=DATE:20260926
DTEND;VALUE=DATE:20260927
DTSTAMP:20260420T064015
CREATED:20251217T171715Z
LAST-MODIFIED:20251217T171715Z
UID:10000651-1790380800-1790467199@lakecountyfair.org
SUMMARY:NAMI Walk
DESCRIPTION:
URL:https://lakecountyfair.org/event/nami-walk/
CATEGORIES:Other Fairgrounds Event
END:VEVENT
BEGIN:VEVENT
DTSTART;TZID=America/New_York:20261001T150000
DTEND;TZID=America/New_York:20261001T190000
DTSTAMP:20260420T064015
CREATED:20251217T172315Z
LAST-MODIFIED:20251217T172318Z
UID:10000656-1790866800-1790881200@lakecountyfair.org
SUMMARY:Fair Board Director Elections
DESCRIPTION:Elections will be held in the Youth/Community Center on the Lake County Fairgrounds.\nMust be a current Agricultural member to vote.
URL:https://lakecountyfair.org/event/fair-board-director-elections-2/
END:VEVENT
BEGIN:VEVENT
DTSTART;TZID=America/New_York:20261001T193000
DTEND;TZID=America/New_York:20261001T210000
DTSTAMP:20260420T064015
CREATED:20251216T153928Z
LAST-MODIFIED:20251217T172518Z
UID:10000589-1790883000-1790888400@lakecountyfair.org
SUMMARY:Fair Board Meeting
DESCRIPTION:Fair Office
URL:https://lakecountyfair.org/event/sample-event-1-2/2026-10-01/
LOCATION:Lake County Fairgrounds\, 1301 Mentor Avenue\, Painesville Township\, 44077\, United States
CATEGORIES:Fair Board Meeting
END:VEVENT
BEGIN:VEVENT
DTSTART;TZID=America/New_York:20261105T193000
DTEND;TZID=America/New_York:20261105T210000
DTSTAMP:20260420T064015
CREATED:20251216T153928Z
LAST-MODIFIED:20251217T172518Z
UID:10000590-1793907000-1793912400@lakecountyfair.org
SUMMARY:Fair Board Meeting
DESCRIPTION:Fair Office
URL:https://lakecountyfair.org/event/sample-event-1-2/2026-11-05/
LOCATION:Lake County Fairgrounds\, 1301 Mentor Avenue\, Painesville Township\, 44077\, United States
CATEGORIES:Fair Board Meeting
END:VEVENT
BEGIN:VEVENT
DTSTART;TZID=America/New_York:20261203T193000
DTEND;TZID=America/New_York:20261203T210000
DTSTAMP:20260420T064015
CREATED:20251216T153928Z
LAST-MODIFIED:20251217T172518Z
UID:10000591-1796326200-1796331600@lakecountyfair.org
SUMMARY:Fair Board Meeting
DESCRIPTION:Fair Office
URL:https://lakecountyfair.org/event/sample-event-1-2/2026-12-03/
LOCATION:Lake County Fairgrounds\, 1301 Mentor Avenue\, Painesville Township\, 44077\, United States
CATEGORIES:Fair Board Meeting
END:VEVENT
BEGIN:VEVENT
DTSTART;TZID=America/New_York:20270107T193000
DTEND;TZID=America/New_York:20270107T210000
DTSTAMP:20260420T064015
CREATED:20251216T153928Z
LAST-MODIFIED:20251217T172518Z
UID:10000592-1799350200-1799355600@lakecountyfair.org
SUMMARY:Fair Board Meeting
DESCRIPTION:Fair Office
URL:https://lakecountyfair.org/event/sample-event-1-2/2027-01-07/
LOCATION:Lake County Fairgrounds\, 1301 Mentor Avenue\, Painesville Township\, 44077\, United States
CATEGORIES:Fair Board Meeting
END:VEVENT
BEGIN:VEVENT
DTSTART;TZID=America/New_York:20270204T193000
DTEND;TZID=America/New_York:20270204T210000
DTSTAMP:20260420T064015
CREATED:20251216T153928Z
LAST-MODIFIED:20251217T172518Z
UID:10000593-1801769400-1801774800@lakecountyfair.org
SUMMARY:Fair Board Meeting
DESCRIPTION:Fair Office
URL:https://lakecountyfair.org/event/sample-event-1-2/2027-02-04/
LOCATION:Lake County Fairgrounds\, 1301 Mentor Avenue\, Painesville Township\, 44077\, United States
CATEGORIES:Fair Board Meeting
END:VEVENT
BEGIN:VEVENT
DTSTART;TZID=America/New_York:20270304T193000
DTEND;TZID=America/New_York:20270304T210000
DTSTAMP:20260420T064015
CREATED:20251216T153928Z
LAST-MODIFIED:20251217T172518Z
UID:10000594-1804188600-1804194000@lakecountyfair.org
SUMMARY:Fair Board Meeting
DESCRIPTION:Fair Office
URL:https://lakecountyfair.org/event/sample-event-1-2/2027-03-04/
LOCATION:Lake County Fairgrounds\, 1301 Mentor Avenue\, Painesville Township\, 44077\, United States
CATEGORIES:Fair Board Meeting
END:VEVENT
BEGIN:VEVENT
DTSTART;TZID=America/New_York:20270401T193000
DTEND;TZID=America/New_York:20270401T210000
DTSTAMP:20260420T064015
CREATED:20251216T153928Z
LAST-MODIFIED:20251217T172518Z
UID:10000595-1806607800-1806613200@lakecountyfair.org
SUMMARY:Fair Board Meeting
DESCRIPTION:Fair Office
URL:https://lakecountyfair.org/event/sample-event-1-2/2027-04-01/
LOCATION:Lake County Fairgrounds\, 1301 Mentor Avenue\, Painesville Township\, 44077\, United States
CATEGORIES:Fair Board Meeting
END:VEVENT
BEGIN:VEVENT
DTSTART;TZID=America/New_York:20270506T193000
DTEND;TZID=America/New_York:20270506T210000
DTSTAMP:20260420T064015
CREATED:20251216T153928Z
LAST-MODIFIED:20251217T172518Z
UID:10000596-1809631800-1809637200@lakecountyfair.org
SUMMARY:Fair Board Meeting
DESCRIPTION:Fair Office
URL:https://lakecountyfair.org/event/sample-event-1-2/2027-05-06/
LOCATION:Lake County Fairgrounds\, 1301 Mentor Avenue\, Painesville Township\, 44077\, United States
CATEGORIES:Fair Board Meeting
END:VEVENT
BEGIN:VEVENT
DTSTART;TZID=America/New_York:20270603T193000
DTEND;TZID=America/New_York:20270603T210000
DTSTAMP:20260420T064015
CREATED:20251216T153928Z
LAST-MODIFIED:20251217T172518Z
UID:10000597-1812051000-1812056400@lakecountyfair.org
SUMMARY:Fair Board Meeting
DESCRIPTION:Fair Office
URL:https://lakecountyfair.org/event/sample-event-1-2/2027-06-03/
LOCATION:Lake County Fairgrounds\, 1301 Mentor Avenue\, Painesville Township\, 44077\, United States
CATEGORIES:Fair Board Meeting
END:VEVENT
BEGIN:VEVENT
DTSTART;TZID=America/New_York:20270701T193000
DTEND;TZID=America/New_York:20270701T210000
DTSTAMP:20260420T064015
CREATED:20251216T153928Z
LAST-MODIFIED:20251217T172518Z
UID:10000598-1814470200-1814475600@lakecountyfair.org
SUMMARY:Fair Board Meeting
DESCRIPTION:Fair Office
URL:https://lakecountyfair.org/event/sample-event-1-2/2027-07-01/
LOCATION:Lake County Fairgrounds\, 1301 Mentor Avenue\, Painesville Township\, 44077\, United States
CATEGORIES:Fair Board Meeting
END:VEVENT
BEGIN:VEVENT
DTSTART;TZID=America/New_York:20270805T193000
DTEND;TZID=America/New_York:20270805T210000
DTSTAMP:20260420T064015
CREATED:20251216T153928Z
LAST-MODIFIED:20251217T172518Z
UID:10000599-1817494200-1817499600@lakecountyfair.org
SUMMARY:Fair Board Meeting
DESCRIPTION:Fair Office
URL:https://lakecountyfair.org/event/sample-event-1-2/2027-08-05/
LOCATION:Lake County Fairgrounds\, 1301 Mentor Avenue\, Painesville Township\, 44077\, United States
CATEGORIES:Fair Board Meeting
END:VEVENT
END:VCALENDAR