BEGIN:VCALENDAR
VERSION:2.0
PRODID:-//Lake County Fair - Painesville, OH 44077 - ECPv6.15.20//NONSGML v1.0//EN
CALSCALE:GREGORIAN
METHOD:PUBLISH
X-WR-CALNAME:Lake County Fair - Painesville, OH 44077
X-ORIGINAL-URL:https://lakecountyfair.org
X-WR-CALDESC:Events for Lake County Fair - Painesville, OH 44077
REFRESH-INTERVAL;VALUE=DURATION:PT1H
X-Robots-Tag:noindex
X-PUBLISHED-TTL:PT1H
BEGIN:VTIMEZONE
TZID:America/New_York
BEGIN:DAYLIGHT
TZOFFSETFROM:-0500
TZOFFSETTO:-0400
TZNAME:EDT
DTSTART:20280312T070000
END:DAYLIGHT
BEGIN:STANDARD
TZOFFSETFROM:-0400
TZOFFSETTO:-0500
TZNAME:EST
DTSTART:20281105T060000
END:STANDARD
BEGIN:DAYLIGHT
TZOFFSETFROM:-0500
TZOFFSETTO:-0400
TZNAME:EDT
DTSTART:20290311T070000
END:DAYLIGHT
BEGIN:STANDARD
TZOFFSETFROM:-0400
TZOFFSETTO:-0500
TZNAME:EST
DTSTART:20291104T060000
END:STANDARD
BEGIN:DAYLIGHT
TZOFFSETFROM:-0500
TZOFFSETTO:-0400
TZNAME:EDT
DTSTART:20300310T070000
END:DAYLIGHT
BEGIN:STANDARD
TZOFFSETFROM:-0400
TZOFFSETTO:-0500
TZNAME:EST
DTSTART:20301103T060000
END:STANDARD
BEGIN:DAYLIGHT
TZOFFSETFROM:-0500
TZOFFSETTO:-0400
TZNAME:EDT
DTSTART:20310309T070000
END:DAYLIGHT
BEGIN:STANDARD
TZOFFSETFROM:-0400
TZOFFSETTO:-0500
TZNAME:EST
DTSTART:20311102T060000
END:STANDARD
END:VTIMEZONE
BEGIN:VEVENT
DTSTART;TZID=America/New_York:20290301T193000
DTEND;TZID=America/New_York:20290301T210000
DTSTAMP:20260420T151218
CREATED:20251216T153928Z
LAST-MODIFIED:20251217T172518Z
UID:10000618-1867087800-1867093200@lakecountyfair.org
SUMMARY:Fair Board Meeting
DESCRIPTION:Fair Office
URL:https://lakecountyfair.org/event/sample-event-1-2/2029-03-01/
LOCATION:Lake County Fairgrounds\, 1301 Mentor Avenue\, Painesville Township\, 44077\, United States
CATEGORIES:Fair Board Meeting
END:VEVENT
BEGIN:VEVENT
DTSTART;TZID=America/New_York:20290405T193000
DTEND;TZID=America/New_York:20290405T210000
DTSTAMP:20260420T151218
CREATED:20251216T153928Z
LAST-MODIFIED:20251217T172518Z
UID:10000619-1870111800-1870117200@lakecountyfair.org
SUMMARY:Fair Board Meeting
DESCRIPTION:Fair Office
URL:https://lakecountyfair.org/event/sample-event-1-2/2029-04-05/
LOCATION:Lake County Fairgrounds\, 1301 Mentor Avenue\, Painesville Township\, 44077\, United States
CATEGORIES:Fair Board Meeting
END:VEVENT
BEGIN:VEVENT
DTSTART;TZID=America/New_York:20290503T193000
DTEND;TZID=America/New_York:20290503T210000
DTSTAMP:20260420T151218
CREATED:20251216T153928Z
LAST-MODIFIED:20251217T172518Z
UID:10000620-1872531000-1872536400@lakecountyfair.org
SUMMARY:Fair Board Meeting
DESCRIPTION:Fair Office
URL:https://lakecountyfair.org/event/sample-event-1-2/2029-05-03/
LOCATION:Lake County Fairgrounds\, 1301 Mentor Avenue\, Painesville Township\, 44077\, United States
CATEGORIES:Fair Board Meeting
END:VEVENT
BEGIN:VEVENT
DTSTART;TZID=America/New_York:20290607T193000
DTEND;TZID=America/New_York:20290607T210000
DTSTAMP:20260420T151218
CREATED:20251216T153928Z
LAST-MODIFIED:20251217T172518Z
UID:10000621-1875555000-1875560400@lakecountyfair.org
SUMMARY:Fair Board Meeting
DESCRIPTION:Fair Office
URL:https://lakecountyfair.org/event/sample-event-1-2/2029-06-07/
LOCATION:Lake County Fairgrounds\, 1301 Mentor Avenue\, Painesville Township\, 44077\, United States
CATEGORIES:Fair Board Meeting
END:VEVENT
BEGIN:VEVENT
DTSTART;TZID=America/New_York:20290705T193000
DTEND;TZID=America/New_York:20290705T210000
DTSTAMP:20260420T151218
CREATED:20251216T153928Z
LAST-MODIFIED:20251217T172518Z
UID:10000622-1877974200-1877979600@lakecountyfair.org
SUMMARY:Fair Board Meeting
DESCRIPTION:Fair Office
URL:https://lakecountyfair.org/event/sample-event-1-2/2029-07-05/
LOCATION:Lake County Fairgrounds\, 1301 Mentor Avenue\, Painesville Township\, 44077\, United States
CATEGORIES:Fair Board Meeting
END:VEVENT
BEGIN:VEVENT
DTSTART;TZID=America/New_York:20290802T193000
DTEND;TZID=America/New_York:20290802T210000
DTSTAMP:20260420T151218
CREATED:20251216T153928Z
LAST-MODIFIED:20251217T172518Z
UID:10000623-1880393400-1880398800@lakecountyfair.org
SUMMARY:Fair Board Meeting
DESCRIPTION:Fair Office
URL:https://lakecountyfair.org/event/sample-event-1-2/2029-08-02/
LOCATION:Lake County Fairgrounds\, 1301 Mentor Avenue\, Painesville Township\, 44077\, United States
CATEGORIES:Fair Board Meeting
END:VEVENT
BEGIN:VEVENT
DTSTART;TZID=America/New_York:20290906T193000
DTEND;TZID=America/New_York:20290906T210000
DTSTAMP:20260420T151218
CREATED:20251216T153928Z
LAST-MODIFIED:20251217T172518Z
UID:10000624-1883417400-1883422800@lakecountyfair.org
SUMMARY:Fair Board Meeting
DESCRIPTION:Fair Office
URL:https://lakecountyfair.org/event/sample-event-1-2/2029-09-06/
LOCATION:Lake County Fairgrounds\, 1301 Mentor Avenue\, Painesville Township\, 44077\, United States
CATEGORIES:Fair Board Meeting
END:VEVENT
BEGIN:VEVENT
DTSTART;TZID=America/New_York:20291004T193000
DTEND;TZID=America/New_York:20291004T210000
DTSTAMP:20260420T151218
CREATED:20251216T153928Z
LAST-MODIFIED:20251217T172518Z
UID:10000625-1885836600-1885842000@lakecountyfair.org
SUMMARY:Fair Board Meeting
DESCRIPTION:Fair Office
URL:https://lakecountyfair.org/event/sample-event-1-2/2029-10-04/
LOCATION:Lake County Fairgrounds\, 1301 Mentor Avenue\, Painesville Township\, 44077\, United States
CATEGORIES:Fair Board Meeting
END:VEVENT
BEGIN:VEVENT
DTSTART;TZID=America/New_York:20291101T193000
DTEND;TZID=America/New_York:20291101T210000
DTSTAMP:20260420T151218
CREATED:20251216T153928Z
LAST-MODIFIED:20251217T172518Z
UID:10000626-1888255800-1888261200@lakecountyfair.org
SUMMARY:Fair Board Meeting
DESCRIPTION:Fair Office
URL:https://lakecountyfair.org/event/sample-event-1-2/2029-11-01/
LOCATION:Lake County Fairgrounds\, 1301 Mentor Avenue\, Painesville Township\, 44077\, United States
CATEGORIES:Fair Board Meeting
END:VEVENT
BEGIN:VEVENT
DTSTART;TZID=America/New_York:20291206T193000
DTEND;TZID=America/New_York:20291206T210000
DTSTAMP:20260420T151218
CREATED:20251216T153928Z
LAST-MODIFIED:20251217T172518Z
UID:10000627-1891279800-1891285200@lakecountyfair.org
SUMMARY:Fair Board Meeting
DESCRIPTION:Fair Office
URL:https://lakecountyfair.org/event/sample-event-1-2/2029-12-06/
LOCATION:Lake County Fairgrounds\, 1301 Mentor Avenue\, Painesville Township\, 44077\, United States
CATEGORIES:Fair Board Meeting
END:VEVENT
BEGIN:VEVENT
DTSTART;TZID=America/New_York:20300103T193000
DTEND;TZID=America/New_York:20300103T210000
DTSTAMP:20260420T151218
CREATED:20251216T153928Z
LAST-MODIFIED:20251217T172518Z
UID:10000628-1893699000-1893704400@lakecountyfair.org
SUMMARY:Fair Board Meeting
DESCRIPTION:Fair Office
URL:https://lakecountyfair.org/event/sample-event-1-2/2030-01-03/
LOCATION:Lake County Fairgrounds\, 1301 Mentor Avenue\, Painesville Township\, 44077\, United States
CATEGORIES:Fair Board Meeting
END:VEVENT
BEGIN:VEVENT
DTSTART;TZID=America/New_York:20300207T193000
DTEND;TZID=America/New_York:20300207T210000
DTSTAMP:20260420T151218
CREATED:20251216T153928Z
LAST-MODIFIED:20251217T172518Z
UID:10000629-1896723000-1896728400@lakecountyfair.org
SUMMARY:Fair Board Meeting
DESCRIPTION:Fair Office
URL:https://lakecountyfair.org/event/sample-event-1-2/2030-02-07/
LOCATION:Lake County Fairgrounds\, 1301 Mentor Avenue\, Painesville Township\, 44077\, United States
CATEGORIES:Fair Board Meeting
END:VEVENT
BEGIN:VEVENT
DTSTART;TZID=America/New_York:20300307T193000
DTEND;TZID=America/New_York:20300307T210000
DTSTAMP:20260420T151218
CREATED:20251216T153928Z
LAST-MODIFIED:20251217T172518Z
UID:10000630-1899142200-1899147600@lakecountyfair.org
SUMMARY:Fair Board Meeting
DESCRIPTION:Fair Office
URL:https://lakecountyfair.org/event/sample-event-1-2/2030-03-07/
LOCATION:Lake County Fairgrounds\, 1301 Mentor Avenue\, Painesville Township\, 44077\, United States
CATEGORIES:Fair Board Meeting
END:VEVENT
BEGIN:VEVENT
DTSTART;TZID=America/New_York:20300404T193000
DTEND;TZID=America/New_York:20300404T210000
DTSTAMP:20260420T151218
CREATED:20251216T153928Z
LAST-MODIFIED:20251217T172518Z
UID:10000631-1901561400-1901566800@lakecountyfair.org
SUMMARY:Fair Board Meeting
DESCRIPTION:Fair Office
URL:https://lakecountyfair.org/event/sample-event-1-2/2030-04-04/
LOCATION:Lake County Fairgrounds\, 1301 Mentor Avenue\, Painesville Township\, 44077\, United States
CATEGORIES:Fair Board Meeting
END:VEVENT
BEGIN:VEVENT
DTSTART;TZID=America/New_York:20300502T193000
DTEND;TZID=America/New_York:20300502T210000
DTSTAMP:20260420T151218
CREATED:20251216T153928Z
LAST-MODIFIED:20251217T172518Z
UID:10000632-1903980600-1903986000@lakecountyfair.org
SUMMARY:Fair Board Meeting
DESCRIPTION:Fair Office
URL:https://lakecountyfair.org/event/sample-event-1-2/2030-05-02/
LOCATION:Lake County Fairgrounds\, 1301 Mentor Avenue\, Painesville Township\, 44077\, United States
CATEGORIES:Fair Board Meeting
END:VEVENT
BEGIN:VEVENT
DTSTART;TZID=America/New_York:20300606T193000
DTEND;TZID=America/New_York:20300606T210000
DTSTAMP:20260420T151218
CREATED:20251216T153928Z
LAST-MODIFIED:20251217T172518Z
UID:10000633-1907004600-1907010000@lakecountyfair.org
SUMMARY:Fair Board Meeting
DESCRIPTION:Fair Office
URL:https://lakecountyfair.org/event/sample-event-1-2/2030-06-06/
LOCATION:Lake County Fairgrounds\, 1301 Mentor Avenue\, Painesville Township\, 44077\, United States
CATEGORIES:Fair Board Meeting
END:VEVENT
BEGIN:VEVENT
DTSTART;TZID=America/New_York:20300704T193000
DTEND;TZID=America/New_York:20300704T210000
DTSTAMP:20260420T151218
CREATED:20251216T153928Z
LAST-MODIFIED:20251217T172518Z
UID:10000634-1909423800-1909429200@lakecountyfair.org
SUMMARY:Fair Board Meeting
DESCRIPTION:Fair Office
URL:https://lakecountyfair.org/event/sample-event-1-2/2030-07-04/
LOCATION:Lake County Fairgrounds\, 1301 Mentor Avenue\, Painesville Township\, 44077\, United States
CATEGORIES:Fair Board Meeting
END:VEVENT
BEGIN:VEVENT
DTSTART;TZID=America/New_York:20300801T193000
DTEND;TZID=America/New_York:20300801T210000
DTSTAMP:20260420T151218
CREATED:20251216T153928Z
LAST-MODIFIED:20251217T172518Z
UID:10000635-1911843000-1911848400@lakecountyfair.org
SUMMARY:Fair Board Meeting
DESCRIPTION:Fair Office
URL:https://lakecountyfair.org/event/sample-event-1-2/2030-08-01/
LOCATION:Lake County Fairgrounds\, 1301 Mentor Avenue\, Painesville Township\, 44077\, United States
CATEGORIES:Fair Board Meeting
END:VEVENT
BEGIN:VEVENT
DTSTART;TZID=America/New_York:20300905T193000
DTEND;TZID=America/New_York:20300905T210000
DTSTAMP:20260420T151218
CREATED:20251216T153928Z
LAST-MODIFIED:20251217T172518Z
UID:10000636-1914867000-1914872400@lakecountyfair.org
SUMMARY:Fair Board Meeting
DESCRIPTION:Fair Office
URL:https://lakecountyfair.org/event/sample-event-1-2/2030-09-05/
LOCATION:Lake County Fairgrounds\, 1301 Mentor Avenue\, Painesville Township\, 44077\, United States
CATEGORIES:Fair Board Meeting
END:VEVENT
BEGIN:VEVENT
DTSTART;TZID=America/New_York:20301003T193000
DTEND;TZID=America/New_York:20301003T210000
DTSTAMP:20260420T151218
CREATED:20251216T153928Z
LAST-MODIFIED:20251217T172518Z
UID:10000637-1917286200-1917291600@lakecountyfair.org
SUMMARY:Fair Board Meeting
DESCRIPTION:Fair Office
URL:https://lakecountyfair.org/event/sample-event-1-2/2030-10-03/
LOCATION:Lake County Fairgrounds\, 1301 Mentor Avenue\, Painesville Township\, 44077\, United States
CATEGORIES:Fair Board Meeting
END:VEVENT
BEGIN:VEVENT
DTSTART;TZID=America/New_York:20301107T193000
DTEND;TZID=America/New_York:20301107T210000
DTSTAMP:20260420T151218
CREATED:20251216T153928Z
LAST-MODIFIED:20251217T172518Z
UID:10000638-1920310200-1920315600@lakecountyfair.org
SUMMARY:Fair Board Meeting
DESCRIPTION:Fair Office
URL:https://lakecountyfair.org/event/sample-event-1-2/2030-11-07/
LOCATION:Lake County Fairgrounds\, 1301 Mentor Avenue\, Painesville Township\, 44077\, United States
CATEGORIES:Fair Board Meeting
END:VEVENT
BEGIN:VEVENT
DTSTART;TZID=America/New_York:20301205T193000
DTEND;TZID=America/New_York:20301205T210000
DTSTAMP:20260420T151218
CREATED:20251216T153928Z
LAST-MODIFIED:20251217T172518Z
UID:10000639-1922729400-1922734800@lakecountyfair.org
SUMMARY:Fair Board Meeting
DESCRIPTION:Fair Office
URL:https://lakecountyfair.org/event/sample-event-1-2/2030-12-05/
LOCATION:Lake County Fairgrounds\, 1301 Mentor Avenue\, Painesville Township\, 44077\, United States
CATEGORIES:Fair Board Meeting
END:VEVENT
END:VCALENDAR