BEGIN:VCALENDAR
VERSION:2.0
PRODID:-//Lake County Fair - Painesville, OH 44077 - ECPv6.15.20//NONSGML v1.0//EN
CALSCALE:GREGORIAN
METHOD:PUBLISH
X-WR-CALNAME:Lake County Fair - Painesville, OH 44077
X-ORIGINAL-URL:https://lakecountyfair.org
X-WR-CALDESC:Events for Lake County Fair - Painesville, OH 44077
REFRESH-INTERVAL;VALUE=DURATION:PT1H
X-Robots-Tag:noindex
X-PUBLISHED-TTL:PT1H
BEGIN:VTIMEZONE
TZID:America/New_York
BEGIN:DAYLIGHT
TZOFFSETFROM:-0500
TZOFFSETTO:-0400
TZNAME:EDT
DTSTART:20210314T070000
END:DAYLIGHT
BEGIN:STANDARD
TZOFFSETFROM:-0400
TZOFFSETTO:-0500
TZNAME:EST
DTSTART:20211107T060000
END:STANDARD
BEGIN:DAYLIGHT
TZOFFSETFROM:-0500
TZOFFSETTO:-0400
TZNAME:EDT
DTSTART:20220313T070000
END:DAYLIGHT
BEGIN:STANDARD
TZOFFSETFROM:-0400
TZOFFSETTO:-0500
TZNAME:EST
DTSTART:20221106T060000
END:STANDARD
BEGIN:DAYLIGHT
TZOFFSETFROM:-0500
TZOFFSETTO:-0400
TZNAME:EDT
DTSTART:20230312T070000
END:DAYLIGHT
BEGIN:STANDARD
TZOFFSETFROM:-0400
TZOFFSETTO:-0500
TZNAME:EST
DTSTART:20231105T060000
END:STANDARD
END:VTIMEZONE
BEGIN:VEVENT
DTSTART;TZID=America/New_York:20220726T130000
DTEND;TZID=America/New_York:20220726T150000
DTSTAMP:20260421T221254
CREATED:20220427T173542Z
LAST-MODIFIED:20250521T183247Z
UID:10000234-1658840400-1658847600@lakecountyfair.org
SUMMARY:Homemade Beer Judging
DESCRIPTION:
URL:https://lakecountyfair.org/event/homemade-beer-judging/2022-07-26/
LOCATION:Agriculture Building
CATEGORIES:Fair Week
END:VEVENT
BEGIN:VEVENT
DTSTART;TZID=America/New_York:20220726T130000
DTEND;TZID=America/New_York:20220726T133000
DTSTAMP:20260421T221254
CREATED:20220302T181114Z
LAST-MODIFIED:20250521T183608Z
UID:10000093-1658840400-1658842200@lakecountyfair.org
SUMMARY:Jungle Terry Show
DESCRIPTION:Sponsored by Richard Greaves\, CPA – West End of Main Midway
URL:https://lakecountyfair.org/event/open-class-domestic-culinary-judging/2022-07-26/
LOCATION:Main Midway
CATEGORIES:Animal Events,Fair Week,Grounds Entertainment
END:VEVENT
BEGIN:VEVENT
DTSTART;TZID=America/New_York:20220726T120000
DTEND;TZID=America/New_York:20220726T160000
DTSTAMP:20260421T221254
CREATED:20220427T173403Z
LAST-MODIFIED:20250521T183211Z
UID:10000232-1658836800-1658851200@lakecountyfair.org
SUMMARY:Harness Racing
DESCRIPTION:Grandstands – Free
URL:https://lakecountyfair.org/event/harness-racing/2022-07-26/
LOCATION:Grandstand
CATEGORIES:Fair Week,Grandstand Entertainment
END:VEVENT
BEGIN:VEVENT
DTSTART;TZID=America/New_York:20220726T100000
DTEND;TZID=America/New_York:20220726T140000
DTSTAMP:20260421T221254
CREATED:20220428T182023Z
LAST-MODIFIED:20250521T183103Z
UID:10000330-1658829600-1658844000@lakecountyfair.org
SUMMARY:4-H Saddle Horse Advanced/Novice English Show
DESCRIPTION:
URL:https://lakecountyfair.org/event/4-h-saddle-horse-advanced-novice-intermediate-english-show/2022-07-26/
LOCATION:Plaisted Ring
CATEGORIES:4-H,Animal Events,Fair Week
END:VEVENT
BEGIN:VEVENT
DTSTART;TZID=America/New_York:20220726T100000
DTEND;TZID=America/New_York:20220726T140000
DTSTAMP:20260421T221254
CREATED:20220302T180907Z
LAST-MODIFIED:20250521T182637Z
UID:10000089-1658829600-1658844000@lakecountyfair.org
SUMMARY:4-H Poultry Judging & Showmanship followed by Open Class Poultry
DESCRIPTION:
URL:https://lakecountyfair.org/event/veterans-day/2022-07-26/
LOCATION:Rabbit & Poultry Barn
CATEGORIES:4-H,Animal Events,Fair Week
END:VEVENT
BEGIN:VEVENT
DTSTART;TZID=America/New_York:20220726T100000
DTEND;TZID=America/New_York:20220726T130000
DTSTAMP:20260421T221254
CREATED:20220428T182159Z
LAST-MODIFIED:20250521T182953Z
UID:10000334-1658829600-1658840400@lakecountyfair.org
SUMMARY:4-H Saddle Horse Walk/Trot English Show B
DESCRIPTION:B group\, 2nd year walk/trot and up – Dunsailin Ring
URL:https://lakecountyfair.org/event/4-h-saddle-horse-walk-trot-english-show/2022-07-26/
LOCATION:Dunsailin Ring
CATEGORIES:4-H,Animal Events,Fair Week
END:VEVENT
BEGIN:VEVENT
DTSTART;TZID=America/New_York:20220726T100000
DTEND;TZID=America/New_York:20220726T110000
DTSTAMP:20260421T221254
CREATED:20220427T171819Z
LAST-MODIFIED:20250521T182715Z
UID:10000204-1658829600-1658833200@lakecountyfair.org
SUMMARY:4-H Booth Judging
DESCRIPTION:
URL:https://lakecountyfair.org/event/4-h-booth-judging/2022-07-26/
LOCATION:4-H Youth Building
CATEGORIES:4-H,Fair Week
END:VEVENT
BEGIN:VEVENT
DTSTART;TZID=America/New_York:20220726T090000
DTEND;TZID=America/New_York:20220726T120000
DTSTAMP:20260421T221254
CREATED:20220427T173237Z
LAST-MODIFIED:20250521T182533Z
UID:10000228-1658826000-1658836800@lakecountyfair.org
SUMMARY:Open Class Horticulture & Fruit Judging
DESCRIPTION:
URL:https://lakecountyfair.org/event/open-class-horticulture-fruit-judging/2022-07-26/
LOCATION:Agriculture Building
CATEGORIES:Fair Week
END:VEVENT
BEGIN:VEVENT
DTSTART;TZID=America/New_York:20220726T090000
DTEND;TZID=America/New_York:20220726T120000
DTSTAMP:20260421T221254
CREATED:20220427T172923Z
LAST-MODIFIED:20250521T182446Z
UID:10000224-1658826000-1658836800@lakecountyfair.org
SUMMARY:Open Class First Flower Show Judging
DESCRIPTION:
URL:https://lakecountyfair.org/event/open-class-first-flower-show-judging/2022-07-26/
LOCATION:School Building
CATEGORIES:Fair Week
END:VEVENT
BEGIN:VEVENT
DTSTART;TZID=America/New_York:20220726T090000
DTEND;TZID=America/New_York:20220726T120000
DTSTAMP:20260421T221254
CREATED:20220427T172829Z
LAST-MODIFIED:20250521T182347Z
UID:10000220-1658826000-1658836800@lakecountyfair.org
SUMMARY:Open Class Farm & Garden Judging
DESCRIPTION:
URL:https://lakecountyfair.org/event/open-class-farm-garden-judging/2022-07-26/
LOCATION:Agriculture Building
CATEGORIES:Fair Week
END:VEVENT
BEGIN:VEVENT
DTSTART;TZID=America/New_York:20220726T090000
DTEND;TZID=America/New_York:20220726T120000
DTSTAMP:20260421T221254
CREATED:20220427T172618Z
LAST-MODIFIED:20250521T182300Z
UID:10000216-1658826000-1658836800@lakecountyfair.org
SUMMARY:Open Class Domestic & Culinary Judging
DESCRIPTION:
URL:https://lakecountyfair.org/event/open-class-domestic-culinary-judging-2/2022-07-26/
LOCATION:Agriculture Building
CATEGORIES:Fair Week
END:VEVENT
BEGIN:VEVENT
DTSTART;VALUE=DATE:20220726
DTEND;VALUE=DATE:20220727
DTSTAMP:20260421T221254
CREATED:20220427T175047Z
LAST-MODIFIED:20240516T190147Z
UID:10000269-1658793600-1658879999@lakecountyfair.org
SUMMARY:Free Admission for all until 3 pm
DESCRIPTION:Opening Day – Rides open at 3 pm today
URL:https://lakecountyfair.org/event/free-admission-for-all-until-3-pm/2022-07-26/
LOCATION:Lake County Fairgrounds\, 1301 Mentor Avenue\, Painesville Township\, 44077\, United States
CATEGORIES:Fair Week
END:VEVENT
BEGIN:VEVENT
DTSTART;VALUE=DATE:20220726
DTEND;VALUE=DATE:20220727
DTSTAMP:20260421T221254
CREATED:20220302T181640Z
LAST-MODIFIED:20240516T190100Z
UID:10000113-1658793600-1658879999@lakecountyfair.org
SUMMARY:Veterans Day
DESCRIPTION:Free admission for Veterans all day. \n 
URL:https://lakecountyfair.org/event/veterans-day-2/2022-07-26/
LOCATION:Lake County Fairgrounds\, 1301 Mentor Avenue\, Painesville Township\, 44077\, United States
CATEGORIES:Fair Week
END:VEVENT
BEGIN:VEVENT
DTSTART;TZID=America/New_York:20220721T193000
DTEND;TZID=America/New_York:20220721T210000
DTSTAMP:20260421T221254
CREATED:20220317T204054Z
LAST-MODIFIED:20220317T204054Z
UID:10000117-1658431800-1658437200@lakecountyfair.org
SUMMARY:Fair Board Meeting
DESCRIPTION:
URL:https://lakecountyfair.org/event/fair-board-meeting-2/
CATEGORIES:Fair Board Meeting
END:VEVENT
BEGIN:VEVENT
DTSTART;TZID=America/New_York:20220714T193000
DTEND;TZID=America/New_York:20220714T210000
DTSTAMP:20260421T221254
CREATED:20220317T203708Z
LAST-MODIFIED:20220317T203945Z
UID:10000116-1657827000-1657832400@lakecountyfair.org
SUMMARY:Fair Board Meeting
DESCRIPTION:
URL:https://lakecountyfair.org/event/fair-board-meeting/
CATEGORIES:Fair Board Meeting
END:VEVENT
BEGIN:VEVENT
DTSTART;TZID=America/New_York:20220707T193000
DTEND;TZID=America/New_York:20220707T210000
DTSTAMP:20260421T221254
CREATED:20220216T055429Z
LAST-MODIFIED:20220317T203443Z
UID:10000081-1657222200-1657227600@lakecountyfair.org
SUMMARY:Fair Board Meeting
DESCRIPTION:Fair Office
URL:https://lakecountyfair.org/event/sample-event-1-2022-07-07/
LOCATION:Lake County Fairgrounds\, 1301 Mentor Avenue\, Painesville Township\, 44077\, United States
CATEGORIES:Fair Board Meeting
END:VEVENT
BEGIN:VEVENT
DTSTART;TZID=America/New_York:20220611T080000
DTEND;TZID=America/New_York:20220611T140000
DTSTAMP:20260421T221254
CREATED:20220421T201259Z
LAST-MODIFIED:20221116T155207Z
UID:10000152-1654934400-1654956000@lakecountyfair.org
SUMMARY:Hazardous Waste Collection
DESCRIPTION:
URL:https://lakecountyfair.org/event/hazardous-waste-collection/
LOCATION:Lake County Fairgrounds\, 1301 Mentor Avenue\, Painesville Township\, 44077\, United States
CATEGORIES:Other Fairgrounds Event
END:VEVENT
BEGIN:VEVENT
DTSTART;TZID=America/New_York:20220602T193000
DTEND;TZID=America/New_York:20220602T210000
DTSTAMP:20260421T221254
CREATED:20220216T055429Z
LAST-MODIFIED:20230426T182854Z
UID:10000017-1654198200-1654203600@lakecountyfair.org
SUMMARY:Fair Board Meeting
DESCRIPTION:Fair Office
URL:https://lakecountyfair.org/event/sample-event-1/2022-06-02/
LOCATION:Lake County Fairgrounds\, 1301 Mentor Avenue\, Painesville Township\, 44077\, United States
CATEGORIES:Fair Board Meeting
END:VEVENT
BEGIN:VEVENT
DTSTART;TZID=America/New_York:20220514T090000
DTEND;TZID=America/New_York:20220514T160000
DTSTAMP:20260421T221254
CREATED:20220302T180535Z
LAST-MODIFIED:20220302T180535Z
UID:10000088-1652518800-1652544000@lakecountyfair.org
SUMMARY:The Great Garage Sale
DESCRIPTION:Sponsored by the Lake County Fairgrounds and the News Herald\, RAIN OR SHINE
URL:https://lakecountyfair.org/event/the-great-garage-sale/
LOCATION:Lake County Fairgrounds\, 1301 Mentor Avenue\, Painesville Township\, 44077\, United States
CATEGORIES:Other Fairgrounds Event
END:VEVENT
BEGIN:VEVENT
DTSTART;TZID=America/New_York:20220505T193000
DTEND;TZID=America/New_York:20220505T210000
DTSTAMP:20260421T221254
CREATED:20220216T055429Z
LAST-MODIFIED:20230426T182854Z
UID:10000016-1651779000-1651784400@lakecountyfair.org
SUMMARY:Fair Board Meeting
DESCRIPTION:Fair Office
URL:https://lakecountyfair.org/event/sample-event-1/2022-05-05/
LOCATION:Lake County Fairgrounds\, 1301 Mentor Avenue\, Painesville Township\, 44077\, United States
CATEGORIES:Fair Board Meeting
END:VEVENT
BEGIN:VEVENT
DTSTART;VALUE=DATE:20220416
DTEND;VALUE=DATE:20220417
DTSTAMP:20260421T221254
CREATED:20220302T180424Z
LAST-MODIFIED:20220302T180424Z
UID:10000087-1650067200-1650153599@lakecountyfair.org
SUMMARY:Winter Storage Take-out (By Appointment)
DESCRIPTION:
URL:https://lakecountyfair.org/event/winter-storage-take-out-by-appointment/
LOCATION:Lake County Fairgrounds\, 1301 Mentor Avenue\, Painesville Township\, 44077\, United States
CATEGORIES:Other Fairgrounds Event
END:VEVENT
BEGIN:VEVENT
DTSTART;TZID=America/New_York:20220407T193000
DTEND;TZID=America/New_York:20220407T210000
DTSTAMP:20260421T221254
CREATED:20220216T055429Z
LAST-MODIFIED:20230426T182854Z
UID:10000015-1649359800-1649365200@lakecountyfair.org
SUMMARY:Fair Board Meeting
DESCRIPTION:Fair Office
URL:https://lakecountyfair.org/event/sample-event-1/2022-04-07/
LOCATION:Lake County Fairgrounds\, 1301 Mentor Avenue\, Painesville Township\, 44077\, United States
CATEGORIES:Fair Board Meeting
END:VEVENT
END:VCALENDAR